BEGIN:VCALENDAR
VERSION:2.0
PRODID:-//NUS CSI - ECPv6.11.0.1//NONSGML v1.0//EN
CALSCALE:GREGORIAN
METHOD:PUBLISH
X-ORIGINAL-URL:https://csi.nus.edu.sg
X-WR-CALDESC:Events for NUS CSI
REFRESH-INTERVAL;VALUE=DURATION:PT1H
X-Robots-Tag:noindex
X-PUBLISHED-TTL:PT1H
BEGIN:VTIMEZONE
TZID:UTC
BEGIN:STANDARD
TZOFFSETFROM:+0000
TZOFFSETTO:+0000
TZNAME:UTC
DTSTART:20170101T000000
END:STANDARD
END:VTIMEZONE
BEGIN:VEVENT
DTSTART;TZID=UTC:20171002T033000
DTEND;TZID=UTC:20171002T043000
DTSTAMP:20260420T150859
CREATED:20230119T224744Z
LAST-MODIFIED:20230130T041412Z
UID:47732-1506915000-1506918600@csi.nus.edu.sg
SUMMARY:CSI Seminar - Gang Huang
DESCRIPTION:
URL:https://csi.nus.edu.sg/event/csi-seminar-gang-huang/
END:VEVENT
BEGIN:VEVENT
DTSTART;TZID=UTC:20171003T000000
DTEND;TZID=UTC:20171003T050000
DTSTAMP:20260420T150859
CREATED:20230119T224828Z
LAST-MODIFIED:20230130T041355Z
UID:47745-1506988800-1507006800@csi.nus.edu.sg
SUMMARY:RNA Analysis Mini-Workshop
DESCRIPTION:Click HERE for more information. \n  \nProgram \n08:00 – 08:30   Arrival and Registration\n08:30 – 09:30   Lecture\n09:30 – 10:00   Morning Refreshments\n10:00 – 13:00   Practical Course \nRegistration Fee SGD$ 20 \n  \nRegistration for this workshop is now CLOSED. \n  \nScope and Topics \nThe course is aimed at life scientists who have already produced RNA-seq data\, or are planning to perform RNA-seq experiments and want to learn the best practice to analyze these type of data. It will consist of 1 hours of theoretical lessons and 3 hours of practical exercises. \nParticipants will gain practical experience and skills to be able to: \n\nAlign RNA-seq data to a reference genome\nEstimate known gene and transcript expression\nPerform differential expression analysis\nVisualize and summarize the output of RNA-seq analyses
URL:https://csi.nus.edu.sg/event/rna-analysis-mini-workshop/
END:VEVENT
BEGIN:VEVENT
DTSTART;TZID=UTC:20171005T000000
DTEND;TZID=UTC:20171006T090000
DTSTAMP:20260420T150859
CREATED:20230119T224543Z
LAST-MODIFIED:20230130T041329Z
UID:47690-1507161600-1507280400@csi.nus.edu.sg
SUMMARY:RNA Biology Symposium
DESCRIPTION:RNA BIOLOGY has emerged as one of the most influential areas in modern biology and translational medicine. Join us at this symposium which brings together internationally renowned experts in the field of RNA Biology\, with the focus on: Non-classical RNAs\, RNA Editing/ Modification\, RNA splicing\, RNA in disease and crosstalk between RNA classes and processes.\n\n\nJoin us for the third meeting of this annual symposium and find out more about exciting discoveries made in the area of RNA Biology.\n\n\n\nClick poster below to register now! \n  \nFor enquiries\, please contact our RNA Biology Center at csibox10@nus.edu.sg
URL:https://csi.nus.edu.sg/event/rna-biology-symposium-4/
END:VEVENT
BEGIN:VEVENT
DTSTART;TZID=UTC:20171020T023000
DTEND;TZID=UTC:20171020T033000
DTSTAMP:20260420T150859
CREATED:20230119T224843Z
LAST-MODIFIED:20230130T041303Z
UID:47750-1508466600-1508470200@csi.nus.edu.sg
SUMMARY:CSI Seminar - Matthew Raab
DESCRIPTION:
URL:https://csi.nus.edu.sg/event/csi-seminar-matthew-raab/
END:VEVENT
BEGIN:VEVENT
DTSTART;TZID=UTC:20171023T060000
DTEND;TZID=UTC:20171023T070000
DTSTAMP:20260420T150859
CREATED:20230119T224844Z
LAST-MODIFIED:20230119T224844Z
UID:47752-1508738400-1508742000@csi.nus.edu.sg
SUMMARY:Chromatin Remodelling Group (CRG) Meeting - 23 Oct
DESCRIPTION:Date: Monday\, 23 October 2017Time: 2pm – 3pm\nVenue: Meeting Room (12-02N)\, MD6 \n  \nThe speaker is Dr Slim Mzoughi from Dr Ernesto Guccione’s lab and the title of his talk is \n“PRDM15 safeguards naive pluripotency by transcriptionally regulating WNT and MAPK–ERK signaling”.
URL:https://csi.nus.edu.sg/event/chromatin-remodelling-group-crg-meeting-23-oct/
END:VEVENT
BEGIN:VEVENT
DTSTART;TZID=UTC:20171023T070000
DTEND;TZID=UTC:20171023T080000
DTSTAMP:20260420T150859
CREATED:20230119T225100Z
LAST-MODIFIED:20230119T225100Z
UID:47759-1508742000-1508745600@csi.nus.edu.sg
SUMMARY:RNA Biology Centre Meeting
DESCRIPTION:By Invitation Only\nDate: Monday\, 23 Oct 2017\nTime: 3pm\nVenue: Level 12 Conference Room\, MD6 \nDr Jiang Yanyi from Prof H. Phillip Koeffler’s group will present his project. \nTitle: Co-regulation of SOX2 and Tp63-driven Super-enhancer-associated CCAT1 Promotes the Progression of Squamous Cell Carcinoma
URL:https://csi.nus.edu.sg/event/rna-biology-centre-meeting-7/
END:VEVENT
BEGIN:VEVENT
DTSTART;TZID=UTC:20171027T070000
DTEND;TZID=UTC:20171027T080000
DTSTAMP:20260420T150859
CREATED:20230119T224730Z
LAST-MODIFIED:20230130T041238Z
UID:47729-1509087600-1509091200@csi.nus.edu.sg
SUMMARY:CSI Research Meeting - 27 Oct
DESCRIPTION:
URL:https://csi.nus.edu.sg/event/csi-research-meeting-27-oct/
END:VEVENT
END:VCALENDAR