BEGIN:VCALENDAR
VERSION:2.0
PRODID:-//NUS CSI - ECPv6.11.0.1//NONSGML v1.0//EN
CALSCALE:GREGORIAN
METHOD:PUBLISH
X-WR-CALNAME:NUS CSI
X-ORIGINAL-URL:https://csi.nus.edu.sg
X-WR-CALDESC:Events for NUS CSI
REFRESH-INTERVAL;VALUE=DURATION:PT1H
X-Robots-Tag:noindex
X-PUBLISHED-TTL:PT1H
BEGIN:VTIMEZONE
TZID:UTC
BEGIN:STANDARD
TZOFFSETFROM:+0000
TZOFFSETTO:+0000
TZNAME:UTC
DTSTART:20170101T000000
END:STANDARD
END:VTIMEZONE
BEGIN:VEVENT
DTSTART;TZID=UTC:20170914T063000
DTEND;TZID=UTC:20170914T073000
DTSTAMP:20260420T061059
CREATED:20230119T224814Z
LAST-MODIFIED:20230130T041624Z
UID:47743-1505370600-1505374200@csi.nus.edu.sg
SUMMARY:CSI Seminar – Clare Waterman
DESCRIPTION:
URL:https://csi.nus.edu.sg/event/csi-seminar-clare-waterman/
END:VEVENT
BEGIN:VEVENT
DTSTART;TZID=UTC:20170915T070000
DTEND;TZID=UTC:20170915T080000
DTSTAMP:20260420T061059
CREATED:20230119T224730Z
LAST-MODIFIED:20230130T041556Z
UID:47728-1505458800-1505462400@csi.nus.edu.sg
SUMMARY:CSI Research Meeting - 15 Sept
DESCRIPTION:
URL:https://csi.nus.edu.sg/event/csi-research-meeting-15-sept/
END:VEVENT
BEGIN:VEVENT
DTSTART;TZID=UTC:20170918T070000
DTEND;TZID=UTC:20170918T080000
DTSTAMP:20260420T061059
CREATED:20230119T225100Z
LAST-MODIFIED:20230119T225100Z
UID:47758-1505718000-1505721600@csi.nus.edu.sg
SUMMARY:RNA Biology Centre Meeting
DESCRIPTION:By Invitation Only\nDate: Monday\, 18 Sep 2017\nTime: 3pm\nVenue: Level 12 Conference Room\, MD6 \nTham Cheng Yong from Dr Touati Benoukraf’s group will present his project.\nTitle: Characterizing Somatic Variations in AML Patients using Short- and Long-reads Sequencing
URL:https://csi.nus.edu.sg/event/rna-biology-centre-meeting-6/
END:VEVENT
BEGIN:VEVENT
DTSTART;TZID=UTC:20170919T030000
DTEND;TZID=UTC:20170919T040000
DTSTAMP:20260420T061059
CREATED:20230119T224830Z
LAST-MODIFIED:20230130T041539Z
UID:47748-1505790000-1505793600@csi.nus.edu.sg
SUMMARY:RNA Club - Prabha Sampath
DESCRIPTION:
URL:https://csi.nus.edu.sg/event/rna-club-prabha-sampath/
END:VEVENT
BEGIN:VEVENT
DTSTART;TZID=UTC:20170922T010000
DTEND;TZID=UTC:20170922T100000
DTSTAMP:20260420T061059
CREATED:20230119T224829Z
LAST-MODIFIED:20230130T041522Z
UID:47747-1506042000-1506074400@csi.nus.edu.sg
SUMMARY:CSI-CMU Joint Symposium
DESCRIPTION:Registration is now closed.Please proceed to register onsite. \n \n 
URL:https://csi.nus.edu.sg/event/csi-cmu-joint-symposium/
END:VEVENT
BEGIN:VEVENT
DTSTART;TZID=UTC:20170925T030000
DTEND;TZID=UTC:20170925T040000
DTSTAMP:20260420T061059
CREATED:20230119T224815Z
LAST-MODIFIED:20230130T041450Z
UID:47744-1506308400-1506312000@csi.nus.edu.sg
SUMMARY:CSI Distinguished Speakers’ Series – Anindya Dutta
DESCRIPTION:
URL:https://csi.nus.edu.sg/event/csi-distinguished-speakers-series-anindya-dutta/
END:VEVENT
BEGIN:VEVENT
DTSTART;TZID=UTC:20170926T090000
DTEND;TZID=UTC:20170926T100000
DTSTAMP:20260420T061059
CREATED:20230119T224844Z
LAST-MODIFIED:20230130T041431Z
UID:47751-1506416400-1506420000@csi.nus.edu.sg
SUMMARY:BOCA Pow-Wow - 26 Sep
DESCRIPTION:
URL:https://csi.nus.edu.sg/event/boca-pow-wow-26-sep/
END:VEVENT
END:VCALENDAR