BEGIN:VCALENDAR
VERSION:2.0
PRODID:-//NUS CSI - ECPv6.11.0.1//NONSGML v1.0//EN
CALSCALE:GREGORIAN
METHOD:PUBLISH
X-WR-CALNAME:NUS CSI
X-ORIGINAL-URL:https://csi.nus.edu.sg
X-WR-CALDESC:Events for NUS CSI
REFRESH-INTERVAL;VALUE=DURATION:PT1H
X-Robots-Tag:noindex
X-PUBLISHED-TTL:PT1H
BEGIN:VTIMEZONE
TZID:UTC
BEGIN:STANDARD
TZOFFSETFROM:+0000
TZOFFSETTO:+0000
TZNAME:UTC
DTSTART:20170101T000000
END:STANDARD
END:VTIMEZONE
BEGIN:VEVENT
DTSTART;TZID=UTC:20170502T030000
DTEND;TZID=UTC:20170502T040000
DTSTAMP:20260420T035247
CREATED:20230119T224630Z
LAST-MODIFIED:20230130T043302Z
UID:47708-1493694000-1493697600@csi.nus.edu.sg
SUMMARY:CSI Seminar - Jose Cancelas
DESCRIPTION:
URL:https://csi.nus.edu.sg/event/csi-seminar-jose-cancelas/
END:VEVENT
BEGIN:VEVENT
DTSTART;TZID=UTC:20170505T040000
DTEND;TZID=UTC:20170505T050000
DTSTAMP:20260420T035247
CREATED:20230119T224615Z
LAST-MODIFIED:20230130T042843Z
UID:47704-1493956800-1493960400@csi.nus.edu.sg
SUMMARY:CSI Research Meeting - 5 May
DESCRIPTION:
URL:https://csi.nus.edu.sg/event/csi-research-meeting-5-may/
END:VEVENT
BEGIN:VEVENT
DTSTART;TZID=UTC:20170516T083000
DTEND;TZID=UTC:20170516T093000
DTSTAMP:20260420T035247
CREATED:20230119T224758Z
LAST-MODIFIED:20230130T042817Z
UID:47735-1494923400-1494927000@csi.nus.edu.sg
SUMMARY:BOCA Pow-Wow
DESCRIPTION:
URL:https://csi.nus.edu.sg/event/boca-pow-wow-2/
END:VEVENT
BEGIN:VEVENT
DTSTART;TZID=UTC:20170519T040000
DTEND;TZID=UTC:20170519T050000
DTSTAMP:20260420T035247
CREATED:20230119T224628Z
LAST-MODIFIED:20230130T042757Z
UID:47705-1495166400-1495170000@csi.nus.edu.sg
SUMMARY:CSI Research Meeting - 19 May
DESCRIPTION:
URL:https://csi.nus.edu.sg/event/csi-research-meeting-19-may/
END:VEVENT
BEGIN:VEVENT
DTSTART;TZID=UTC:20170519T083000
DTEND;TZID=UTC:20170519T093000
DTSTAMP:20260420T035247
CREATED:20230119T224746Z
LAST-MODIFIED:20230130T042740Z
UID:47734-1495182600-1495186200@csi.nus.edu.sg
SUMMARY:CSI Advances-in-Research (AIR)
DESCRIPTION:
URL:https://csi.nus.edu.sg/event/csi-advances-in-research-air-3/
END:VEVENT
BEGIN:VEVENT
DTSTART;TZID=UTC:20170523T030000
DTEND;TZID=UTC:20170523T040000
DTSTAMP:20260420T035247
CREATED:20230119T224743Z
LAST-MODIFIED:20230130T042720Z
UID:47730-1495508400-1495512000@csi.nus.edu.sg
SUMMARY:CSI Distinguished Speakers' Series - Prof Ashok Venkitaraman
DESCRIPTION:
URL:https://csi.nus.edu.sg/event/csi-distinguished-speakers-series-prof-ashok-venkitaraman-2/
END:VEVENT
END:VCALENDAR