BEGIN:VCALENDAR
VERSION:2.0
PRODID:-//NUS CSI - ECPv6.11.0.1//NONSGML v1.0//EN
CALSCALE:GREGORIAN
METHOD:PUBLISH
X-WR-CALNAME:NUS CSI
X-ORIGINAL-URL:https://csi.nus.edu.sg
X-WR-CALDESC:Events for NUS CSI
REFRESH-INTERVAL;VALUE=DURATION:PT1H
X-Robots-Tag:noindex
X-PUBLISHED-TTL:PT1H
BEGIN:VTIMEZONE
TZID:UTC
BEGIN:STANDARD
TZOFFSETFROM:+0000
TZOFFSETTO:+0000
TZNAME:UTC
DTSTART:20150101T000000
END:STANDARD
END:VTIMEZONE
BEGIN:VEVENT
DTSTART;TZID=UTC:20150702T023000
DTEND;TZID=UTC:20150702T033000
DTSTAMP:20260422T175551
CREATED:20230119T224129Z
LAST-MODIFIED:20230130T055631Z
UID:47606-1435804200-1435807800@csi.nus.edu.sg
SUMMARY:CSI Seminar - Dr. Li Ma
DESCRIPTION:
URL:https://csi.nus.edu.sg/event/csi-seminar-dr-li-ma/
END:VEVENT
BEGIN:VEVENT
DTSTART;TZID=UTC:20150708T030000
DTEND;TZID=UTC:20150708T040000
DTSTAMP:20260422T175551
CREATED:20230119T224145Z
LAST-MODIFIED:20230130T055614Z
UID:47612-1436324400-1436328000@csi.nus.edu.sg
SUMMARY:CSI Seminar - Dr. Annalisa Di Ruscio
DESCRIPTION:
URL:https://csi.nus.edu.sg/event/csi-seminar-dr-annalisa-di-ruscio/
END:VEVENT
BEGIN:VEVENT
DTSTART;TZID=UTC:20150710T040000
DTEND;TZID=UTC:20150710T050000
DTSTAMP:20260422T175551
CREATED:20230119T224158Z
LAST-MODIFIED:20230130T055537Z
UID:47616-1436500800-1436504400@csi.nus.edu.sg
SUMMARY:CSI Research Meeting - 10 July
DESCRIPTION:
URL:https://csi.nus.edu.sg/event/csi-research-meeting-10-july/
END:VEVENT
BEGIN:VEVENT
DTSTART;TZID=UTC:20150716T030000
DTEND;TZID=UTC:20150716T040000
DTSTAMP:20260422T175552
CREATED:20230119T224200Z
LAST-MODIFIED:20230130T055517Z
UID:47619-1437015600-1437019200@csi.nus.edu.sg
SUMMARY:CSI Seminar - Dr. Elena Levantini
DESCRIPTION:
URL:https://csi.nus.edu.sg/event/csi-seminar-dr-elena-levantini/
END:VEVENT
BEGIN:VEVENT
DTSTART;TZID=UTC:20150722T160000
DTEND;TZID=UTC:20150723T155900
DTSTAMP:20260422T175552
CREATED:20230119T224059Z
LAST-MODIFIED:20230130T055456Z
UID:47598-1437580800-1437667140@csi.nus.edu.sg
SUMMARY:CSI Open House 2015: Register Now!
DESCRIPTION:REGISTRATION HAS CLOSED! \n \nRegister HERE!
URL:https://csi.nus.edu.sg/event/csi-open-house-2015-register-now/
END:VEVENT
BEGIN:VEVENT
DTSTART;TZID=UTC:20150724T040000
DTEND;TZID=UTC:20150724T050000
DTSTAMP:20260422T175552
CREATED:20230119T224159Z
LAST-MODIFIED:20230130T055431Z
UID:47617-1437710400-1437714000@csi.nus.edu.sg
SUMMARY:CSI Research Meeting - 24 July
DESCRIPTION:
URL:https://csi.nus.edu.sg/event/csi-research-meeting-24-july/
END:VEVENT
END:VCALENDAR