BEGIN:VCALENDAR
VERSION:2.0
PRODID:-//NUS CSI - ECPv6.11.0.1//NONSGML v1.0//EN
CALSCALE:GREGORIAN
METHOD:PUBLISH
X-WR-CALNAME:NUS CSI
X-ORIGINAL-URL:https://csi.nus.edu.sg
X-WR-CALDESC:Events for NUS CSI
REFRESH-INTERVAL;VALUE=DURATION:PT1H
X-Robots-Tag:noindex
X-PUBLISHED-TTL:PT1H
BEGIN:VTIMEZONE
TZID:UTC
BEGIN:STANDARD
TZOFFSETFROM:+0000
TZOFFSETTO:+0000
TZNAME:UTC
DTSTART:20130101T000000
END:STANDARD
END:VTIMEZONE
BEGIN:VEVENT
DTSTART;TZID=UTC:20130228T100000
DTEND;TZID=UTC:20130228T120000
DTSTAMP:20260421T151638
CREATED:20230119T223213Z
LAST-MODIFIED:20230119T223213Z
UID:47422-1362045600-1362052800@csi.nus.edu.sg
SUMMARY:CSI PI Club Meeting
DESCRIPTION:
URL:https://csi.nus.edu.sg/event/csi-pi-club-meeting/
END:VEVENT
BEGIN:VEVENT
DTSTART;TZID=UTC:20130301T060000
DTEND;TZID=UTC:20130301T070000
DTSTAMP:20260421T151638
CREATED:20230119T223214Z
LAST-MODIFIED:20230119T223214Z
UID:47423-1362117600-1362121200@csi.nus.edu.sg
SUMMARY:CSCB Seminar Series: “Molecular Diagnostic Pathology: Challenges and Developments” by Prof. Hans Morreau
DESCRIPTION:
URL:https://csi.nus.edu.sg/event/cscb-seminar-series-molecular-diagnostic-pathology-challenges-and-developments-by-prof-hans-morreau/
END:VEVENT
BEGIN:VEVENT
DTSTART;TZID=UTC:20130302T043000
DTEND;TZID=UTC:20130302T093000
DTSTAMP:20260421T151638
CREATED:20230119T223214Z
LAST-MODIFIED:20230119T223214Z
UID:47424-1362198600-1362216600@csi.nus.edu.sg
SUMMARY:1st Spore Sarcoma Consortium Education & Research Meeting 2013
DESCRIPTION:
URL:https://csi.nus.edu.sg/event/1st-spore-sarcoma-consortium-education-research-meeting-2013/
END:VEVENT
BEGIN:VEVENT
DTSTART;TZID=UTC:20130304T040000
DTEND;TZID=UTC:20130304T050000
DTSTAMP:20260421T151638
CREATED:20230119T223228Z
LAST-MODIFIED:20230119T223228Z
UID:47425-1362369600-1362373200@csi.nus.edu.sg
SUMMARY:CSCB Seminar Series: “Lrig1\, a pan erbB negative regulator\, as astem cell marker: a progress report” by Prof. Robert Coffey
DESCRIPTION:
URL:https://csi.nus.edu.sg/event/cscb-seminar-series-lrig1-a-pan-erbb-negative-regulator-as-astem-cell-marker-a-progress-report-by-prof-robert-coffey/
END:VEVENT
BEGIN:VEVENT
DTSTART;TZID=UTC:20130305T030000
DTEND;TZID=UTC:20130305T040000
DTSTAMP:20260421T151638
CREATED:20230119T223228Z
LAST-MODIFIED:20230119T223228Z
UID:47426-1362452400-1362456000@csi.nus.edu.sg
SUMMARY:Distinguished Speakers’ Series 2013
DESCRIPTION:
URL:https://csi.nus.edu.sg/event/distinguished-speakers-series-2013/
END:VEVENT
BEGIN:VEVENT
DTSTART;TZID=UTC:20130306T030000
DTEND;TZID=UTC:20130306T040000
DTSTAMP:20260421T151638
CREATED:20230119T223229Z
LAST-MODIFIED:20230119T223229Z
UID:47427-1362538800-1362542400@csi.nus.edu.sg
SUMMARY:CSI Seminar – Dr Hovav Nechushtan
DESCRIPTION:
URL:https://csi.nus.edu.sg/event/csi-seminar-dr-hovav-nechushtan/
END:VEVENT
BEGIN:VEVENT
DTSTART;TZID=UTC:20130307T040000
DTEND;TZID=UTC:20130307T050000
DTSTAMP:20260421T151638
CREATED:20230119T223229Z
LAST-MODIFIED:20230119T223229Z
UID:47428-1362628800-1362632400@csi.nus.edu.sg
SUMMARY:CSCB Seminar Series: “Biology and Targeting of Stem Cells” by Dr Ravi Bhatia
DESCRIPTION:
URL:https://csi.nus.edu.sg/event/cscb-seminar-series-biology-and-targeting-of-stem-cells-by-dr-ravi-bhatia/
END:VEVENT
BEGIN:VEVENT
DTSTART;TZID=UTC:20130308T010000
DTEND;TZID=UTC:20130308T053000
DTSTAMP:20260421T151638
CREATED:20230119T223230Z
LAST-MODIFIED:20230119T223230Z
UID:47429-1362704400-1362720600@csi.nus.edu.sg
SUMMARY:Ultra High Resolution Imaging Mass Spectrometry for Advanced Clinical Applications Seminar
DESCRIPTION:
URL:https://csi.nus.edu.sg/event/ultra-high-resolution-imaging-mass-spectrometry-for-advanced-clinical-applications-seminar/
END:VEVENT
BEGIN:VEVENT
DTSTART;TZID=UTC:20130308T040000
DTEND;TZID=UTC:20130308T050000
DTSTAMP:20260421T151638
CREATED:20230119T223243Z
LAST-MODIFIED:20230119T223243Z
UID:47430-1362715200-1362718800@csi.nus.edu.sg
SUMMARY:CSI Research Meeting
DESCRIPTION:
URL:https://csi.nus.edu.sg/event/csi-research-meeting-6/
END:VEVENT
BEGIN:VEVENT
DTSTART;TZID=UTC:20130311T040000
DTEND;TZID=UTC:20130311T050000
DTSTAMP:20260421T151638
CREATED:20230119T223243Z
LAST-MODIFIED:20230119T223243Z
UID:47431-1362974400-1362978000@csi.nus.edu.sg
SUMMARY:Duke-NUS CSCB & NCC RIP/JC Conference
DESCRIPTION:
URL:https://csi.nus.edu.sg/event/duke-nus-cscb-ncc-rip-jc-conference-5/
END:VEVENT
BEGIN:VEVENT
DTSTART;TZID=UTC:20130314T013000
DTEND;TZID=UTC:20130314T080000
DTSTAMP:20260421T151638
CREATED:20230119T223244Z
LAST-MODIFIED:20230119T223244Z
UID:47432-1363224600-1363248000@csi.nus.edu.sg
SUMMARY:Singapore and Ireland International Conference: Building Capacity at the Frontiers of Biomedical Research
DESCRIPTION:
URL:https://csi.nus.edu.sg/event/singapore-and-ireland-international-conference-building-capacity-at-the-frontiers-of-biomedical-research/
END:VEVENT
BEGIN:VEVENT
DTSTART;TZID=UTC:20130318T000000
DTEND;TZID=UTC:20130320T010000
DTSTAMP:20260421T151638
CREATED:20230119T223244Z
LAST-MODIFIED:20230119T223244Z
UID:47433-1363564800-1363741200@csi.nus.edu.sg
SUMMARY:March 2013 Oncology Grand Rounds
DESCRIPTION:
URL:https://csi.nus.edu.sg/event/march-2013-oncology-grand-rounds/
END:VEVENT
BEGIN:VEVENT
DTSTART;TZID=UTC:20130318T060000
DTEND;TZID=UTC:20130318T070000
DTSTAMP:20260421T151638
CREATED:20230119T223245Z
LAST-MODIFIED:20230119T223245Z
UID:47434-1363586400-1363590000@csi.nus.edu.sg
SUMMARY:Chromatin Group Meeting
DESCRIPTION:
URL:https://csi.nus.edu.sg/event/chromatin-group-meeting/
END:VEVENT
BEGIN:VEVENT
DTSTART;TZID=UTC:20130319T000000
DTEND;TZID=UTC:20130319T130000
DTSTAMP:20260421T151638
CREATED:20230119T223258Z
LAST-MODIFIED:20230119T223258Z
UID:47435-1363651200-1363698000@csi.nus.edu.sg
SUMMARY:March 2013 Oncology Grand Rounds
DESCRIPTION:
URL:https://csi.nus.edu.sg/event/march-2013-oncology-grand-rounds-2/
END:VEVENT
BEGIN:VEVENT
DTSTART;TZID=UTC:20130319T100000
DTEND;TZID=UTC:20130319T120000
DTSTAMP:20260421T151638
CREATED:20230119T223258Z
LAST-MODIFIED:20230119T223258Z
UID:47436-1363687200-1363694400@csi.nus.edu.sg
SUMMARY:CSI PI Club Meeting
DESCRIPTION:
URL:https://csi.nus.edu.sg/event/csi-pi-club-meeting-2/
END:VEVENT
BEGIN:VEVENT
DTSTART;TZID=UTC:20130320T050000
DTEND;TZID=UTC:20130320T060000
DTSTAMP:20260421T151638
CREATED:20230119T223258Z
LAST-MODIFIED:20230119T223258Z
UID:47437-1363755600-1363759200@csi.nus.edu.sg
SUMMARY:March 2013 Oncology Grand Rounds
DESCRIPTION:
URL:https://csi.nus.edu.sg/event/march-2013-oncology-grand-rounds-3/
END:VEVENT
BEGIN:VEVENT
DTSTART;TZID=UTC:20130320T063000
DTEND;TZID=UTC:20130321T090000
DTSTAMP:20260421T151638
CREATED:20230119T223259Z
LAST-MODIFIED:20230119T223259Z
UID:47438-1363761000-1363856400@csi.nus.edu.sg
SUMMARY:Singapore Lymphoma Study Group (SLSG) Symoposium 2013
DESCRIPTION:
URL:https://csi.nus.edu.sg/event/singapore-lymphoma-study-group-slsg-symoposium-2013/
END:VEVENT
BEGIN:VEVENT
DTSTART;TZID=UTC:20130322T001500
DTEND;TZID=UTC:20130322T091500
DTSTAMP:20260421T151638
CREATED:20230119T223259Z
LAST-MODIFIED:20230119T223259Z
UID:47439-1363911300-1363943700@csi.nus.edu.sg
SUMMARY:4th Next-Generation Sequencing Seminar 2013
DESCRIPTION:
URL:https://csi.nus.edu.sg/event/4th-next-generation-sequencing-seminar-2013/
END:VEVENT
BEGIN:VEVENT
DTSTART;TZID=UTC:20130325T080000
DTEND;TZID=UTC:20130325T090000
DTSTAMP:20260421T151638
CREATED:20230119T223313Z
LAST-MODIFIED:20230119T223313Z
UID:47441-1364198400-1364202000@csi.nus.edu.sg
SUMMARY:CSI-RIPs Meeting
DESCRIPTION:
URL:https://csi.nus.edu.sg/event/csi-rips-meeting-2/
END:VEVENT
BEGIN:VEVENT
DTSTART;TZID=UTC:20130325T090000
DTEND;TZID=UTC:20130325T110000
DTSTAMP:20260421T151638
CREATED:20230119T223313Z
LAST-MODIFIED:20230119T223313Z
UID:47440-1364202000-1364209200@csi.nus.edu.sg
SUMMARY:RNA Club Meeting
DESCRIPTION:
URL:https://csi.nus.edu.sg/event/rna-club-meeting-2/
END:VEVENT
BEGIN:VEVENT
DTSTART;TZID=UTC:20130326T040000
DTEND;TZID=UTC:20130326T050000
DTSTAMP:20260421T151638
CREATED:20230119T223314Z
LAST-MODIFIED:20230119T223314Z
UID:47442-1364270400-1364274000@csi.nus.edu.sg
SUMMARY:Duke-NUS Signature Seminar Series – A/Prof Micah Luftig
DESCRIPTION:
URL:https://csi.nus.edu.sg/event/duke-nus-signature-seminar-series-a-prof-micah-luftig/
END:VEVENT
BEGIN:VEVENT
DTSTART;TZID=UTC:20130328T030000
DTEND;TZID=UTC:20130328T040000
DTSTAMP:20260421T151638
CREATED:20230119T223314Z
LAST-MODIFIED:20230119T223314Z
UID:47443-1364439600-1364443200@csi.nus.edu.sg
SUMMARY:Home » IMCB Invited Speaker – Dr Victor Kotelianski IMCB Invited Speaker – Dr Victor Kotelianski
DESCRIPTION:
URL:https://csi.nus.edu.sg/event/home-imcb-invited-speaker-dr-victor-kotelianski-imcb-invited-speaker-dr-victor-kotelianski/
END:VEVENT
BEGIN:VEVENT
DTSTART;TZID=UTC:20130402T033000
DTEND;TZID=UTC:20130402T043000
DTSTAMP:20260421T151638
CREATED:20230119T223314Z
LAST-MODIFIED:20230119T223314Z
UID:47444-1364873400-1364877000@csi.nus.edu.sg
SUMMARY:Scientific Lecture by BMRC Distinguished Visitor – Nobel Laureate Prof Shinya Yamanaka
DESCRIPTION:
URL:https://csi.nus.edu.sg/event/scientific-lecture-by-bmrc-distinguished-visitor-nobel-laureate-prof-shinya-yamanaka/
END:VEVENT
BEGIN:VEVENT
DTSTART;TZID=UTC:20130403T040000
DTEND;TZID=UTC:20130403T050000
DTSTAMP:20260421T151638
CREATED:20230119T223328Z
LAST-MODIFIED:20230119T223328Z
UID:47445-1364961600-1364965200@csi.nus.edu.sg
SUMMARY:CSCB Post-Doc Candidate Seminar
DESCRIPTION:
URL:https://csi.nus.edu.sg/event/cscb-post-doc-candidate-seminar/
END:VEVENT
BEGIN:VEVENT
DTSTART;TZID=UTC:20130403T060000
DTEND;TZID=UTC:20130403T070000
DTSTAMP:20260421T151638
CREATED:20230119T223328Z
LAST-MODIFIED:20230119T223328Z
UID:47446-1364968800-1364972400@csi.nus.edu.sg
SUMMARY:IMCB Invited Speaker – Dr. ChengQi Lin
DESCRIPTION:
URL:https://csi.nus.edu.sg/event/imcb-invited-speaker-dr-chengqi-lin/
END:VEVENT
BEGIN:VEVENT
DTSTART;TZID=UTC:20130409T030000
DTEND;TZID=UTC:20130409T040000
DTSTAMP:20260421T151638
CREATED:20230119T223329Z
LAST-MODIFIED:20230119T223329Z
UID:47447-1365476400-1365480000@csi.nus.edu.sg
SUMMARY:CSI Singapore Seminar Announcement
DESCRIPTION:
URL:https://csi.nus.edu.sg/event/csi-singapore-seminar-announcement/
END:VEVENT
BEGIN:VEVENT
DTSTART;TZID=UTC:20130412T040000
DTEND;TZID=UTC:20130412T050000
DTSTAMP:20260421T151638
CREATED:20230119T223329Z
LAST-MODIFIED:20230119T223329Z
UID:47448-1365739200-1365742800@csi.nus.edu.sg
SUMMARY:CSI Research Meeting
DESCRIPTION:
URL:https://csi.nus.edu.sg/event/csi-research-meeting-7/
END:VEVENT
BEGIN:VEVENT
DTSTART;TZID=UTC:20130415T010000
DTEND;TZID=UTC:20130415T073000
DTSTAMP:20260421T151638
CREATED:20230119T223329Z
LAST-MODIFIED:20230119T223329Z
UID:47449-1365987600-1366011000@csi.nus.edu.sg
SUMMARY:Mini-Symposium on Asian Cancer Genomics
DESCRIPTION:
URL:https://csi.nus.edu.sg/event/mini-symposium-on-asian-cancer-genomics/
END:VEVENT
BEGIN:VEVENT
DTSTART;TZID=UTC:20130416T080000
DTEND;TZID=UTC:20130416T090000
DTSTAMP:20260421T151638
CREATED:20230119T223343Z
LAST-MODIFIED:20230119T223343Z
UID:47450-1366099200-1366102800@csi.nus.edu.sg
SUMMARY:SIgN Immunology Seminar – Prof. Dave SB Hoon
DESCRIPTION:
URL:https://csi.nus.edu.sg/event/sign-immunology-seminar-prof-dave-sb-hoon/
END:VEVENT
BEGIN:VEVENT
DTSTART;TZID=UTC:20130417T040000
DTEND;TZID=UTC:20130417T060000
DTSTAMP:20260421T151638
CREATED:20230119T223344Z
LAST-MODIFIED:20230119T223344Z
UID:47452-1366171200-1366178400@csi.nus.edu.sg
SUMMARY:NCCS Seminar – Dr. Hisataka Kobayashi
DESCRIPTION:
URL:https://csi.nus.edu.sg/event/nccs-seminar-dr-hisataka-kobayashi/
END:VEVENT
END:VCALENDAR