BEGIN:VCALENDAR
VERSION:2.0
PRODID:-//NUS CSI - ECPv6.11.0.1//NONSGML v1.0//EN
CALSCALE:GREGORIAN
METHOD:PUBLISH
X-WR-CALNAME:NUS CSI
X-ORIGINAL-URL:https://csi.nus.edu.sg
X-WR-CALDESC:Events for NUS CSI
REFRESH-INTERVAL;VALUE=DURATION:PT1H
X-Robots-Tag:noindex
X-PUBLISHED-TTL:PT1H
BEGIN:VTIMEZONE
TZID:UTC
BEGIN:STANDARD
TZOFFSETFROM:+0000
TZOFFSETTO:+0000
TZNAME:UTC
DTSTART:20130101T000000
END:STANDARD
END:VTIMEZONE
BEGIN:VEVENT
DTSTART;TZID=UTC:20130506T030000
DTEND;TZID=UTC:20130506T040000
DTSTAMP:20260421T161159
CREATED:20230119T223844Z
LAST-MODIFIED:20230119T223844Z
UID:47552-1367809200-1367812800@csi.nus.edu.sg
SUMMARY:CSI Seminar – Mr Tan Shi Hao
DESCRIPTION:
URL:https://csi.nus.edu.sg/event/csi-seminar-mr-tan-shi-hao/
END:VEVENT
BEGIN:VEVENT
DTSTART;TZID=UTC:20130507T090000
DTEND;TZID=UTC:20130507T100000
DTSTAMP:20260421T161159
CREATED:20230119T223844Z
LAST-MODIFIED:20230119T223844Z
UID:47553-1367917200-1367920800@csi.nus.edu.sg
SUMMARY:Joint SGCC-CSI Gastric Cancer Seminar
DESCRIPTION:
URL:https://csi.nus.edu.sg/event/joint-sgcc-csi-gastric-cancer-seminar-6/
END:VEVENT
BEGIN:VEVENT
DTSTART;TZID=UTC:20130509T040000
DTEND;TZID=UTC:20130509T050000
DTSTAMP:20260421T161159
CREATED:20230119T223845Z
LAST-MODIFIED:20230119T223845Z
UID:47554-1368072000-1368075600@csi.nus.edu.sg
SUMMARY:CSCB Seminar Series – Prof. Don Ayer
DESCRIPTION:
URL:https://csi.nus.edu.sg/event/cscb-seminar-series-prof-don-ayer/
END:VEVENT
BEGIN:VEVENT
DTSTART;TZID=UTC:20130510T040000
DTEND;TZID=UTC:20130510T050000
DTSTAMP:20260421T161159
CREATED:20230119T223858Z
LAST-MODIFIED:20230119T223858Z
UID:47555-1368158400-1368162000@csi.nus.edu.sg
SUMMARY:CSI Research Meeting
DESCRIPTION:
URL:https://csi.nus.edu.sg/event/csi-research-meeting-24/
END:VEVENT
BEGIN:VEVENT
DTSTART;TZID=UTC:20130513T080000
DTEND;TZID=UTC:20130513T090000
DTSTAMP:20260421T161159
CREATED:20230119T223858Z
LAST-MODIFIED:20230119T223858Z
UID:47556-1368432000-1368435600@csi.nus.edu.sg
SUMMARY:CSCB Seminar Series – Dr. Andreas Strasser
DESCRIPTION:
URL:https://csi.nus.edu.sg/event/cscb-seminar-series-dr-andreas-strasser/
END:VEVENT
BEGIN:VEVENT
DTSTART;TZID=UTC:20130513T160000
DTEND;TZID=UTC:20130514T155900
DTSTAMP:20260421T161159
CREATED:20230119T223900Z
LAST-MODIFIED:20230119T223900Z
UID:47559-1368460800-1368547140@csi.nus.edu.sg
SUMMARY:CSI Seminar – Dr Antonio Maraver
DESCRIPTION:
URL:https://csi.nus.edu.sg/event/csi-seminar-dr-antonio-maraver/
END:VEVENT
BEGIN:VEVENT
DTSTART;TZID=UTC:20130514T030000
DTEND;TZID=UTC:20130514T040000
DTSTAMP:20260421T161159
CREATED:20230119T223859Z
LAST-MODIFIED:20230119T223859Z
UID:47557-1368500400-1368504000@csi.nus.edu.sg
SUMMARY:IMCB Seminar: Prof. Chris Marshall (cancelled)
DESCRIPTION:
URL:https://csi.nus.edu.sg/event/imcb-seminar-prof-chris-marshall-cancelled/
END:VEVENT
BEGIN:VEVENT
DTSTART;TZID=UTC:20130514T070000
DTEND;TZID=UTC:20130514T080000
DTSTAMP:20260421T161159
CREATED:20230119T223859Z
LAST-MODIFIED:20230119T223859Z
UID:47558-1368514800-1368518400@csi.nus.edu.sg
SUMMARY:Chromatin Group Meeting Melissa FULLWOOD
DESCRIPTION:
URL:https://csi.nus.edu.sg/event/chromatin-group-meeting-melissa-fullwood/
END:VEVENT
BEGIN:VEVENT
DTSTART;TZID=UTC:20130516T030000
DTEND;TZID=UTC:20130516T040000
DTSTAMP:20260421T161159
CREATED:20230119T223913Z
LAST-MODIFIED:20230119T223913Z
UID:47560-1368673200-1368676800@csi.nus.edu.sg
SUMMARY:CSI Distinguished Speakers’ Series – Dr. Xi He
DESCRIPTION:
URL:https://csi.nus.edu.sg/event/csi-distinguished-speakers-series-dr-xi-he/
END:VEVENT
BEGIN:VEVENT
DTSTART;TZID=UTC:20130516T080000
DTEND;TZID=UTC:20130516T090000
DTSTAMP:20260421T161159
CREATED:20230119T223913Z
LAST-MODIFIED:20230119T223913Z
UID:47561-1368691200-1368694800@csi.nus.edu.sg
SUMMARY:CSCB Seminar Series – Dr. Wenqing XU
DESCRIPTION:
URL:https://csi.nus.edu.sg/event/cscb-seminar-series-dr-wenqing-xu/
END:VEVENT
BEGIN:VEVENT
DTSTART;TZID=UTC:20130522T030000
DTEND;TZID=UTC:20130522T040000
DTSTAMP:20260421T161159
CREATED:20230119T223914Z
LAST-MODIFIED:20230119T223914Z
UID:47563-1369191600-1369195200@csi.nus.edu.sg
SUMMARY:CSI Seminar – Dr. Amartya Sanyal
DESCRIPTION:
URL:https://csi.nus.edu.sg/event/csi-seminar-dr-amartya-sanyal/
END:VEVENT
BEGIN:VEVENT
DTSTART;TZID=UTC:20130522T080000
DTEND;TZID=UTC:20130522T090000
DTSTAMP:20260421T161159
CREATED:20230119T223914Z
LAST-MODIFIED:20230119T223914Z
UID:47562-1369209600-1369213200@csi.nus.edu.sg
SUMMARY:CSI-Advances in Research – YONG Kol Jia
DESCRIPTION:
URL:https://csi.nus.edu.sg/event/csi-advances-in-research-yong-kol-jia-2/
END:VEVENT
BEGIN:VEVENT
DTSTART;TZID=UTC:20130523T080000
DTEND;TZID=UTC:20130523T090000
DTSTAMP:20260421T161159
CREATED:20230119T223915Z
LAST-MODIFIED:20230119T223915Z
UID:47564-1369296000-1369299600@csi.nus.edu.sg
SUMMARY:CSCB Seminar Series – Prof Mary Helen Barcellos-Hoff
DESCRIPTION:
URL:https://csi.nus.edu.sg/event/cscb-seminar-series-prof-mary-helen-barcellos-hoff/
END:VEVENT
BEGIN:VEVENT
DTSTART;TZID=UTC:20130523T100000
DTEND;TZID=UTC:20130523T120000
DTSTAMP:20260421T161159
CREATED:20230119T223928Z
LAST-MODIFIED:20230119T223928Z
UID:47565-1369303200-1369310400@csi.nus.edu.sg
SUMMARY:CSI PI Club Meetings
DESCRIPTION:
URL:https://csi.nus.edu.sg/event/csi-pi-club-meetings-2/
END:VEVENT
BEGIN:VEVENT
DTSTART;TZID=UTC:20130527T160000
DTEND;TZID=UTC:20130528T155900
DTSTAMP:20260421T161159
CREATED:20230119T223929Z
LAST-MODIFIED:20230119T223929Z
UID:47566-1369670400-1369756740@csi.nus.edu.sg
SUMMARY:CSI Recruitment – Universitat de Barcelona (UB)
DESCRIPTION:
URL:https://csi.nus.edu.sg/event/csi-recruitment-universitat-de-barcelona-ub/
END:VEVENT
BEGIN:VEVENT
DTSTART;TZID=UTC:20130529T010000
DTEND;TZID=UTC:20130529T020000
DTSTAMP:20260421T161159
CREATED:20230119T223929Z
LAST-MODIFIED:20230119T223929Z
UID:47567-1369789200-1369792800@csi.nus.edu.sg
SUMMARY:NCCS Seminar – Dr Dong Kong
DESCRIPTION:
URL:https://csi.nus.edu.sg/event/nccs-seminar-dr-dong-kong/
END:VEVENT
BEGIN:VEVENT
DTSTART;TZID=UTC:20130531T040000
DTEND;TZID=UTC:20130531T050000
DTSTAMP:20260421T161159
CREATED:20230119T223930Z
LAST-MODIFIED:20230119T223930Z
UID:47568-1369972800-1369976400@csi.nus.edu.sg
SUMMARY:Home » CSI Research Meeting CSI Research Meeting
DESCRIPTION:
URL:https://csi.nus.edu.sg/event/home-csi-research-meeting-csi-research-meeting/
END:VEVENT
BEGIN:VEVENT
DTSTART;TZID=UTC:20130604T040000
DTEND;TZID=UTC:20130604T050000
DTSTAMP:20260421T161159
CREATED:20230119T223759Z
LAST-MODIFIED:20230119T223759Z
UID:47538-1370318400-1370322000@csi.nus.edu.sg
SUMMARY:CSCB Seminar Series – Marie-Odile Parat
DESCRIPTION:
URL:https://csi.nus.edu.sg/event/cscb-seminar-series-marie-odile-parat/
END:VEVENT
BEGIN:VEVENT
DTSTART;TZID=UTC:20130604T090000
DTEND;TZID=UTC:20130604T100000
DTSTAMP:20260421T161159
CREATED:20230119T223759Z
LAST-MODIFIED:20230119T223759Z
UID:47539-1370336400-1370340000@csi.nus.edu.sg
SUMMARY:Joint SGCC-CSI Gastric Cancer Seminar
DESCRIPTION:
URL:https://csi.nus.edu.sg/event/joint-sgcc-csi-gastric-cancer-seminar-5/
END:VEVENT
BEGIN:VEVENT
DTSTART;TZID=UTC:20130604T160000
DTEND;TZID=UTC:20130606T155900
DTSTAMP:20260421T161159
CREATED:20230119T223813Z
LAST-MODIFIED:20230119T223813Z
UID:47540-1370361600-1370534340@csi.nus.edu.sg
SUMMARY:6th International Singapore Symposium of Immunology
DESCRIPTION:
URL:https://csi.nus.edu.sg/event/6th-international-singapore-symposium-of-immunology/
END:VEVENT
BEGIN:VEVENT
DTSTART;TZID=UTC:20130610T030000
DTEND;TZID=UTC:20130610T040000
DTSTAMP:20260421T161159
CREATED:20230119T223813Z
LAST-MODIFIED:20230119T223813Z
UID:47541-1370833200-1370836800@csi.nus.edu.sg
SUMMARY:CSI Distinguished Speakers’ Series – Dr Xin Wei WANG
DESCRIPTION:
URL:https://csi.nus.edu.sg/event/csi-distinguished-speakers-series-dr-xin-wei-wang/
END:VEVENT
BEGIN:VEVENT
DTSTART;TZID=UTC:20130614T040000
DTEND;TZID=UTC:20130614T050000
DTSTAMP:20260421T161159
CREATED:20230119T223814Z
LAST-MODIFIED:20230119T223814Z
UID:47542-1371182400-1371186000@csi.nus.edu.sg
SUMMARY:CSI Research Meeting
DESCRIPTION:
URL:https://csi.nus.edu.sg/event/csi-research-meeting-22/
END:VEVENT
BEGIN:VEVENT
DTSTART;TZID=UTC:20130617T030000
DTEND;TZID=UTC:20130617T040000
DTSTAMP:20260421T161159
CREATED:20230119T223828Z
LAST-MODIFIED:20230119T223828Z
UID:47545-1371438000-1371441600@csi.nus.edu.sg
SUMMARY:IMCB Seminar – A/Prof Chunming Ding
DESCRIPTION:
URL:https://csi.nus.edu.sg/event/imcb-seminar-a-prof-chunming-ding/
END:VEVENT
BEGIN:VEVENT
DTSTART;TZID=UTC:20130617T040000
DTEND;TZID=UTC:20130617T050000
DTSTAMP:20260421T161159
CREATED:20230119T223815Z
LAST-MODIFIED:20230119T223815Z
UID:47544-1371441600-1371445200@csi.nus.edu.sg
SUMMARY:CSI Seminar – Dr Raksha Mudbhary
DESCRIPTION:
URL:https://csi.nus.edu.sg/event/csi-seminar-dr-raksha-mudbhary/
END:VEVENT
BEGIN:VEVENT
DTSTART;TZID=UTC:20130617T090000
DTEND;TZID=UTC:20130617T110000
DTSTAMP:20260421T161159
CREATED:20230119T223814Z
LAST-MODIFIED:20230119T223814Z
UID:47543-1371459600-1371466800@csi.nus.edu.sg
SUMMARY:RNA Club Meeting
DESCRIPTION:
URL:https://csi.nus.edu.sg/event/rna-club-meeting-4/
END:VEVENT
BEGIN:VEVENT
DTSTART;TZID=UTC:20130624T030000
DTEND;TZID=UTC:20130624T040000
DTSTAMP:20260421T161159
CREATED:20230119T223829Z
LAST-MODIFIED:20230119T223829Z
UID:47546-1372042800-1372046400@csi.nus.edu.sg
SUMMARY:CSI Seminar – Dr. Karen Crasta
DESCRIPTION:
URL:https://csi.nus.edu.sg/event/csi-seminar-dr-karen-crasta/
END:VEVENT
BEGIN:VEVENT
DTSTART;TZID=UTC:20130626T083000
DTEND;TZID=UTC:20130626T093000
DTSTAMP:20260421T161159
CREATED:20230119T223829Z
LAST-MODIFIED:20230119T223829Z
UID:47547-1372235400-1372239000@csi.nus.edu.sg
SUMMARY:CSI-AIR : YIT Le Yau
DESCRIPTION:
URL:https://csi.nus.edu.sg/event/csi-air-yit-le-yau/
END:VEVENT
BEGIN:VEVENT
DTSTART;TZID=UTC:20130627T100000
DTEND;TZID=UTC:20130627T120000
DTSTAMP:20260421T161159
CREATED:20230119T223830Z
LAST-MODIFIED:20230119T223830Z
UID:47548-1372327200-1372334400@csi.nus.edu.sg
SUMMARY:CSI PI Club Meeting
DESCRIPTION:
URL:https://csi.nus.edu.sg/event/csi-pi-club-meeting-4/
END:VEVENT
BEGIN:VEVENT
DTSTART;TZID=UTC:20130628T040000
DTEND;TZID=UTC:20130628T050000
DTSTAMP:20260421T161159
CREATED:20230119T223830Z
LAST-MODIFIED:20230119T223830Z
UID:47549-1372392000-1372395600@csi.nus.edu.sg
SUMMARY:CSI Research Meeting
DESCRIPTION:
URL:https://csi.nus.edu.sg/event/csi-research-meeting-23/
END:VEVENT
BEGIN:VEVENT
DTSTART;TZID=UTC:20130703T030000
DTEND;TZID=UTC:20130703T040000
DTSTAMP:20260421T161159
CREATED:20230119T223714Z
LAST-MODIFIED:20230119T223714Z
UID:47523-1372820400-1372824000@csi.nus.edu.sg
SUMMARY:SIgN Seminar by Prof Matthew Collins
DESCRIPTION:
URL:https://csi.nus.edu.sg/event/sign-seminar-by-prof-matthew-collins/
END:VEVENT
END:VCALENDAR