BEGIN:VCALENDAR
VERSION:2.0
PRODID:-//NUS CSI - ECPv6.11.0.1//NONSGML v1.0//EN
CALSCALE:GREGORIAN
METHOD:PUBLISH
X-WR-CALNAME:NUS CSI
X-ORIGINAL-URL:https://csi.nus.edu.sg
X-WR-CALDESC:Events for NUS CSI
REFRESH-INTERVAL;VALUE=DURATION:PT1H
X-Robots-Tag:noindex
X-PUBLISHED-TTL:PT1H
BEGIN:VTIMEZONE
TZID:UTC
BEGIN:STANDARD
TZOFFSETFROM:+0000
TZOFFSETTO:+0000
TZNAME:UTC
DTSTART:20180101T000000
END:STANDARD
END:VTIMEZONE
BEGIN:VEVENT
DTSTART;TZID=UTC:20180227T030000
DTEND;TZID=UTC:20180227T040000
DTSTAMP:20260426T064917
CREATED:20230119T235000Z
LAST-MODIFIED:20230119T235000Z
UID:47797-1519700400-1519704000@csi.nus.edu.sg
SUMMARY:RNA Club
DESCRIPTION:Tuesday\, 27 Feb 201811am-12pm\nLevel 12 Conference Room\nCentre for Translational Medicine (MD6)
URL:https://csi.nus.edu.sg/event/rna-club-2/
END:VEVENT
BEGIN:VEVENT
DTSTART;TZID=UTC:20180227T080000
DTEND;TZID=UTC:20180227T090000
DTSTAMP:20260426T064917
CREATED:20230119T235001Z
LAST-MODIFIED:20230130T035753Z
UID:47798-1519718400-1519722000@csi.nus.edu.sg
SUMMARY:RNA Club - 27 Feb
DESCRIPTION:Tuesday\, 27 Feb 2018\n11am-12pm\nLevel 12 Conference Room\nCentre for Translational Medicine (MD6)
URL:https://csi.nus.edu.sg/event/rna-club-27-feb/
END:VEVENT
BEGIN:VEVENT
DTSTART;TZID=UTC:20180301T010000
DTEND;TZID=UTC:20180301T050000
DTSTAMP:20260426T064917
CREATED:20230119T234801Z
LAST-MODIFIED:20230130T035618Z
UID:47794-1519866000-1519880400@csi.nus.edu.sg
SUMMARY:CSI Mini Symposium - Virus-induced Cancers: From Mechanism to Therapy
DESCRIPTION:Click on poster to register!
URL:https://csi.nus.edu.sg/event/csi-mini-symposium-virus-induced-cancers-from-mechanism-to-therapy/
END:VEVENT
BEGIN:VEVENT
DTSTART;TZID=UTC:20180309T020000
DTEND;TZID=UTC:20180309T030000
DTSTAMP:20260426T064917
CREATED:20230119T234959Z
LAST-MODIFIED:20230119T234959Z
UID:47795-1520560800-1520564400@csi.nus.edu.sg
SUMMARY:CSI Seminar - Jun J. Yang
DESCRIPTION:Friday 9 Mar10am – 11am\, LT36 \nPoster to be updated.
URL:https://csi.nus.edu.sg/event/csi-seminar-jun-j-yang/
END:VEVENT
BEGIN:VEVENT
DTSTART;TZID=UTC:20180309T050000
DTEND;TZID=UTC:20180309T063000
DTSTAMP:20260426T064917
CREATED:20230119T225427Z
LAST-MODIFIED:20230130T035212Z
UID:47768-1520571600-1520577000@csi.nus.edu.sg
SUMMARY:CSI Research Meeting - 9 Mar
DESCRIPTION:The CSI State-of-the-Institute address 2018 will commence at 1pm.\nRegular CSI Research Meeting talks as below will start after the State-of-the-Institute address\, followed by refreshments at 2.30pm. \nAll staff and students are encouraged to attend.
URL:https://csi.nus.edu.sg/event/csi-research-meeting-9-mar/
END:VEVENT
BEGIN:VEVENT
DTSTART;TZID=UTC:20180314T080000
DTEND;TZID=UTC:20180314T090000
DTSTAMP:20260426T064917
CREATED:20230119T235000Z
LAST-MODIFIED:20230119T235000Z
UID:47796-1521014400-1521018000@csi.nus.edu.sg
SUMMARY:Singapore RNA Biology Alliance Meeting - 14 Mar
DESCRIPTION:Time: 4PMVenue: Classroom 1\, School of Biological Sciences\, Nanyang Technological University \nMore details to be updated.
URL:https://csi.nus.edu.sg/event/singapore-rna-biology-alliance-meeting-14-mar/
END:VEVENT
BEGIN:VEVENT
DTSTART;TZID=UTC:20180323T050000
DTEND;TZID=UTC:20180323T060000
DTSTAMP:20260426T064917
CREATED:20230119T225428Z
LAST-MODIFIED:20230130T035052Z
UID:47769-1521781200-1521784800@csi.nus.edu.sg
SUMMARY:CSI Research Meeting - 23 Mar
DESCRIPTION:
URL:https://csi.nus.edu.sg/event/csi-research-meeting-23-mar/
END:VEVENT
BEGIN:VEVENT
DTSTART;TZID=UTC:20180326T030000
DTEND;TZID=UTC:20180326T040000
DTSTAMP:20260426T064917
CREATED:20230119T235159Z
LAST-MODIFIED:20230130T034802Z
UID:47801-1522033200-1522036800@csi.nus.edu.sg
SUMMARY:CSI Distinguished Speakers' Series - Robert Roeder
DESCRIPTION:
URL:https://csi.nus.edu.sg/event/csi-distinguished-speakers-series-robert-roeder/
END:VEVENT
BEGIN:VEVENT
DTSTART;TZID=UTC:20180327T030000
DTEND;TZID=UTC:20180327T040000
DTSTAMP:20260426T064917
CREATED:20230119T235200Z
LAST-MODIFIED:20230130T034747Z
UID:47802-1522119600-1522123200@csi.nus.edu.sg
SUMMARY:RNA Club - 27 Mar
DESCRIPTION:
URL:https://csi.nus.edu.sg/event/rna-club-27-mar/
END:VEVENT
BEGIN:VEVENT
DTSTART;TZID=UTC:20180402T070000
DTEND;TZID=UTC:20180402T080000
DTSTAMP:20260426T064917
CREATED:20230119T230027Z
LAST-MODIFIED:20230119T230027Z
UID:47783-1522652400-1522656000@csi.nus.edu.sg
SUMMARY:RNA Biology Centre Meeting - 2 Apr
DESCRIPTION:By Invitation Only\nDate: Monday\, 2 Apr 2018\nTime: 3pm\nVenue: Level 12 Conference Room\, MD6 \nPresenter: Dr Yvonne Tay\nTitle: The non-coding transcriptome in AML \nAbstract: \nAdvances in high-throughput sequencing technologies have enabled the discovery of diverse species of non-coding transcripts\, which play key roles in various cellular processes and are frequently dysregulated in various human diseases. We are currently investigating the potential role that ncRNAs may play in leukemogenesis.
URL:https://csi.nus.edu.sg/event/rna-biology-centre-meeting-2-apr/
END:VEVENT
BEGIN:VEVENT
DTSTART;TZID=UTC:20180403T030000
DTEND;TZID=UTC:20180403T040000
DTSTAMP:20260426T064917
CREATED:20230119T235159Z
LAST-MODIFIED:20230130T034730Z
UID:47800-1522724400-1522728000@csi.nus.edu.sg
SUMMARY:RNA Club - 3 Apr
DESCRIPTION:
URL:https://csi.nus.edu.sg/event/rna-club-3-apr/
END:VEVENT
BEGIN:VEVENT
DTSTART;TZID=UTC:20180406T050000
DTEND;TZID=UTC:20180406T060000
DTSTAMP:20260426T064917
CREATED:20230119T225626Z
LAST-MODIFIED:20230130T034656Z
UID:47770-1522990800-1522994400@csi.nus.edu.sg
SUMMARY:CSI Research Meeting - 6 Apr
DESCRIPTION:
URL:https://csi.nus.edu.sg/event/csi-research-meeting-6-apr/
END:VEVENT
BEGIN:VEVENT
DTSTART;TZID=UTC:20180412T010000
DTEND;TZID=UTC:20180413T090000
DTSTAMP:20260426T064917
CREATED:20230119T235200Z
LAST-MODIFIED:20230119T235200Z
UID:47804-1523494800-1523610000@csi.nus.edu.sg
SUMMARY:French-Singaporean Symposium
DESCRIPTION:RNA Biology applied to Leukemia research\nParis\, 12-13 April 2018\n  \nClick here for program and registration information \n 
URL:https://csi.nus.edu.sg/event/french-singaporean-symposium/
END:VEVENT
BEGIN:VEVENT
DTSTART;TZID=UTC:20180416T070000
DTEND;TZID=UTC:20180416T080000
DTSTAMP:20260426T064917
CREATED:20230119T234800Z
LAST-MODIFIED:20230130T034610Z
UID:47792-1523862000-1523865600@csi.nus.edu.sg
SUMMARY:CSI Seminar - Ruan Yijun
DESCRIPTION:
URL:https://csi.nus.edu.sg/event/csi-seminar-ruan-yijun/
END:VEVENT
BEGIN:VEVENT
DTSTART;TZID=UTC:20180420T050000
DTEND;TZID=UTC:20180420T060000
DTSTAMP:20260426T064917
CREATED:20230119T225627Z
LAST-MODIFIED:20230130T034546Z
UID:47771-1524200400-1524204000@csi.nus.edu.sg
SUMMARY:CSI Research Meeting - 20 Apr
DESCRIPTION:
URL:https://csi.nus.edu.sg/event/csi-research-meeting-20-apr/
END:VEVENT
BEGIN:VEVENT
DTSTART;TZID=UTC:20180503T030000
DTEND;TZID=UTC:20180503T040000
DTSTAMP:20260426T064917
CREATED:20230119T235401Z
LAST-MODIFIED:20230130T034530Z
UID:47809-1525316400-1525320000@csi.nus.edu.sg
SUMMARY:CSI Seminar - Michael Menden
DESCRIPTION:
URL:https://csi.nus.edu.sg/event/csi-seminar-michael-menden/
END:VEVENT
BEGIN:VEVENT
DTSTART;TZID=UTC:20180504T003000
DTEND;TZID=UTC:20180504T090000
DTSTAMP:20260426T064917
CREATED:20230119T235200Z
LAST-MODIFIED:20230130T034458Z
UID:47803-1525393800-1525424400@csi.nus.edu.sg
SUMMARY:Abcam-CSI Cancer Symposium
DESCRIPTION:Click poster below to enter registration page!\nScan QR code below or click here for symposium program.
URL:https://csi.nus.edu.sg/event/abcam-csi-cancer-symposium/
END:VEVENT
BEGIN:VEVENT
DTSTART;TZID=UTC:20180517T030000
DTEND;TZID=UTC:20180517T040000
DTSTAMP:20260426T064917
CREATED:20230119T235400Z
LAST-MODIFIED:20230130T034308Z
UID:47807-1526526000-1526529600@csi.nus.edu.sg
SUMMARY:Industry Presentation - Biorad (Richard Harrison)
DESCRIPTION:
URL:https://csi.nus.edu.sg/event/industry-presentation-biorad-richard-harrison/
END:VEVENT
BEGIN:VEVENT
DTSTART;TZID=UTC:20180518T023000
DTEND;TZID=UTC:20180518T033000
DTSTAMP:20260426T064917
CREATED:20230119T235400Z
LAST-MODIFIED:20230130T034254Z
UID:47808-1526610600-1526614200@csi.nus.edu.sg
SUMMARY:CSI Seminar - Stefan Dentro
DESCRIPTION:
URL:https://csi.nus.edu.sg/event/csi-seminar-stefan-dentro/
END:VEVENT
BEGIN:VEVENT
DTSTART;TZID=UTC:20180518T070000
DTEND;TZID=UTC:20180518T080000
DTSTAMP:20260426T064917
CREATED:20230119T225627Z
LAST-MODIFIED:20230130T034241Z
UID:47772-1526626800-1526630400@csi.nus.edu.sg
SUMMARY:CSI Research Meeting - 18 May
DESCRIPTION:
URL:https://csi.nus.edu.sg/event/csi-research-meeting-18-may/
END:VEVENT
BEGIN:VEVENT
DTSTART;TZID=UTC:20180521T070000
DTEND;TZID=UTC:20180521T080000
DTSTAMP:20260426T064917
CREATED:20230119T230028Z
LAST-MODIFIED:20230119T230028Z
UID:47784-1526886000-1526889600@csi.nus.edu.sg
SUMMARY:RNA Biology Centre Meeting
DESCRIPTION:By Invitation Only\nDate: Monday\, 21 May 2018\nTime: 3pm\nVenue: Level 12 Conference Room\, MD6 \nPresenter:\nTitle:
URL:https://csi.nus.edu.sg/event/rna-biology-centre-meeting-10/
END:VEVENT
BEGIN:VEVENT
DTSTART;TZID=UTC:20180525T030000
DTEND;TZID=UTC:20180525T040000
DTSTAMP:20260426T064917
CREATED:20230119T235559Z
LAST-MODIFIED:20230130T033712Z
UID:47810-1527217200-1527220800@csi.nus.edu.sg
SUMMARY:CSI Seminar - Roland Ivanyi-Nagy
DESCRIPTION:
URL:https://csi.nus.edu.sg/event/csi-seminar-roland-ivanyi-nagy/
END:VEVENT
BEGIN:VEVENT
DTSTART;TZID=UTC:20180525T070000
DTEND;TZID=UTC:20180525T080000
DTSTAMP:20260426T064917
CREATED:20230119T235359Z
LAST-MODIFIED:20230130T033654Z
UID:47806-1527231600-1527235200@csi.nus.edu.sg
SUMMARY:CSI Seminar - Andreas Strasser
DESCRIPTION:
URL:https://csi.nus.edu.sg/event/csi-seminar-andreas-strasser/
END:VEVENT
BEGIN:VEVENT
DTSTART;TZID=UTC:20180601T050000
DTEND;TZID=UTC:20180601T060000
DTSTAMP:20260426T064917
CREATED:20230119T225628Z
LAST-MODIFIED:20230130T033639Z
UID:47773-1527829200-1527832800@csi.nus.edu.sg
SUMMARY:CSI Research Meeting - 1 June
DESCRIPTION:
URL:https://csi.nus.edu.sg/event/csi-research-meeting-1-june/
END:VEVENT
BEGIN:VEVENT
DTSTART;TZID=UTC:20180604T070000
DTEND;TZID=UTC:20180604T080000
DTSTAMP:20260426T064917
CREATED:20230119T230226Z
LAST-MODIFIED:20230119T230226Z
UID:47785-1528095600-1528099200@csi.nus.edu.sg
SUMMARY:RNA Biology Centre Meeting - 4 Jun
DESCRIPTION:By Invitation Only\nDate: Monday\, 4 June 2018\nTime: 3pm\nVenue: Level 12 Conference Room\, MD6 \nPresenter: Dr Dennis Kappei\nTitle: Transcriptional regulation in the lymphatic and leukaemic context
URL:https://csi.nus.edu.sg/event/rna-biology-centre-meeting-4-jun/
END:VEVENT
BEGIN:VEVENT
DTSTART;TZID=UTC:20180703T070000
DTEND;TZID=UTC:20180703T080000
DTSTAMP:20260426T064917
CREATED:20230119T235600Z
LAST-MODIFIED:20230130T033627Z
UID:47811-1530601200-1530604800@csi.nus.edu.sg
SUMMARY:CSI Seminar - Han Xu
DESCRIPTION:
URL:https://csi.nus.edu.sg/event/csi-seminar-han-xu/
END:VEVENT
BEGIN:VEVENT
DTSTART;TZID=UTC:20180704T070000
DTEND;TZID=UTC:20180704T080000
DTSTAMP:20260426T064917
CREATED:20230119T235800Z
LAST-MODIFIED:20230119T235800Z
UID:47816-1530687600-1530691200@csi.nus.edu.sg
SUMMARY:CSI Seminar - Todd Stukenberg
DESCRIPTION:To be updated
URL:https://csi.nus.edu.sg/event/csi-seminar-todd-stukenberg/
END:VEVENT
BEGIN:VEVENT
DTSTART;TZID=UTC:20180705T030000
DTEND;TZID=UTC:20180705T040000
DTSTAMP:20260426T064917
CREATED:20230119T235600Z
LAST-MODIFIED:20230130T033529Z
UID:47812-1530759600-1530763200@csi.nus.edu.sg
SUMMARY:CSI Seminar - Victoria Cowling
DESCRIPTION:
URL:https://csi.nus.edu.sg/event/csi-seminar-victoria-cowling/
END:VEVENT
BEGIN:VEVENT
DTSTART;TZID=UTC:20180706T050000
DTEND;TZID=UTC:20180706T060000
DTSTAMP:20260426T064917
CREATED:20230119T225628Z
LAST-MODIFIED:20230130T033507Z
UID:47774-1530853200-1530856800@csi.nus.edu.sg
SUMMARY:CSI Research Meeting - 6 July
DESCRIPTION:
URL:https://csi.nus.edu.sg/event/csi-research-meeting-6-july/
END:VEVENT
BEGIN:VEVENT
DTSTART;TZID=UTC:20180717T020000
DTEND;TZID=UTC:20180717T150000
DTSTAMP:20260426T064917
CREATED:20230119T235801Z
LAST-MODIFIED:20230130T033452Z
UID:47818-1531792800-1531839600@csi.nus.edu.sg
SUMMARY:CSI Seminar - Yana Zavros
DESCRIPTION:
URL:https://csi.nus.edu.sg/event/csi-seminar-yana-zavros/
END:VEVENT
END:VCALENDAR