BEGIN:VCALENDAR
VERSION:2.0
PRODID:-//NUS CSI - ECPv6.11.0.1//NONSGML v1.0//EN
CALSCALE:GREGORIAN
METHOD:PUBLISH
X-WR-CALNAME:NUS CSI
X-ORIGINAL-URL:https://csi.nus.edu.sg
X-WR-CALDESC:Events for NUS CSI
REFRESH-INTERVAL;VALUE=DURATION:PT1H
X-Robots-Tag:noindex
X-PUBLISHED-TTL:PT1H
BEGIN:VTIMEZONE
TZID:UTC
BEGIN:STANDARD
TZOFFSETFROM:+0000
TZOFFSETTO:+0000
TZNAME:UTC
DTSTART:20170101T000000
END:STANDARD
END:VTIMEZONE
BEGIN:VEVENT
DTSTART;TZID=UTC:20171027T070000
DTEND;TZID=UTC:20171027T080000
DTSTAMP:20260420T124204
CREATED:20230119T224730Z
LAST-MODIFIED:20230130T041238Z
UID:47729-1509087600-1509091200@csi.nus.edu.sg
SUMMARY:CSI Research Meeting - 27 Oct
DESCRIPTION:
URL:https://csi.nus.edu.sg/event/csi-research-meeting-27-oct/
END:VEVENT
BEGIN:VEVENT
DTSTART;TZID=UTC:20171106T010000
DTEND;TZID=UTC:20171108T100000
DTSTAMP:20260420T124204
CREATED:20230119T224544Z
LAST-MODIFIED:20230130T041109Z
UID:47691-1509930000-1510135200@csi.nus.edu.sg
SUMMARY:Frontiers in Cancer Science 2017
DESCRIPTION:Registration has CLOSED.Event has ENDED. \n\nPlease direct all queries to the FCS Conference Secretariat at csi_singapore@nus.edu.sg
URL:https://csi.nus.edu.sg/event/frontiers-in-cancer-science-2017/
END:VEVENT
BEGIN:VEVENT
DTSTART;TZID=UTC:20171113T070000
DTEND;TZID=UTC:20171113T080000
DTSTAMP:20260420T124204
CREATED:20230119T225226Z
LAST-MODIFIED:20230119T225226Z
UID:47760-1510556400-1510560000@csi.nus.edu.sg
SUMMARY:RNA Biology Centre Meeting
DESCRIPTION:By Invitation Only\nDate: Monday\, 13 Nov 2017\nTime: 3pm\nVenue: Level 12 Conference Room\, MD6 \nDr Huang Hua from Prof Soong Tuck Wah’s group will present his project. \nTitle 1: Tissue-selective restriction of RNA editing of CaV1.3 by splicing factor SRSF9\nTitle 2: Identification of tandem pore domain potassium channel KCNK5 as a novel target in Ph+ CML
URL:https://csi.nus.edu.sg/event/rna-biology-centre-meeting-8/
END:VEVENT
BEGIN:VEVENT
DTSTART;TZID=UTC:20171114T083000
DTEND;TZID=UTC:20171114T093000
DTSTAMP:20260420T124204
CREATED:20230119T225059Z
LAST-MODIFIED:20230130T040843Z
UID:47756-1510648200-1510651800@csi.nus.edu.sg
SUMMARY:BOCA Pow-Wow - 14 Nov
DESCRIPTION:
URL:https://csi.nus.edu.sg/event/boca-pow-wow-14-nov/
END:VEVENT
BEGIN:VEVENT
DTSTART;TZID=UTC:20171116T023000
DTEND;TZID=UTC:20171116T033000
DTSTAMP:20260420T124204
CREATED:20230119T225058Z
LAST-MODIFIED:20230130T040555Z
UID:47755-1510799400-1510803000@csi.nus.edu.sg
SUMMARY:CSI Seminar - Jason Lee
DESCRIPTION:
URL:https://csi.nus.edu.sg/event/csi-seminar-jason-lee/
END:VEVENT
BEGIN:VEVENT
DTSTART;TZID=UTC:20171124T070000
DTEND;TZID=UTC:20171124T080000
DTSTAMP:20260420T124204
CREATED:20230119T224831Z
LAST-MODIFIED:20230130T040543Z
UID:47749-1511506800-1511510400@csi.nus.edu.sg
SUMMARY:CSI Research Meeting - 24 Nov
DESCRIPTION:
URL:https://csi.nus.edu.sg/event/csi-research-meeting-24-nov/
END:VEVENT
BEGIN:VEVENT
DTSTART;TZID=UTC:20171128T030000
DTEND;TZID=UTC:20171128T040000
DTSTAMP:20260420T124204
CREATED:20230119T224845Z
LAST-MODIFIED:20230130T040535Z
UID:47753-1511838000-1511841600@csi.nus.edu.sg
SUMMARY:CSI Seminar - Hideyuki Saya
DESCRIPTION:
URL:https://csi.nus.edu.sg/event/csi-seminar-hideyuki-saya/
END:VEVENT
BEGIN:VEVENT
DTSTART;TZID=UTC:20171201T023000
DTEND;TZID=UTC:20171201T033000
DTSTAMP:20260420T124204
CREATED:20230119T225227Z
LAST-MODIFIED:20230130T040524Z
UID:47762-1512095400-1512099000@csi.nus.edu.sg
SUMMARY:CSI Seminar - Chew Guo-Liang
DESCRIPTION:
URL:https://csi.nus.edu.sg/event/csi-seminar-chew-guo-liang/
END:VEVENT
BEGIN:VEVENT
DTSTART;TZID=UTC:20171201T083000
DTEND;TZID=UTC:20171201T093000
DTSTAMP:20260420T124204
CREATED:20230119T225227Z
LAST-MODIFIED:20230130T040513Z
UID:47761-1512117000-1512120600@csi.nus.edu.sg
SUMMARY:CSI Advances in Research (AIR)
DESCRIPTION:
URL:https://csi.nus.edu.sg/event/csi-advances-in-research-air-4/
END:VEVENT
BEGIN:VEVENT
DTSTART;TZID=UTC:20171214T030000
DTEND;TZID=UTC:20171214T040000
DTSTAMP:20260420T124204
CREATED:20230119T224845Z
LAST-MODIFIED:20230130T040455Z
UID:47754-1513220400-1513224000@csi.nus.edu.sg
SUMMARY:CSI Seminar - Haruhiko Siomi
DESCRIPTION:
URL:https://csi.nus.edu.sg/event/csi-seminar-haruhiko-siomi/
END:VEVENT
BEGIN:VEVENT
DTSTART;TZID=UTC:20180108T070000
DTEND;TZID=UTC:20180108T080000
DTSTAMP:20260420T124204
CREATED:20230119T225228Z
LAST-MODIFIED:20230119T230027Z
UID:47763-1515394800-1515398400@csi.nus.edu.sg
SUMMARY:RNA Biology Centre Meeting
DESCRIPTION:By Invitation Only\nDate: Monday\, 8 Jan 2018\nTime: 3pm\nVenue: Level 12 Conference Room\, MD6 \nDr Polly Chen will present her project.\nTitle: Crosstalk between RNA Editing and Splicing
URL:https://csi.nus.edu.sg/event/rna-biology-centre-meeting-9/
END:VEVENT
BEGIN:VEVENT
DTSTART;TZID=UTC:20180112T070000
DTEND;TZID=UTC:20180112T080000
DTSTAMP:20260420T124204
CREATED:20230119T225426Z
LAST-MODIFIED:20230130T040431Z
UID:47766-1515740400-1515744000@csi.nus.edu.sg
SUMMARY:CSI Research Meeting - 12 Jan
DESCRIPTION:
URL:https://csi.nus.edu.sg/event/csi-research-meeting-12-jan/
END:VEVENT
BEGIN:VEVENT
DTSTART;TZID=UTC:20180116T030000
DTEND;TZID=UTC:20180116T040000
DTSTAMP:20260420T124204
CREATED:20230119T230026Z
LAST-MODIFIED:20230130T040413Z
UID:47780-1516071600-1516075200@csi.nus.edu.sg
SUMMARY:RNA Club - 16 Jan
DESCRIPTION:Please note that this talk is CANCELLED.
URL:https://csi.nus.edu.sg/event/rna-club-16-jan/
END:VEVENT
BEGIN:VEVENT
DTSTART;TZID=UTC:20180202T050000
DTEND;TZID=UTC:20180202T060000
DTSTAMP:20260420T124204
CREATED:20230119T225427Z
LAST-MODIFIED:20230130T040343Z
UID:47767-1517547600-1517551200@csi.nus.edu.sg
SUMMARY:CSI Research Meeting - 2 Feb
DESCRIPTION:
URL:https://csi.nus.edu.sg/event/csi-research-meeting-2-feb/
END:VEVENT
BEGIN:VEVENT
DTSTART;TZID=UTC:20180202T083000
DTEND;TZID=UTC:20180202T093000
DTSTAMP:20260420T124204
CREATED:20230119T234800Z
LAST-MODIFIED:20230130T040146Z
UID:47793-1517560200-1517563800@csi.nus.edu.sg
SUMMARY:CSI Advances-in-Research
DESCRIPTION:
URL:https://csi.nus.edu.sg/event/csi-advances-in-research-2/
END:VEVENT
BEGIN:VEVENT
DTSTART;TZID=UTC:20180205T160000
DTEND;TZID=UTC:20180206T155900
DTSTAMP:20260420T124204
CREATED:20230120T001706Z
LAST-MODIFIED:20230130T040043Z
UID:47859-1517846400-1517932740@csi.nus.edu.sg
SUMMARY:CSI-ENS Bioinformatics Workshop Series 2018
DESCRIPTION:
URL:https://csi.nus.edu.sg/event/csi-ens-bioinformatics-workshop-series-2018/
END:VEVENT
BEGIN:VEVENT
DTSTART;TZID=UTC:20180207T080000
DTEND;TZID=UTC:20180207T090000
DTSTAMP:20260420T124204
CREATED:20230119T234759Z
LAST-MODIFIED:20230130T035900Z
UID:47791-1517990400-1517994000@csi.nus.edu.sg
SUMMARY:CSI Seminar - Neville Sanjana
DESCRIPTION:
URL:https://csi.nus.edu.sg/event/csi-seminar-neville-sanjana/
END:VEVENT
BEGIN:VEVENT
DTSTART;TZID=UTC:20180208T030000
DTEND;TZID=UTC:20180208T040000
DTSTAMP:20260420T124204
CREATED:20230119T234759Z
LAST-MODIFIED:20230130T035814Z
UID:47790-1518058800-1518062400@csi.nus.edu.sg
SUMMARY:CSI Seminar - George Muscat
DESCRIPTION:
URL:https://csi.nus.edu.sg/event/csi-seminar-george-muscat/
END:VEVENT
BEGIN:VEVENT
DTSTART;TZID=UTC:20180208T070000
DTEND;TZID=UTC:20180208T080000
DTSTAMP:20260420T124204
CREATED:20230119T230027Z
LAST-MODIFIED:20230119T230027Z
UID:47782-1518073200-1518076800@csi.nus.edu.sg
SUMMARY:RNA Biology Centre Meeting - 8 Feb
DESCRIPTION:By Invitation Only\nDate: Thursday\, 8 Feb 2018\nTime: 3pm\nVenue: Level 12 Conference Room\, MD6 \nPresenter: Dr Melissa Fullwood\nTitle: Towards understanding the interplay between RNA and chromatin interactions in leukemia \nAbstract: \nLeukemias demonstrate aberrant gene expression\, with the generation of abnormal long non-coding and coding RNA. Recent findings suggest an interplay between RNA and chromatin interactions – RNA can regulate chromatin interactions and chromatin interactions regulate the genesis of RNA. Here\, we try to get better understanding of chromatin interactions from two aspects: 1) through their association with stretched cis-regulatory elements such as super-enhancers and broad H3K4me3 domains that are important in cell identity maintenance; 2) through predicting chromatin interactions from 1-dimentional epigenetic marks and DNA sequences\, respectively\, and investigate the epigenetic marks and DNA sequence features that are important for accurate prediction. Stretched regulatory elements showed high association with chromatin interactions and can confer higher cell-type specificities of target genes through chromatin interactions. We examined the problems of current state-of-art computational methods for predicting chromatin interactions and demonstrated that chromatin interactions can be accurately predicted from epigenetic marks as well as from pure DNA sequences. In the future\, we hope that this work will be useful in building up a better understanding of the interplay between RNA and chromatin interactions.
URL:https://csi.nus.edu.sg/event/rna-biology-centre-meeting-8-feb/
END:VEVENT
BEGIN:VEVENT
DTSTART;TZID=UTC:20180227T030000
DTEND;TZID=UTC:20180227T040000
DTSTAMP:20260420T124204
CREATED:20230119T235000Z
LAST-MODIFIED:20230119T235000Z
UID:47797-1519700400-1519704000@csi.nus.edu.sg
SUMMARY:RNA Club
DESCRIPTION:Tuesday\, 27 Feb 201811am-12pm\nLevel 12 Conference Room\nCentre for Translational Medicine (MD6)
URL:https://csi.nus.edu.sg/event/rna-club-2/
END:VEVENT
BEGIN:VEVENT
DTSTART;TZID=UTC:20180227T080000
DTEND;TZID=UTC:20180227T090000
DTSTAMP:20260420T124204
CREATED:20230119T235001Z
LAST-MODIFIED:20230130T035753Z
UID:47798-1519718400-1519722000@csi.nus.edu.sg
SUMMARY:RNA Club - 27 Feb
DESCRIPTION:Tuesday\, 27 Feb 2018\n11am-12pm\nLevel 12 Conference Room\nCentre for Translational Medicine (MD6)
URL:https://csi.nus.edu.sg/event/rna-club-27-feb/
END:VEVENT
BEGIN:VEVENT
DTSTART;TZID=UTC:20180301T010000
DTEND;TZID=UTC:20180301T050000
DTSTAMP:20260420T124204
CREATED:20230119T234801Z
LAST-MODIFIED:20230130T035618Z
UID:47794-1519866000-1519880400@csi.nus.edu.sg
SUMMARY:CSI Mini Symposium - Virus-induced Cancers: From Mechanism to Therapy
DESCRIPTION:Click on poster to register!
URL:https://csi.nus.edu.sg/event/csi-mini-symposium-virus-induced-cancers-from-mechanism-to-therapy/
END:VEVENT
BEGIN:VEVENT
DTSTART;TZID=UTC:20180309T020000
DTEND;TZID=UTC:20180309T030000
DTSTAMP:20260420T124204
CREATED:20230119T234959Z
LAST-MODIFIED:20230119T234959Z
UID:47795-1520560800-1520564400@csi.nus.edu.sg
SUMMARY:CSI Seminar - Jun J. Yang
DESCRIPTION:Friday 9 Mar10am – 11am\, LT36 \nPoster to be updated.
URL:https://csi.nus.edu.sg/event/csi-seminar-jun-j-yang/
END:VEVENT
BEGIN:VEVENT
DTSTART;TZID=UTC:20180309T050000
DTEND;TZID=UTC:20180309T063000
DTSTAMP:20260420T124204
CREATED:20230119T225427Z
LAST-MODIFIED:20230130T035212Z
UID:47768-1520571600-1520577000@csi.nus.edu.sg
SUMMARY:CSI Research Meeting - 9 Mar
DESCRIPTION:The CSI State-of-the-Institute address 2018 will commence at 1pm.\nRegular CSI Research Meeting talks as below will start after the State-of-the-Institute address\, followed by refreshments at 2.30pm. \nAll staff and students are encouraged to attend.
URL:https://csi.nus.edu.sg/event/csi-research-meeting-9-mar/
END:VEVENT
BEGIN:VEVENT
DTSTART;TZID=UTC:20180314T080000
DTEND;TZID=UTC:20180314T090000
DTSTAMP:20260420T124204
CREATED:20230119T235000Z
LAST-MODIFIED:20230119T235000Z
UID:47796-1521014400-1521018000@csi.nus.edu.sg
SUMMARY:Singapore RNA Biology Alliance Meeting - 14 Mar
DESCRIPTION:Time: 4PMVenue: Classroom 1\, School of Biological Sciences\, Nanyang Technological University \nMore details to be updated.
URL:https://csi.nus.edu.sg/event/singapore-rna-biology-alliance-meeting-14-mar/
END:VEVENT
BEGIN:VEVENT
DTSTART;TZID=UTC:20180323T050000
DTEND;TZID=UTC:20180323T060000
DTSTAMP:20260420T124204
CREATED:20230119T225428Z
LAST-MODIFIED:20230130T035052Z
UID:47769-1521781200-1521784800@csi.nus.edu.sg
SUMMARY:CSI Research Meeting - 23 Mar
DESCRIPTION:
URL:https://csi.nus.edu.sg/event/csi-research-meeting-23-mar/
END:VEVENT
BEGIN:VEVENT
DTSTART;TZID=UTC:20180326T030000
DTEND;TZID=UTC:20180326T040000
DTSTAMP:20260420T124204
CREATED:20230119T235159Z
LAST-MODIFIED:20230130T034802Z
UID:47801-1522033200-1522036800@csi.nus.edu.sg
SUMMARY:CSI Distinguished Speakers' Series - Robert Roeder
DESCRIPTION:
URL:https://csi.nus.edu.sg/event/csi-distinguished-speakers-series-robert-roeder/
END:VEVENT
BEGIN:VEVENT
DTSTART;TZID=UTC:20180327T030000
DTEND;TZID=UTC:20180327T040000
DTSTAMP:20260420T124204
CREATED:20230119T235200Z
LAST-MODIFIED:20230130T034747Z
UID:47802-1522119600-1522123200@csi.nus.edu.sg
SUMMARY:RNA Club - 27 Mar
DESCRIPTION:
URL:https://csi.nus.edu.sg/event/rna-club-27-mar/
END:VEVENT
BEGIN:VEVENT
DTSTART;TZID=UTC:20180402T070000
DTEND;TZID=UTC:20180402T080000
DTSTAMP:20260420T124204
CREATED:20230119T230027Z
LAST-MODIFIED:20230119T230027Z
UID:47783-1522652400-1522656000@csi.nus.edu.sg
SUMMARY:RNA Biology Centre Meeting - 2 Apr
DESCRIPTION:By Invitation Only\nDate: Monday\, 2 Apr 2018\nTime: 3pm\nVenue: Level 12 Conference Room\, MD6 \nPresenter: Dr Yvonne Tay\nTitle: The non-coding transcriptome in AML \nAbstract: \nAdvances in high-throughput sequencing technologies have enabled the discovery of diverse species of non-coding transcripts\, which play key roles in various cellular processes and are frequently dysregulated in various human diseases. We are currently investigating the potential role that ncRNAs may play in leukemogenesis.
URL:https://csi.nus.edu.sg/event/rna-biology-centre-meeting-2-apr/
END:VEVENT
BEGIN:VEVENT
DTSTART;TZID=UTC:20180403T030000
DTEND;TZID=UTC:20180403T040000
DTSTAMP:20260420T124204
CREATED:20230119T235159Z
LAST-MODIFIED:20230130T034730Z
UID:47800-1522724400-1522728000@csi.nus.edu.sg
SUMMARY:RNA Club - 3 Apr
DESCRIPTION:
URL:https://csi.nus.edu.sg/event/rna-club-3-apr/
END:VEVENT
END:VCALENDAR