BEGIN:VCALENDAR
VERSION:2.0
PRODID:-//NUS CSI - ECPv6.11.0.1//NONSGML v1.0//EN
CALSCALE:GREGORIAN
METHOD:PUBLISH
X-WR-CALNAME:NUS CSI
X-ORIGINAL-URL:https://csi.nus.edu.sg
X-WR-CALDESC:Events for NUS CSI
REFRESH-INTERVAL;VALUE=DURATION:PT1H
X-Robots-Tag:noindex
X-PUBLISHED-TTL:PT1H
BEGIN:VTIMEZONE
TZID:UTC
BEGIN:STANDARD
TZOFFSETFROM:+0000
TZOFFSETTO:+0000
TZNAME:UTC
DTSTART:20160101T000000
END:STANDARD
END:VTIMEZONE
BEGIN:VEVENT
DTSTART;TZID=UTC:20160902T060000
DTEND;TZID=UTC:20160902T070000
DTSTAMP:20260421T102803
CREATED:20230119T224443Z
LAST-MODIFIED:20230130T045616Z
UID:47670-1472796000-1472799600@csi.nus.edu.sg
SUMMARY:CSI Seminar - Yu Qiang
DESCRIPTION:
URL:https://csi.nus.edu.sg/event/csi-seminar-yu-qiang/
END:VEVENT
BEGIN:VEVENT
DTSTART;TZID=UTC:20160907T160000
DTEND;TZID=UTC:20160909T155900
DTSTAMP:20260421T102803
CREATED:20230119T224344Z
LAST-MODIFIED:20230130T045603Z
UID:47652-1473264000-1473436740@csi.nus.edu.sg
SUMMARY:RNA Biology Symposium
DESCRIPTION:Click here for program\n 
URL:https://csi.nus.edu.sg/event/rna-biology-symposium-2/
END:VEVENT
BEGIN:VEVENT
DTSTART;TZID=UTC:20160908T000000
DTEND;TZID=UTC:20160909T090000
DTSTAMP:20260421T102803
CREATED:20230119T224444Z
LAST-MODIFIED:20230130T045551Z
UID:47672-1473292800-1473411600@csi.nus.edu.sg
SUMMARY:RNA Biology Symposium
DESCRIPTION:
URL:https://csi.nus.edu.sg/event/rna-biology-symposium-3/
END:VEVENT
BEGIN:VEVENT
DTSTART;TZID=UTC:20160923T040000
DTEND;TZID=UTC:20160923T050000
DTSTAMP:20260421T102803
CREATED:20230119T224430Z
LAST-MODIFIED:20230130T045531Z
UID:47669-1474603200-1474606800@csi.nus.edu.sg
SUMMARY:CSI Research Meeting - 23 Sep
DESCRIPTION:
URL:https://csi.nus.edu.sg/event/csi-research-meeting-23-sep/
END:VEVENT
BEGIN:VEVENT
DTSTART;TZID=UTC:20160930T010000
DTEND;TZID=UTC:20160930T050000
DTSTAMP:20260421T102803
CREATED:20230119T224444Z
LAST-MODIFIED:20230130T045519Z
UID:47671-1475197200-1475211600@csi.nus.edu.sg
SUMMARY:CSI Open House 2016
DESCRIPTION:Registration for this event has CLOSED.For queries\, please email csi_gradprog@nus.edu.sg
URL:https://csi.nus.edu.sg/event/csi-open-house-2016/
END:VEVENT
BEGIN:VEVENT
DTSTART;TZID=UTC:20161003T080000
DTEND;TZID=UTC:20161003T090000
DTSTAMP:20260421T102803
CREATED:20230119T224458Z
LAST-MODIFIED:20230130T045107Z
UID:47675-1475481600-1475485200@csi.nus.edu.sg
SUMMARY:CSI Seminar - Samuel Sidi
DESCRIPTION:
URL:https://csi.nus.edu.sg/event/csi-seminar-samuel-sidi/
END:VEVENT
BEGIN:VEVENT
DTSTART;TZID=UTC:20161005T030000
DTEND;TZID=UTC:20161005T040000
DTSTAMP:20260421T102803
CREATED:20230119T224459Z
LAST-MODIFIED:20230119T224459Z
UID:47677-1475636400-1475640000@csi.nus.edu.sg
SUMMARY:CSI Distinguished Speakers' Series - Prof Ashok Venkitaraman
DESCRIPTION:
URL:https://csi.nus.edu.sg/event/csi-distinguished-speakers-series-prof-ashok-venkitaraman/
END:VEVENT
BEGIN:VEVENT
DTSTART;TZID=UTC:20161007T040000
DTEND;TZID=UTC:20161007T050000
DTSTAMP:20260421T102803
CREATED:20230119T224445Z
LAST-MODIFIED:20230130T045046Z
UID:47673-1475812800-1475816400@csi.nus.edu.sg
SUMMARY:CSI Research Meeting - 7 Oct
DESCRIPTION:
URL:https://csi.nus.edu.sg/event/csi-research-meeting-7-oct/
END:VEVENT
BEGIN:VEVENT
DTSTART;TZID=UTC:20161010T020000
DTEND;TZID=UTC:20161010T030000
DTSTAMP:20260421T102803
CREATED:20230119T224459Z
LAST-MODIFIED:20230130T045028Z
UID:47676-1476064800-1476068400@csi.nus.edu.sg
SUMMARY:CSI Distinguished Speakers' Series - Prof A. Thomas Look
DESCRIPTION:
URL:https://csi.nus.edu.sg/event/csi-distinguished-speakers-series-prof-a-thomas-look/
END:VEVENT
BEGIN:VEVENT
DTSTART;TZID=UTC:20161021T040000
DTEND;TZID=UTC:20161021T050000
DTSTAMP:20260421T102803
CREATED:20230119T224445Z
LAST-MODIFIED:20230130T045011Z
UID:47674-1477022400-1477026000@csi.nus.edu.sg
SUMMARY:CSI Research Meeting - 21 Oct
DESCRIPTION:
URL:https://csi.nus.edu.sg/event/csi-research-meeting-21-oct/
END:VEVENT
BEGIN:VEVENT
DTSTART;TZID=UTC:20161102T010000
DTEND;TZID=UTC:20161102T040000
DTSTAMP:20260421T102803
CREATED:20230119T224500Z
LAST-MODIFIED:20230130T044851Z
UID:47678-1478048400-1478059200@csi.nus.edu.sg
SUMMARY:CSI Seminar Series
DESCRIPTION:
URL:https://csi.nus.edu.sg/event/csi-seminar-series/
END:VEVENT
BEGIN:VEVENT
DTSTART;TZID=UTC:20161103T030000
DTEND;TZID=UTC:20161103T040000
DTSTAMP:20260421T102803
CREATED:20230119T224659Z
LAST-MODIFIED:20230130T044817Z
UID:47717-1478142000-1478145600@csi.nus.edu.sg
SUMMARY:RNA Club - Edvard Smith
DESCRIPTION:
URL:https://csi.nus.edu.sg/event/rna-club-edvard-smith/
END:VEVENT
BEGIN:VEVENT
DTSTART;TZID=UTC:20161106T160000
DTEND;TZID=UTC:20161109T155900
DTSTAMP:20260421T102803
CREATED:20230119T224330Z
LAST-MODIFIED:20230130T044804Z
UID:47649-1478448000-1478707140@csi.nus.edu.sg
SUMMARY:Frontiers in Cancer Science 2016
DESCRIPTION:
URL:https://csi.nus.edu.sg/event/frontiers-in-cancer-science-2016/
END:VEVENT
BEGIN:VEVENT
DTSTART;TZID=UTC:20161118T040000
DTEND;TZID=UTC:20161118T050000
DTSTAMP:20260421T102803
CREATED:20230119T224513Z
LAST-MODIFIED:20230119T224513Z
UID:47680-1479441600-1479445200@csi.nus.edu.sg
SUMMARY:CSI Research Meeting - 18 Nov
DESCRIPTION:To be updated
URL:https://csi.nus.edu.sg/event/csi-research-meeting-18-nov/
END:VEVENT
BEGIN:VEVENT
DTSTART;TZID=UTC:20161123T080000
DTEND;TZID=UTC:20161123T090000
DTSTAMP:20260421T102803
CREATED:20230119T224500Z
LAST-MODIFIED:20230130T044746Z
UID:47679-1479888000-1479891600@csi.nus.edu.sg
SUMMARY:CSI Seminar - Ichiro Taniuchi
DESCRIPTION:
URL:https://csi.nus.edu.sg/event/csi-seminar-ichiro-taniuchi/
END:VEVENT
BEGIN:VEVENT
DTSTART;TZID=UTC:20161207T020000
DTEND;TZID=UTC:20161207T030000
DTSTAMP:20260421T102803
CREATED:20230119T224514Z
LAST-MODIFIED:20230119T224514Z
UID:47681-1481076000-1481079600@csi.nus.edu.sg
SUMMARY:CSI Seminar - Zhu Bing
DESCRIPTION:To be updated
URL:https://csi.nus.edu.sg/event/csi-seminar-zhu-bing/
END:VEVENT
BEGIN:VEVENT
DTSTART;TZID=UTC:20170103T080000
DTEND;TZID=UTC:20170103T090000
DTSTAMP:20260421T102803
CREATED:20230119T224528Z
LAST-MODIFIED:20230130T044708Z
UID:47685-1483430400-1483434000@csi.nus.edu.sg
SUMMARY:CSI Seminar - Yoichi Shinkai
DESCRIPTION:
URL:https://csi.nus.edu.sg/event/csi-seminar-yoichi-shinkai/
END:VEVENT
BEGIN:VEVENT
DTSTART;TZID=UTC:20170109T023000
DTEND;TZID=UTC:20170109T033000
DTSTAMP:20260421T102803
CREATED:20230119T224529Z
LAST-MODIFIED:20230119T224529Z
UID:47686-1483929000-1483932600@csi.nus.edu.sg
SUMMARY:CSI Seminar - Par Nordlund
DESCRIPTION:To be updated
URL:https://csi.nus.edu.sg/event/csi-seminar-par-nordlund/
END:VEVENT
BEGIN:VEVENT
DTSTART;TZID=UTC:20170110T010000
DTEND;TZID=UTC:20170111T090000
DTSTAMP:20260421T102803
CREATED:20230119T224530Z
LAST-MODIFIED:20230130T044651Z
UID:47689-1484010000-1484125200@csi.nus.edu.sg
SUMMARY:NUS-Keio Joint Scientific Symposium
DESCRIPTION:Register here!\nDownload and view event program here. \n \n 
URL:https://csi.nus.edu.sg/event/nus-keio-joint-scientific-symposium/
END:VEVENT
BEGIN:VEVENT
DTSTART;TZID=UTC:20170113T040000
DTEND;TZID=UTC:20170113T050000
DTSTAMP:20260421T102803
CREATED:20230119T224514Z
LAST-MODIFIED:20230130T044548Z
UID:47682-1484280000-1484283600@csi.nus.edu.sg
SUMMARY:CSI Research Meeting - 13 Jan
DESCRIPTION:
URL:https://csi.nus.edu.sg/event/csi-research-meeting-13-jan/
END:VEVENT
BEGIN:VEVENT
DTSTART;TZID=UTC:20170116T023000
DTEND;TZID=UTC:20170116T033000
DTSTAMP:20260421T102803
CREATED:20230119T224529Z
LAST-MODIFIED:20230130T044531Z
UID:47687-1484533800-1484537400@csi.nus.edu.sg
SUMMARY:CSI Seminar - Ross Levine
DESCRIPTION:
URL:https://csi.nus.edu.sg/event/csi-seminar-ross-levine/
END:VEVENT
BEGIN:VEVENT
DTSTART;TZID=UTC:20170116T060000
DTEND;TZID=UTC:20170116T090000
DTSTAMP:20260421T102803
CREATED:20230119T224530Z
LAST-MODIFIED:20230130T044448Z
UID:47688-1484546400-1484557200@csi.nus.edu.sg
SUMMARY:Singapore RNA Biology Alliance Inaugural Meeting
DESCRIPTION:More information here: https://srba-rna.org/ 
URL:https://csi.nus.edu.sg/event/singapore-rna-biology-alliance-inaugural-meeting/
END:VEVENT
BEGIN:VEVENT
DTSTART;TZID=UTC:20170124T020000
DTEND;TZID=UTC:20170124T150000
DTSTAMP:20260421T102803
CREATED:20230119T224544Z
LAST-MODIFIED:20230119T224544Z
UID:47693-1485223200-1485270000@csi.nus.edu.sg
SUMMARY:BOCA Pow-Wow
DESCRIPTION:Breast and Ovarian Cancers (BOCA) Pow-Wow\nDay/Date: Tuesday\, 24 January 2017 \nTime: 10am-11am \nVenue\, #01-01A Learning Room\, Level 1\, MD6 \n  \nSpeakers: \n\nShreya Kar – PhD Student\, Dr Alan Prem Kumar’s Group\n\n\nPoh Han Ming – PhD Student\, Prof Peter Lobie’s Group
URL:https://csi.nus.edu.sg/event/boca-pow-wow/
END:VEVENT
BEGIN:VEVENT
DTSTART;TZID=UTC:20170210T000000
DTEND;TZID=UTC:20170327T090000
DTSTAMP:20260421T102803
CREATED:20230119T224544Z
LAST-MODIFIED:20230130T044422Z
UID:47692-1486684800-1490605200@csi.nus.edu.sg
SUMMARY:CSI-ENS Bioinformatics Workshop
DESCRIPTION:Registration is CLOSED.\nClick here for program
URL:https://csi.nus.edu.sg/event/csi-ens-bioinformatics-workshop/
END:VEVENT
BEGIN:VEVENT
DTSTART;TZID=UTC:20170210T030000
DTEND;TZID=UTC:20170210T040000
DTSTAMP:20260421T102803
CREATED:20230119T224545Z
LAST-MODIFIED:20230130T044350Z
UID:47694-1486695600-1486699200@csi.nus.edu.sg
SUMMARY:RNA Club
DESCRIPTION:
URL:https://csi.nus.edu.sg/event/rna-club/
END:VEVENT
BEGIN:VEVENT
DTSTART;TZID=UTC:20170216T080000
DTEND;TZID=UTC:20170216T090000
DTSTAMP:20260421T102803
CREATED:20230119T224600Z
LAST-MODIFIED:20230119T224600Z
UID:47698-1487232000-1487235600@csi.nus.edu.sg
SUMMARY:Bioinformatics Club
DESCRIPTION:Bioinformatics Club\nVenue: Level 12 Conference Room \nTime: 16 Feb 2017\, 4pm \nSpeaker: Samuel Collombet \nDeciphering the regulatory network controlling blood cell specification through ChiP-seq meta-analysis and dynamical modelling \nAbstract:\nBlood cells arise from a common set of hematopoietic stem cells that differentiate into more specific progenitors\, ultimately leading to different functional lineages. This process relies on the activation and repression of different genes modules\, controlled by transcription factors (TFs). Novel high-throughput technologies allow the identification of cell-specific regulatory elements by characterising chromatin states and TFs binding sites\, in conjunction with gene expression profiling. Proper integration and analysis of these data enable the delineation of novel regulatory interactions\, which can be modelled and analysed using formal methods\, thereby fostering our understanding of the mechanisms controlling cell fate at a system level\, and enabling the prediction of the effects of molecular perturbations in silico. Combining public and novel data from molecular genetic experiments (qPCR\, western blot\, EMSA) or genome-wide assays (RNA-seq\, ChIP-seq)\, we have assembled a comprehensive regulatory network encompassing the main transcription factors and signalling components involved in myeloid and lymphoid lineage development. Using a multilevel logical framework\, we built a dynamical model allowing us to simulate cells differentiation\, commitment and reprogramming in silico. To improve the accuracy of our model\, we performed a meta-analysis of available TF ChIP-seq datasets for myeloid and lymphoid cells\, confirming previously known regulations or confirming new ones (26 confirmed and 66 predicted regulations). We then iteratively included some predicted regulations in our model\, performed static or dynamical analysis (stables states analysis or differentiation/reprogramming simulations)\, and compared the results with gene expression data and phenotypes. This approach enabled us to predict several important\, previously unknown regulations\, which were further confirmed experimentally. Finally we used our model to delineate novel trans-differentiation protocols that can be tested experimentally.
URL:https://csi.nus.edu.sg/event/bioinformatics-club/
END:VEVENT
BEGIN:VEVENT
DTSTART;TZID=UTC:20170217T040000
DTEND;TZID=UTC:20170217T050000
DTSTAMP:20260421T102803
CREATED:20230119T224515Z
LAST-MODIFIED:20230130T044314Z
UID:47683-1487304000-1487307600@csi.nus.edu.sg
SUMMARY:CSI Research Meeting - 17 Feb
DESCRIPTION:
URL:https://csi.nus.edu.sg/event/csi-research-meeting-17-feb/
END:VEVENT
BEGIN:VEVENT
DTSTART;TZID=UTC:20170220T030000
DTEND;TZID=UTC:20170220T040000
DTSTAMP:20260421T102803
CREATED:20230119T224601Z
LAST-MODIFIED:20230130T044251Z
UID:47699-1487559600-1487563200@csi.nus.edu.sg
SUMMARY:CSI Seminar - Jerry Workman
DESCRIPTION:
URL:https://csi.nus.edu.sg/event/csi-seminar-jerry-workman/
END:VEVENT
BEGIN:VEVENT
DTSTART;TZID=UTC:20170221T030000
DTEND;TZID=UTC:20170221T040000
DTSTAMP:20260421T102803
CREATED:20230119T224559Z
LAST-MODIFIED:20230130T044232Z
UID:47696-1487646000-1487649600@csi.nus.edu.sg
SUMMARY:CSI Seminar - Daan Noordermeer
DESCRIPTION:
URL:https://csi.nus.edu.sg/event/csi-seminar-daan-noordermeer/
END:VEVENT
BEGIN:VEVENT
DTSTART;TZID=UTC:20170302T060000
DTEND;TZID=UTC:20170302T070000
DTSTAMP:20260421T102803
CREATED:20230119T224613Z
LAST-MODIFIED:20230119T224613Z
UID:47700-1488434400-1488438000@csi.nus.edu.sg
SUMMARY:RNA Biology Centre Meeting
DESCRIPTION:By Invitation Only\nDate: Thur\, 2 Mar 2017\nTime: 2pm\nVenue: Level 12 Conference Room\, MD6 \nTakaomi Sanda’s group will present their progress in the sub-project: “Identification of a Novel long Non-Coding RNA Regulated by the TAL1 Transcriptional Complex in T-cell Acute Lymphoblastic Leukemia”.
URL:https://csi.nus.edu.sg/event/rna-biology-centre-meeting/
END:VEVENT
END:VCALENDAR