BEGIN:VCALENDAR
VERSION:2.0
PRODID:-//NUS CSI - ECPv6.11.0.1//NONSGML v1.0//EN
CALSCALE:GREGORIAN
METHOD:PUBLISH
X-WR-CALNAME:NUS CSI
X-ORIGINAL-URL:https://csi.nus.edu.sg
X-WR-CALDESC:Events for NUS CSI
REFRESH-INTERVAL;VALUE=DURATION:PT1H
X-Robots-Tag:noindex
X-PUBLISHED-TTL:PT1H
BEGIN:VTIMEZONE
TZID:UTC
BEGIN:STANDARD
TZOFFSETFROM:+0000
TZOFFSETTO:+0000
TZNAME:UTC
DTSTART:20160101T000000
END:STANDARD
END:VTIMEZONE
BEGIN:VEVENT
DTSTART;TZID=UTC:20160407T030000
DTEND;TZID=UTC:20160407T040000
DTSTAMP:20260420T135636
CREATED:20230119T224414Z
LAST-MODIFIED:20230130T052108Z
UID:47662-1459998000-1460001600@csi.nus.edu.sg
SUMMARY:CSI Distinguished Speakers' Series - Prof Xin Lu
DESCRIPTION:
URL:https://csi.nus.edu.sg/event/csi-distinguished-speakers-series-prof-xin-lu/
END:VEVENT
BEGIN:VEVENT
DTSTART;TZID=UTC:20160408T040000
DTEND;TZID=UTC:20160408T050000
DTSTAMP:20260420T135636
CREATED:20230119T224345Z
LAST-MODIFIED:20230130T052111Z
UID:47654-1460088000-1460091600@csi.nus.edu.sg
SUMMARY:CSI Research Meeting - 8 April
DESCRIPTION:
URL:https://csi.nus.edu.sg/event/csi-research-meeting-8-april/
END:VEVENT
BEGIN:VEVENT
DTSTART;TZID=UTC:20160412T030000
DTEND;TZID=UTC:20160412T040000
DTSTAMP:20260420T135636
CREATED:20230119T224700Z
LAST-MODIFIED:20230130T051622Z
UID:47718-1460430000-1460433600@csi.nus.edu.sg
SUMMARY:RNA Club - Qidong Hu
DESCRIPTION:
URL:https://csi.nus.edu.sg/event/rna-club-qidong-hu/
END:VEVENT
BEGIN:VEVENT
DTSTART;TZID=UTC:20160419T060000
DTEND;TZID=UTC:20160419T080000
DTSTAMP:20260420T135636
CREATED:20230119T224415Z
LAST-MODIFIED:20230130T051612Z
UID:47663-1461045600-1461052800@csi.nus.edu.sg
SUMMARY:CSI Seminar - Technology Driven Assay Development
DESCRIPTION:
URL:https://csi.nus.edu.sg/event/csi-seminar-technology-driven-assay-development/
END:VEVENT
BEGIN:VEVENT
DTSTART;TZID=UTC:20160422T040000
DTEND;TZID=UTC:20160422T050000
DTSTAMP:20260420T135636
CREATED:20230119T224358Z
LAST-MODIFIED:20230130T051517Z
UID:47655-1461297600-1461301200@csi.nus.edu.sg
SUMMARY:CSI Research Meeting - 22 April
DESCRIPTION:
URL:https://csi.nus.edu.sg/event/csi-research-meeting-22-april/
END:VEVENT
BEGIN:VEVENT
DTSTART;TZID=UTC:20160511T020000
DTEND;TZID=UTC:20160511T150000
DTSTAMP:20260420T135636
CREATED:20230119T224415Z
LAST-MODIFIED:20230130T051438Z
UID:47664-1462932000-1462978800@csi.nus.edu.sg
SUMMARY:CSI Seminar - Mounia Beloueche-Babari
DESCRIPTION:
URL:https://csi.nus.edu.sg/event/csi-seminar-mounia-beloueche-babari/
END:VEVENT
BEGIN:VEVENT
DTSTART;TZID=UTC:20160513T040000
DTEND;TZID=UTC:20160513T050000
DTSTAMP:20260420T135636
CREATED:20230119T224358Z
LAST-MODIFIED:20230130T051137Z
UID:47656-1463112000-1463115600@csi.nus.edu.sg
SUMMARY:CSI Research Meeting - 13 May
DESCRIPTION:
URL:https://csi.nus.edu.sg/event/csi-research-meeting-13-may/
END:VEVENT
BEGIN:VEVENT
DTSTART;TZID=UTC:20160527T040000
DTEND;TZID=UTC:20160527T050000
DTSTAMP:20260420T135636
CREATED:20230119T224359Z
LAST-MODIFIED:20230130T051050Z
UID:47657-1464321600-1464325200@csi.nus.edu.sg
SUMMARY:CSI Research Meeting - 27 May
DESCRIPTION:
URL:https://csi.nus.edu.sg/event/csi-research-meeting-27-may/
END:VEVENT
BEGIN:VEVENT
DTSTART;TZID=UTC:20160607T030000
DTEND;TZID=UTC:20160607T040000
DTSTAMP:20260420T135636
CREATED:20230119T224715Z
LAST-MODIFIED:20230130T051027Z
UID:47723-1465268400-1465272000@csi.nus.edu.sg
SUMMARY:RNA Club - Volker Patzel
DESCRIPTION:
URL:https://csi.nus.edu.sg/event/rna-club-volker-patzel/
END:VEVENT
BEGIN:VEVENT
DTSTART;TZID=UTC:20160610T040000
DTEND;TZID=UTC:20160610T050000
DTSTAMP:20260420T135636
CREATED:20230119T224343Z
LAST-MODIFIED:20230130T051018Z
UID:47650-1465531200-1465534800@csi.nus.edu.sg
SUMMARY:CSI Research Meeting - 10 June
DESCRIPTION:
URL:https://csi.nus.edu.sg/event/csi-research-meeting-10-june/
END:VEVENT
BEGIN:VEVENT
DTSTART;TZID=UTC:20160610T063000
DTEND;TZID=UTC:20160610T073000
DTSTAMP:20260420T135636
CREATED:20230119T224429Z
LAST-MODIFIED:20230130T051002Z
UID:47666-1465540200-1465543800@csi.nus.edu.sg
SUMMARY:CSI Seminar - Ulf Gyllensten
DESCRIPTION:
URL:https://csi.nus.edu.sg/event/csi-seminar-ulf-gyllensten/
END:VEVENT
BEGIN:VEVENT
DTSTART;TZID=UTC:20160614T023000
DTEND;TZID=UTC:20160614T033000
DTSTAMP:20260420T135636
CREATED:20230119T224343Z
LAST-MODIFIED:20230130T050546Z
UID:47651-1465871400-1465875000@csi.nus.edu.sg
SUMMARY:CSI Seminar - Tan Soo Yong
DESCRIPTION:
URL:https://csi.nus.edu.sg/event/csi-seminar-tan-soo-yong/
END:VEVENT
BEGIN:VEVENT
DTSTART;TZID=UTC:20160624T040000
DTEND;TZID=UTC:20160624T050000
DTSTAMP:20260420T135636
CREATED:20230119T224359Z
LAST-MODIFIED:20230130T050514Z
UID:47658-1466740800-1466744400@csi.nus.edu.sg
SUMMARY:CSI Research Meeting - 24 June
DESCRIPTION:
URL:https://csi.nus.edu.sg/event/csi-research-meeting-24-june/
END:VEVENT
BEGIN:VEVENT
DTSTART;TZID=UTC:20160708T040000
DTEND;TZID=UTC:20160708T050000
DTSTAMP:20260420T135636
CREATED:20230119T224400Z
LAST-MODIFIED:20230130T050434Z
UID:47659-1467950400-1467954000@csi.nus.edu.sg
SUMMARY:CSI Research Meeting - 8 July
DESCRIPTION:Buffet set-up at Level 3 Foyer is not allowed. Thus\, kindly proceed to Level 1 Foyer for refreshments after the Research Meeting.
URL:https://csi.nus.edu.sg/event/csi-research-meeting-8-july/
END:VEVENT
BEGIN:VEVENT
DTSTART;TZID=UTC:20160718T030000
DTEND;TZID=UTC:20160718T040000
DTSTAMP:20260420T135636
CREATED:20230119T224428Z
LAST-MODIFIED:20230130T045916Z
UID:47665-1468810800-1468814400@csi.nus.edu.sg
SUMMARY:CSI Seminar - Megan Frisk
DESCRIPTION:
URL:https://csi.nus.edu.sg/event/csi-seminar-megan-frisk/
END:VEVENT
BEGIN:VEVENT
DTSTART;TZID=UTC:20160724T160000
DTEND;TZID=UTC:20160725T155900
DTSTAMP:20260420T135636
CREATED:20230119T224344Z
LAST-MODIFIED:20230130T045904Z
UID:47653-1469376000-1469462340@csi.nus.edu.sg
SUMMARY:CSI-NCIS Lung Cancer Symposium 2016
DESCRIPTION:.Register HERE now! \n. \n\n\n  \n\n\n\n\nSPONSORS:\n\n\n\n\n——–\n\n\n\n\n\n  \n\n\n  \n\n  \n\n\n\n\n\n  \n  \n  \n 
URL:https://csi.nus.edu.sg/event/csi-ncis-lung-cancer-symposium-2016/
END:VEVENT
BEGIN:VEVENT
DTSTART;TZID=UTC:20160804T030000
DTEND;TZID=UTC:20160804T040000
DTSTAMP:20260420T135636
CREATED:20230119T224714Z
LAST-MODIFIED:20230130T045653Z
UID:47722-1470279600-1470283200@csi.nus.edu.sg
SUMMARY:RNA Club - Sun Lei
DESCRIPTION:
URL:https://csi.nus.edu.sg/event/rna-club-sun-lei/
END:VEVENT
BEGIN:VEVENT
DTSTART;TZID=UTC:20160805T040000
DTEND;TZID=UTC:20160805T050000
DTSTAMP:20260420T135636
CREATED:20230119T224429Z
LAST-MODIFIED:20230130T045641Z
UID:47667-1470369600-1470373200@csi.nus.edu.sg
SUMMARY:CSI Research Meeting - 5 Aug
DESCRIPTION:
URL:https://csi.nus.edu.sg/event/csi-research-meeting-5-aug/
END:VEVENT
BEGIN:VEVENT
DTSTART;TZID=UTC:20160819T040000
DTEND;TZID=UTC:20160819T050000
DTSTAMP:20260420T135636
CREATED:20230119T224430Z
LAST-MODIFIED:20230130T045629Z
UID:47668-1471579200-1471582800@csi.nus.edu.sg
SUMMARY:CSI Research Meeting - 19 Aug
DESCRIPTION:
URL:https://csi.nus.edu.sg/event/csi-research-meeting-19-aug/
END:VEVENT
BEGIN:VEVENT
DTSTART;TZID=UTC:20160902T060000
DTEND;TZID=UTC:20160902T070000
DTSTAMP:20260420T135636
CREATED:20230119T224443Z
LAST-MODIFIED:20230130T045616Z
UID:47670-1472796000-1472799600@csi.nus.edu.sg
SUMMARY:CSI Seminar - Yu Qiang
DESCRIPTION:
URL:https://csi.nus.edu.sg/event/csi-seminar-yu-qiang/
END:VEVENT
BEGIN:VEVENT
DTSTART;TZID=UTC:20160907T160000
DTEND;TZID=UTC:20160909T155900
DTSTAMP:20260420T135636
CREATED:20230119T224344Z
LAST-MODIFIED:20230130T045603Z
UID:47652-1473264000-1473436740@csi.nus.edu.sg
SUMMARY:RNA Biology Symposium
DESCRIPTION:Click here for program\n 
URL:https://csi.nus.edu.sg/event/rna-biology-symposium-2/
END:VEVENT
BEGIN:VEVENT
DTSTART;TZID=UTC:20160908T000000
DTEND;TZID=UTC:20160909T090000
DTSTAMP:20260420T135636
CREATED:20230119T224444Z
LAST-MODIFIED:20230130T045551Z
UID:47672-1473292800-1473411600@csi.nus.edu.sg
SUMMARY:RNA Biology Symposium
DESCRIPTION:
URL:https://csi.nus.edu.sg/event/rna-biology-symposium-3/
END:VEVENT
BEGIN:VEVENT
DTSTART;TZID=UTC:20160923T040000
DTEND;TZID=UTC:20160923T050000
DTSTAMP:20260420T135636
CREATED:20230119T224430Z
LAST-MODIFIED:20230130T045531Z
UID:47669-1474603200-1474606800@csi.nus.edu.sg
SUMMARY:CSI Research Meeting - 23 Sep
DESCRIPTION:
URL:https://csi.nus.edu.sg/event/csi-research-meeting-23-sep/
END:VEVENT
BEGIN:VEVENT
DTSTART;TZID=UTC:20160930T010000
DTEND;TZID=UTC:20160930T050000
DTSTAMP:20260420T135636
CREATED:20230119T224444Z
LAST-MODIFIED:20230130T045519Z
UID:47671-1475197200-1475211600@csi.nus.edu.sg
SUMMARY:CSI Open House 2016
DESCRIPTION:Registration for this event has CLOSED.For queries\, please email csi_gradprog@nus.edu.sg
URL:https://csi.nus.edu.sg/event/csi-open-house-2016/
END:VEVENT
BEGIN:VEVENT
DTSTART;TZID=UTC:20161003T080000
DTEND;TZID=UTC:20161003T090000
DTSTAMP:20260420T135636
CREATED:20230119T224458Z
LAST-MODIFIED:20230130T045107Z
UID:47675-1475481600-1475485200@csi.nus.edu.sg
SUMMARY:CSI Seminar - Samuel Sidi
DESCRIPTION:
URL:https://csi.nus.edu.sg/event/csi-seminar-samuel-sidi/
END:VEVENT
BEGIN:VEVENT
DTSTART;TZID=UTC:20161005T030000
DTEND;TZID=UTC:20161005T040000
DTSTAMP:20260420T135636
CREATED:20230119T224459Z
LAST-MODIFIED:20230119T224459Z
UID:47677-1475636400-1475640000@csi.nus.edu.sg
SUMMARY:CSI Distinguished Speakers' Series - Prof Ashok Venkitaraman
DESCRIPTION:
URL:https://csi.nus.edu.sg/event/csi-distinguished-speakers-series-prof-ashok-venkitaraman/
END:VEVENT
BEGIN:VEVENT
DTSTART;TZID=UTC:20161007T040000
DTEND;TZID=UTC:20161007T050000
DTSTAMP:20260420T135636
CREATED:20230119T224445Z
LAST-MODIFIED:20230130T045046Z
UID:47673-1475812800-1475816400@csi.nus.edu.sg
SUMMARY:CSI Research Meeting - 7 Oct
DESCRIPTION:
URL:https://csi.nus.edu.sg/event/csi-research-meeting-7-oct/
END:VEVENT
BEGIN:VEVENT
DTSTART;TZID=UTC:20161010T020000
DTEND;TZID=UTC:20161010T030000
DTSTAMP:20260420T135636
CREATED:20230119T224459Z
LAST-MODIFIED:20230130T045028Z
UID:47676-1476064800-1476068400@csi.nus.edu.sg
SUMMARY:CSI Distinguished Speakers' Series - Prof A. Thomas Look
DESCRIPTION:
URL:https://csi.nus.edu.sg/event/csi-distinguished-speakers-series-prof-a-thomas-look/
END:VEVENT
BEGIN:VEVENT
DTSTART;TZID=UTC:20161021T040000
DTEND;TZID=UTC:20161021T050000
DTSTAMP:20260420T135636
CREATED:20230119T224445Z
LAST-MODIFIED:20230130T045011Z
UID:47674-1477022400-1477026000@csi.nus.edu.sg
SUMMARY:CSI Research Meeting - 21 Oct
DESCRIPTION:
URL:https://csi.nus.edu.sg/event/csi-research-meeting-21-oct/
END:VEVENT
BEGIN:VEVENT
DTSTART;TZID=UTC:20161102T010000
DTEND;TZID=UTC:20161102T040000
DTSTAMP:20260420T135636
CREATED:20230119T224500Z
LAST-MODIFIED:20230130T044851Z
UID:47678-1478048400-1478059200@csi.nus.edu.sg
SUMMARY:CSI Seminar Series
DESCRIPTION:
URL:https://csi.nus.edu.sg/event/csi-seminar-series/
END:VEVENT
END:VCALENDAR