BEGIN:VCALENDAR
VERSION:2.0
PRODID:-//NUS CSI - ECPv6.11.0.1//NONSGML v1.0//EN
CALSCALE:GREGORIAN
METHOD:PUBLISH
X-WR-CALNAME:NUS CSI
X-ORIGINAL-URL:https://csi.nus.edu.sg
X-WR-CALDESC:Events for NUS CSI
REFRESH-INTERVAL;VALUE=DURATION:PT1H
X-Robots-Tag:noindex
X-PUBLISHED-TTL:PT1H
BEGIN:VTIMEZONE
TZID:UTC
BEGIN:STANDARD
TZOFFSETFROM:+0000
TZOFFSETTO:+0000
TZNAME:UTC
DTSTART:20160101T000000
END:STANDARD
END:VTIMEZONE
BEGIN:VEVENT
DTSTART;TZID=UTC:20160108T040000
DTEND;TZID=UTC:20160108T050000
DTSTAMP:20260421T071013
CREATED:20230119T224328Z
LAST-MODIFIED:20230130T054041Z
UID:47645-1452225600-1452229200@csi.nus.edu.sg
SUMMARY:CSI Research Meeting - 8 January
DESCRIPTION:
URL:https://csi.nus.edu.sg/event/csi-research-meeting-8-january/
END:VEVENT
BEGIN:VEVENT
DTSTART;TZID=UTC:20160111T030000
DTEND;TZID=UTC:20160111T040000
DTSTAMP:20260421T071013
CREATED:20230119T224700Z
LAST-MODIFIED:20230130T054005Z
UID:47719-1452481200-1452484800@csi.nus.edu.sg
SUMMARY:RNA Club - Kevin White
DESCRIPTION:
URL:https://csi.nus.edu.sg/event/rna-club-kevin-white/
END:VEVENT
BEGIN:VEVENT
DTSTART;TZID=UTC:20160112T030000
DTEND;TZID=UTC:20160112T040000
DTSTAMP:20260421T071013
CREATED:20230119T224315Z
LAST-MODIFIED:20230130T053938Z
UID:47644-1452567600-1452571200@csi.nus.edu.sg
SUMMARY:CSI Seminar - Prof. Kazuko Nishikura
DESCRIPTION:
URL:https://csi.nus.edu.sg/event/csi-seminar-prof-kazuko-nishikura/
END:VEVENT
BEGIN:VEVENT
DTSTART;TZID=UTC:20160113T060000
DTEND;TZID=UTC:20160113T070000
DTSTAMP:20260421T071013
CREATED:20230119T224329Z
LAST-MODIFIED:20230130T053945Z
UID:47646-1452664800-1452668400@csi.nus.edu.sg
SUMMARY:CSI Seminar - Prof Andreas Trumpp
DESCRIPTION:
URL:https://csi.nus.edu.sg/event/csi-seminar-prof-andreas-trumpp/
END:VEVENT
BEGIN:VEVENT
DTSTART;TZID=UTC:20160113T160000
DTEND;TZID=UTC:20160116T155900
DTSTAMP:20260421T071013
CREATED:20230119T224300Z
LAST-MODIFIED:20230130T053135Z
UID:47638-1452700800-1452959940@csi.nus.edu.sg
SUMMARY:JSPS-NUS Joint Symposium 2016
DESCRIPTION: Registration for this event has closed.
URL:https://csi.nus.edu.sg/event/jsps-nus-joint-symposium-2016/
END:VEVENT
BEGIN:VEVENT
DTSTART;TZID=UTC:20160122T040000
DTEND;TZID=UTC:20160122T050000
DTSTAMP:20260421T071013
CREATED:20230119T224244Z
LAST-MODIFIED:20230130T053034Z
UID:47632-1453435200-1453438800@csi.nus.edu.sg
SUMMARY:CSI Research Meeting - 22 January
DESCRIPTION:
URL:https://csi.nus.edu.sg/event/csi-research-meeting-22-january/
END:VEVENT
BEGIN:VEVENT
DTSTART;TZID=UTC:20160126T030000
DTEND;TZID=UTC:20160126T040000
DTSTAMP:20260421T071013
CREATED:20230119T224329Z
LAST-MODIFIED:20230130T053012Z
UID:47648-1453777200-1453780800@csi.nus.edu.sg
SUMMARY:CSI Seminar - Dr Elizabeth McKenna
DESCRIPTION:
URL:https://csi.nus.edu.sg/event/csi-seminar-dr-elizabeth-mckenna/
END:VEVENT
BEGIN:VEVENT
DTSTART;TZID=UTC:20160202T030000
DTEND;TZID=UTC:20160202T040000
DTSTAMP:20260421T071013
CREATED:20230119T224713Z
LAST-MODIFIED:20230130T052730Z
UID:47720-1454382000-1454385600@csi.nus.edu.sg
SUMMARY:RNA Club -Lena Ho
DESCRIPTION:
URL:https://csi.nus.edu.sg/event/rna-club-lena-ho/
END:VEVENT
BEGIN:VEVENT
DTSTART;TZID=UTC:20160204T070000
DTEND;TZID=UTC:20160204T080000
DTSTAMP:20260421T071013
CREATED:20230119T224258Z
LAST-MODIFIED:20230130T052620Z
UID:47635-1454569200-1454572800@csi.nus.edu.sg
SUMMARY:CSI Seminar - A/Prof Liu Haiyan
DESCRIPTION:
URL:https://csi.nus.edu.sg/event/csi-seminar-a-prof-liu-haiyan/
END:VEVENT
BEGIN:VEVENT
DTSTART;TZID=UTC:20160210T020000
DTEND;TZID=UTC:20160210T030000
DTSTAMP:20260421T071013
CREATED:20230119T224258Z
LAST-MODIFIED:20230130T052603Z
UID:47636-1455069600-1455073200@csi.nus.edu.sg
SUMMARY:CSI Seminar - Prof Matthias Mann
DESCRIPTION:
URL:https://csi.nus.edu.sg/event/csi-seminar-prof-matthias-mann/
END:VEVENT
BEGIN:VEVENT
DTSTART;TZID=UTC:20160224T000000
DTEND;TZID=UTC:20160224T090000
DTSTAMP:20260421T071013
CREATED:20230119T223013Z
LAST-MODIFIED:20230119T223013Z
UID:47381-1456272000-1456304400@csi.nus.edu.sg
SUMMARY:dedec
DESCRIPTION:dedede
URL:https://csi.nus.edu.sg/event/dedec/
END:VEVENT
BEGIN:VEVENT
DTSTART;TZID=UTC:20160224T073000
DTEND;TZID=UTC:20160224T083000
DTSTAMP:20260421T071013
CREATED:20230119T224259Z
LAST-MODIFIED:20230130T052302Z
UID:47637-1456299000-1456302600@csi.nus.edu.sg
SUMMARY:CSI Seminar - Prof Masanobu Oshima
DESCRIPTION:
URL:https://csi.nus.edu.sg/event/csi-seminar-prof-masanobu-oshima/
END:VEVENT
BEGIN:VEVENT
DTSTART;TZID=UTC:20160226T040000
DTEND;TZID=UTC:20160226T050000
DTSTAMP:20260421T071013
CREATED:20230119T224329Z
LAST-MODIFIED:20230130T052229Z
UID:47647-1456459200-1456462800@csi.nus.edu.sg
SUMMARY:CSI Research Meeting - 26 February
DESCRIPTION:Prof. Daniel Tenen will be giving his annual State-of-the-Institute address at 12pm.All staff are strongly encouraged to be present. \nResearch Meeting will commence after Prof. Tenen’s address.
URL:https://csi.nus.edu.sg/event/csi-research-meeting-26-february/
END:VEVENT
BEGIN:VEVENT
DTSTART;TZID=UTC:20160311T040000
DTEND;TZID=UTC:20160311T050000
DTSTAMP:20260421T071013
CREATED:20230119T224244Z
LAST-MODIFIED:20230119T224244Z
UID:47633-1457668800-1457672400@csi.nus.edu.sg
SUMMARY:CSI Research Meeting - 11 March
DESCRIPTION:To be updated
URL:https://csi.nus.edu.sg/event/csi-research-meeting-11-march/
END:VEVENT
BEGIN:VEVENT
DTSTART;TZID=UTC:20160316T080000
DTEND;TZID=UTC:20160316T090000
DTSTAMP:20260421T071013
CREATED:20230119T224414Z
LAST-MODIFIED:20230130T052214Z
UID:47661-1458115200-1458118800@csi.nus.edu.sg
SUMMARY:CSI Seminar - Prof Makoto Suematsu
DESCRIPTION:
URL:https://csi.nus.edu.sg/event/csi-seminar-prof-makoto-suematsu/
END:VEVENT
BEGIN:VEVENT
DTSTART;TZID=UTC:20160318T040000
DTEND;TZID=UTC:20160318T050000
DTSTAMP:20260421T071013
CREATED:20230119T224245Z
LAST-MODIFIED:20230119T224245Z
UID:47634-1458273600-1458277200@csi.nus.edu.sg
SUMMARY:CSI Research Meeting - 18 March
DESCRIPTION:To be updated
URL:https://csi.nus.edu.sg/event/csi-research-meeting-18-march/
END:VEVENT
BEGIN:VEVENT
DTSTART;TZID=UTC:20160322T033000
DTEND;TZID=UTC:20160322T043000
DTSTAMP:20260421T071013
CREATED:20230119T224413Z
LAST-MODIFIED:20230130T052140Z
UID:47660-1458617400-1458621000@csi.nus.edu.sg
SUMMARY:CSI Seminar - Dr Liang Schweizer
DESCRIPTION:
URL:https://csi.nus.edu.sg/event/csi-seminar-dr-liang-schweizer/
END:VEVENT
BEGIN:VEVENT
DTSTART;TZID=UTC:20160407T030000
DTEND;TZID=UTC:20160407T040000
DTSTAMP:20260421T071013
CREATED:20230119T224414Z
LAST-MODIFIED:20230130T052108Z
UID:47662-1459998000-1460001600@csi.nus.edu.sg
SUMMARY:CSI Distinguished Speakers' Series - Prof Xin Lu
DESCRIPTION:
URL:https://csi.nus.edu.sg/event/csi-distinguished-speakers-series-prof-xin-lu/
END:VEVENT
BEGIN:VEVENT
DTSTART;TZID=UTC:20160408T040000
DTEND;TZID=UTC:20160408T050000
DTSTAMP:20260421T071013
CREATED:20230119T224345Z
LAST-MODIFIED:20230130T052111Z
UID:47654-1460088000-1460091600@csi.nus.edu.sg
SUMMARY:CSI Research Meeting - 8 April
DESCRIPTION:
URL:https://csi.nus.edu.sg/event/csi-research-meeting-8-april/
END:VEVENT
BEGIN:VEVENT
DTSTART;TZID=UTC:20160412T030000
DTEND;TZID=UTC:20160412T040000
DTSTAMP:20260421T071013
CREATED:20230119T224700Z
LAST-MODIFIED:20230130T051622Z
UID:47718-1460430000-1460433600@csi.nus.edu.sg
SUMMARY:RNA Club - Qidong Hu
DESCRIPTION:
URL:https://csi.nus.edu.sg/event/rna-club-qidong-hu/
END:VEVENT
BEGIN:VEVENT
DTSTART;TZID=UTC:20160419T060000
DTEND;TZID=UTC:20160419T080000
DTSTAMP:20260421T071013
CREATED:20230119T224415Z
LAST-MODIFIED:20230130T051612Z
UID:47663-1461045600-1461052800@csi.nus.edu.sg
SUMMARY:CSI Seminar - Technology Driven Assay Development
DESCRIPTION:
URL:https://csi.nus.edu.sg/event/csi-seminar-technology-driven-assay-development/
END:VEVENT
BEGIN:VEVENT
DTSTART;TZID=UTC:20160422T040000
DTEND;TZID=UTC:20160422T050000
DTSTAMP:20260421T071013
CREATED:20230119T224358Z
LAST-MODIFIED:20230130T051517Z
UID:47655-1461297600-1461301200@csi.nus.edu.sg
SUMMARY:CSI Research Meeting - 22 April
DESCRIPTION:
URL:https://csi.nus.edu.sg/event/csi-research-meeting-22-april/
END:VEVENT
BEGIN:VEVENT
DTSTART;TZID=UTC:20160511T020000
DTEND;TZID=UTC:20160511T150000
DTSTAMP:20260421T071013
CREATED:20230119T224415Z
LAST-MODIFIED:20230130T051438Z
UID:47664-1462932000-1462978800@csi.nus.edu.sg
SUMMARY:CSI Seminar - Mounia Beloueche-Babari
DESCRIPTION:
URL:https://csi.nus.edu.sg/event/csi-seminar-mounia-beloueche-babari/
END:VEVENT
BEGIN:VEVENT
DTSTART;TZID=UTC:20160513T040000
DTEND;TZID=UTC:20160513T050000
DTSTAMP:20260421T071013
CREATED:20230119T224358Z
LAST-MODIFIED:20230130T051137Z
UID:47656-1463112000-1463115600@csi.nus.edu.sg
SUMMARY:CSI Research Meeting - 13 May
DESCRIPTION:
URL:https://csi.nus.edu.sg/event/csi-research-meeting-13-may/
END:VEVENT
BEGIN:VEVENT
DTSTART;TZID=UTC:20160527T040000
DTEND;TZID=UTC:20160527T050000
DTSTAMP:20260421T071013
CREATED:20230119T224359Z
LAST-MODIFIED:20230130T051050Z
UID:47657-1464321600-1464325200@csi.nus.edu.sg
SUMMARY:CSI Research Meeting - 27 May
DESCRIPTION:
URL:https://csi.nus.edu.sg/event/csi-research-meeting-27-may/
END:VEVENT
BEGIN:VEVENT
DTSTART;TZID=UTC:20160607T030000
DTEND;TZID=UTC:20160607T040000
DTSTAMP:20260421T071013
CREATED:20230119T224715Z
LAST-MODIFIED:20230130T051027Z
UID:47723-1465268400-1465272000@csi.nus.edu.sg
SUMMARY:RNA Club - Volker Patzel
DESCRIPTION:
URL:https://csi.nus.edu.sg/event/rna-club-volker-patzel/
END:VEVENT
BEGIN:VEVENT
DTSTART;TZID=UTC:20160610T040000
DTEND;TZID=UTC:20160610T050000
DTSTAMP:20260421T071013
CREATED:20230119T224343Z
LAST-MODIFIED:20230130T051018Z
UID:47650-1465531200-1465534800@csi.nus.edu.sg
SUMMARY:CSI Research Meeting - 10 June
DESCRIPTION:
URL:https://csi.nus.edu.sg/event/csi-research-meeting-10-june/
END:VEVENT
BEGIN:VEVENT
DTSTART;TZID=UTC:20160610T063000
DTEND;TZID=UTC:20160610T073000
DTSTAMP:20260421T071013
CREATED:20230119T224429Z
LAST-MODIFIED:20230130T051002Z
UID:47666-1465540200-1465543800@csi.nus.edu.sg
SUMMARY:CSI Seminar - Ulf Gyllensten
DESCRIPTION:
URL:https://csi.nus.edu.sg/event/csi-seminar-ulf-gyllensten/
END:VEVENT
BEGIN:VEVENT
DTSTART;TZID=UTC:20160614T023000
DTEND;TZID=UTC:20160614T033000
DTSTAMP:20260421T071013
CREATED:20230119T224343Z
LAST-MODIFIED:20230130T050546Z
UID:47651-1465871400-1465875000@csi.nus.edu.sg
SUMMARY:CSI Seminar - Tan Soo Yong
DESCRIPTION:
URL:https://csi.nus.edu.sg/event/csi-seminar-tan-soo-yong/
END:VEVENT
BEGIN:VEVENT
DTSTART;TZID=UTC:20160624T040000
DTEND;TZID=UTC:20160624T050000
DTSTAMP:20260421T071013
CREATED:20230119T224359Z
LAST-MODIFIED:20230130T050514Z
UID:47658-1466740800-1466744400@csi.nus.edu.sg
SUMMARY:CSI Research Meeting - 24 June
DESCRIPTION:
URL:https://csi.nus.edu.sg/event/csi-research-meeting-24-june/
END:VEVENT
END:VCALENDAR