BEGIN:VCALENDAR
VERSION:2.0
PRODID:-//NUS CSI - ECPv6.11.0.1//NONSGML v1.0//EN
CALSCALE:GREGORIAN
METHOD:PUBLISH
X-WR-CALNAME:NUS CSI
X-ORIGINAL-URL:https://csi.nus.edu.sg
X-WR-CALDESC:Events for NUS CSI
REFRESH-INTERVAL;VALUE=DURATION:PT1H
X-Robots-Tag:noindex
X-PUBLISHED-TTL:PT1H
BEGIN:VTIMEZONE
TZID:UTC
BEGIN:STANDARD
TZOFFSETFROM:+0000
TZOFFSETTO:+0000
TZNAME:UTC
DTSTART:20150101T000000
END:STANDARD
END:VTIMEZONE
BEGIN:VEVENT
DTSTART;TZID=UTC:20150118T160000
DTEND;TZID=UTC:20150120T155900
DTSTAMP:20260421T090712
CREATED:20230119T224014Z
LAST-MODIFIED:20230130T061819Z
UID:47583-1421596800-1421769540@csi.nus.edu.sg
SUMMARY:NUS-Kanagawa Prefecture Urology Symposium
DESCRIPTION:
URL:https://csi.nus.edu.sg/event/nus-kanagawa-prefecture-urology-symposium/
END:VEVENT
BEGIN:VEVENT
DTSTART;TZID=UTC:20150120T160000
DTEND;TZID=UTC:20150121T155900
DTSTAMP:20260421T090712
CREATED:20230119T222959Z
LAST-MODIFIED:20230130T061705Z
UID:47379-1421769600-1421855940@csi.nus.edu.sg
SUMMARY:Ph.D Oral Defense - Qiao Yiting
DESCRIPTION:
URL:https://csi.nus.edu.sg/event/ph-d-oral-defense-qiao-yiting/
END:VEVENT
BEGIN:VEVENT
DTSTART;TZID=UTC:20150130T000000
DTEND;TZID=UTC:20150130T090000
DTSTAMP:20260421T090712
CREATED:20230119T224000Z
LAST-MODIFIED:20230130T061639Z
UID:47579-1422576000-1422608400@csi.nus.edu.sg
SUMMARY:CSI Research Meeting
DESCRIPTION:
URL:https://csi.nus.edu.sg/event/csi-research-meeting-29/
END:VEVENT
BEGIN:VEVENT
DTSTART;TZID=UTC:20150201T160000
DTEND;TZID=UTC:20150202T155900
DTSTAMP:20260421T090712
CREATED:20230119T224015Z
LAST-MODIFIED:20230130T061618Z
UID:47584-1422806400-1422892740@csi.nus.edu.sg
SUMMARY:CSI Seminar - Dr Partha Das
DESCRIPTION:
URL:https://csi.nus.edu.sg/event/csi-seminar-dr-partha-das/
END:VEVENT
BEGIN:VEVENT
DTSTART;TZID=UTC:20150204T000000
DTEND;TZID=UTC:20150204T090000
DTSTAMP:20260421T090712
CREATED:20230119T224028Z
LAST-MODIFIED:20230130T061606Z
UID:47585-1423008000-1423040400@csi.nus.edu.sg
SUMMARY:CSI Seminar – Prof Jun-Lin Guan
DESCRIPTION:
URL:https://csi.nus.edu.sg/event/csi-seminar-prof-jun-lin-guan/
END:VEVENT
BEGIN:VEVENT
DTSTART;TZID=UTC:20150212T000000
DTEND;TZID=UTC:20150212T090000
DTSTAMP:20260421T090712
CREATED:20230119T224028Z
LAST-MODIFIED:20230130T061548Z
UID:47586-1423699200-1423731600@csi.nus.edu.sg
SUMMARY:PhD Oral Defense – CHUNG Vin Yee
DESCRIPTION:
URL:https://csi.nus.edu.sg/event/phd-oral-defense-chung-vin-yee/
END:VEVENT
BEGIN:VEVENT
DTSTART;TZID=UTC:20150213T000000
DTEND;TZID=UTC:20150213T090000
DTSTAMP:20260421T090712
CREATED:20230119T224013Z
LAST-MODIFIED:20230130T061516Z
UID:47580-1423785600-1423818000@csi.nus.edu.sg
SUMMARY:CSI Research Meeting
DESCRIPTION:
URL:https://csi.nus.edu.sg/event/csi-research-meeting-30/
END:VEVENT
BEGIN:VEVENT
DTSTART;TZID=UTC:20150225T000000
DTEND;TZID=UTC:20150225T090000
DTSTAMP:20260421T090712
CREATED:20230119T224013Z
LAST-MODIFIED:20230130T061504Z
UID:47581-1424822400-1424854800@csi.nus.edu.sg
SUMMARY:CSI Seminar – Prof Toshiro Okazaki and Prof Jin-ichi Inokuchi
DESCRIPTION:
URL:https://csi.nus.edu.sg/event/csi-seminar-prof-toshiro-okazaki-and-prof-jin-ichi-inokuchi/
END:VEVENT
BEGIN:VEVENT
DTSTART;TZID=UTC:20150226T160000
DTEND;TZID=UTC:20150227T155900
DTSTAMP:20260421T090712
CREATED:20230119T224014Z
LAST-MODIFIED:20230130T061336Z
UID:47582-1424966400-1425052740@csi.nus.edu.sg
SUMMARY:CSI Research Meeting
DESCRIPTION:
URL:https://csi.nus.edu.sg/event/csi-research-meeting-31/
END:VEVENT
BEGIN:VEVENT
DTSTART;TZID=UTC:20150301T160000
DTEND;TZID=UTC:20150302T155900
DTSTAMP:20260421T090712
CREATED:20230119T224030Z
LAST-MODIFIED:20230130T061045Z
UID:47589-1425225600-1425311940@csi.nus.edu.sg
SUMMARY:CSI Seminar -  Prof. Edward Yeh
DESCRIPTION:height=”1024″ />
URL:https://csi.nus.edu.sg/event/csi-seminar-prof-edward-yeh/
END:VEVENT
BEGIN:VEVENT
DTSTART;TZID=UTC:20150302T160000
DTEND;TZID=UTC:20150303T155900
DTSTAMP:20260421T090712
CREATED:20230119T224030Z
LAST-MODIFIED:20230130T061025Z
UID:47588-1425312000-1425398340@csi.nus.edu.sg
SUMMARY:CSI Seminar -  Dr. Christine Borowski
DESCRIPTION:
URL:https://csi.nus.edu.sg/event/csi-seminar-dr-christine-borowski/
END:VEVENT
BEGIN:VEVENT
DTSTART;TZID=UTC:20150310T160000
DTEND;TZID=UTC:20150311T155900
DTSTAMP:20260421T090712
CREATED:20230119T224059Z
LAST-MODIFIED:20230130T060959Z
UID:47597-1426003200-1426089540@csi.nus.edu.sg
SUMMARY:CSI Seminar - Dr. Dannilo Maddalo
DESCRIPTION:
URL:https://csi.nus.edu.sg/event/csi-seminar-dr-dannilo-maddalo/
END:VEVENT
BEGIN:VEVENT
DTSTART;TZID=UTC:20150312T160000
DTEND;TZID=UTC:20150313T155900
DTSTAMP:20260421T090712
CREATED:20230119T224044Z
LAST-MODIFIED:20230130T060938Z
UID:47592-1426176000-1426262340@csi.nus.edu.sg
SUMMARY:CSI Research Meeting\, State-of-the-Institute Address
DESCRIPTION:Prof. Daniel Tenen will be giving his annual State-of-the-Institute address at 12pm. All staff are encouraged to be present.Research Meeting talks will commence after Prof. Tenen’s address.
URL:https://csi.nus.edu.sg/event/csi-research-meeting-state-of-the-institute-address/
END:VEVENT
BEGIN:VEVENT
DTSTART;TZID=UTC:20150327T040000
DTEND;TZID=UTC:20150327T050000
DTSTAMP:20260421T090712
CREATED:20230119T224044Z
LAST-MODIFIED:20230130T060536Z
UID:47593-1427428800-1427432400@csi.nus.edu.sg
SUMMARY:CSI Research Meeting
DESCRIPTION:
URL:https://csi.nus.edu.sg/event/csi-research-meeting-32/
END:VEVENT
BEGIN:VEVENT
DTSTART;TZID=UTC:20150330T030000
DTEND;TZID=UTC:20150330T040000
DTSTAMP:20260421T090712
CREATED:20230119T224043Z
LAST-MODIFIED:20230130T060328Z
UID:47590-1427684400-1427688000@csi.nus.edu.sg
SUMMARY:Transcription Club
DESCRIPTION:
URL:https://csi.nus.edu.sg/event/transcription-club/
END:VEVENT
BEGIN:VEVENT
DTSTART;TZID=UTC:20150331T033000
DTEND;TZID=UTC:20150331T043000
DTSTAMP:20260421T090712
CREATED:20230119T224043Z
LAST-MODIFIED:20230130T060309Z
UID:47591-1427772600-1427776200@csi.nus.edu.sg
SUMMARY:Distinguished Speakers' Series - Prof. Peter Sicinski
DESCRIPTION:
URL:https://csi.nus.edu.sg/event/distinguished-speakers-series-prof-peter-sicinski/
END:VEVENT
BEGIN:VEVENT
DTSTART;TZID=UTC:20150402T083000
DTEND;TZID=UTC:20150402T093000
DTSTAMP:20260421T090712
CREATED:20230119T224058Z
LAST-MODIFIED:20230130T060233Z
UID:47596-1427963400-1427967000@csi.nus.edu.sg
SUMMARY:CSI Advances In Research
DESCRIPTION:
URL:https://csi.nus.edu.sg/event/csi-advances-in-research/
END:VEVENT
BEGIN:VEVENT
DTSTART;TZID=UTC:20150406T020000
DTEND;TZID=UTC:20150406T030000
DTSTAMP:20260421T090712
CREATED:20230119T224100Z
LAST-MODIFIED:20230130T060215Z
UID:47599-1428285600-1428289200@csi.nus.edu.sg
SUMMARY:Ph.D Oral Defense - Phyllis Chong
DESCRIPTION:
URL:https://csi.nus.edu.sg/event/ph-d-oral-defense-phyllis-chong/
END:VEVENT
BEGIN:VEVENT
DTSTART;TZID=UTC:20150408T063000
DTEND;TZID=UTC:20150408T073000
DTSTAMP:20260421T090712
CREATED:20230119T224113Z
LAST-MODIFIED:20230130T060153Z
UID:47600-1428474600-1428478200@csi.nus.edu.sg
SUMMARY:Ph.D Oral Defense - Jolene Ho
DESCRIPTION:
URL:https://csi.nus.edu.sg/event/ph-d-oral-defense-jolene-ho/
END:VEVENT
BEGIN:VEVENT
DTSTART;TZID=UTC:20150417T040000
DTEND;TZID=UTC:20150417T050000
DTSTAMP:20260421T090712
CREATED:20230119T224045Z
LAST-MODIFIED:20230130T060130Z
UID:47594-1429243200-1429246800@csi.nus.edu.sg
SUMMARY:CSI Research Meeting
DESCRIPTION:
URL:https://csi.nus.edu.sg/event/csi-research-meeting-33/
END:VEVENT
BEGIN:VEVENT
DTSTART;TZID=UTC:20150424T040000
DTEND;TZID=UTC:20150424T050000
DTSTAMP:20260421T090712
CREATED:20230119T224058Z
LAST-MODIFIED:20230130T060106Z
UID:47595-1429848000-1429851600@csi.nus.edu.sg
SUMMARY:CSI Research Meeting
DESCRIPTION:
URL:https://csi.nus.edu.sg/event/csi-research-meeting-34/
END:VEVENT
BEGIN:VEVENT
DTSTART;TZID=UTC:20150506T063000
DTEND;TZID=UTC:20150506T073000
DTSTAMP:20260421T090712
CREATED:20230119T224129Z
LAST-MODIFIED:20230130T060042Z
UID:47607-1430893800-1430897400@csi.nus.edu.sg
SUMMARY:Ph.D Oral Defense – Lavina Tay
DESCRIPTION:
URL:https://csi.nus.edu.sg/event/ph-d-oral-defense-lavina-tay/
END:VEVENT
BEGIN:VEVENT
DTSTART;TZID=UTC:20150508T040000
DTEND;TZID=UTC:20150508T050000
DTSTAMP:20260421T090712
CREATED:20230119T224114Z
LAST-MODIFIED:20230130T060013Z
UID:47602-1431057600-1431061200@csi.nus.edu.sg
SUMMARY:CSI Research Meeting - 8 May
DESCRIPTION:
URL:https://csi.nus.edu.sg/event/csi-research-meeting-8-may/
END:VEVENT
BEGIN:VEVENT
DTSTART;TZID=UTC:20150513T070000
DTEND;TZID=UTC:20150513T080000
DTSTAMP:20260421T090712
CREATED:20230119T224130Z
LAST-MODIFIED:20230130T055951Z
UID:47609-1431500400-1431504000@csi.nus.edu.sg
SUMMARY:Ph.D Oral Defense – Kelly Ong
DESCRIPTION:
URL:https://csi.nus.edu.sg/event/ph-d-oral-defense-kelly-ong/
END:VEVENT
BEGIN:VEVENT
DTSTART;TZID=UTC:20150522T040000
DTEND;TZID=UTC:20150522T050000
DTSTAMP:20260421T090712
CREATED:20230119T224114Z
LAST-MODIFIED:20230130T055938Z
UID:47603-1432267200-1432270800@csi.nus.edu.sg
SUMMARY:CSI Research Meeting - 22 May
DESCRIPTION:
URL:https://csi.nus.edu.sg/event/csi-research-meeting-22-may/
END:VEVENT
BEGIN:VEVENT
DTSTART;TZID=UTC:20150525T060000
DTEND;TZID=UTC:20150525T080000
DTSTAMP:20260421T090712
CREATED:20230119T224130Z
LAST-MODIFIED:20230130T055927Z
UID:47608-1432533600-1432540800@csi.nus.edu.sg
SUMMARY:SLAS-SAGE Author Workshop
DESCRIPTION:
URL:https://csi.nus.edu.sg/event/slas-sage-author-workshop/
END:VEVENT
BEGIN:VEVENT
DTSTART;TZID=UTC:20150526T060000
DTEND;TZID=UTC:20150526T070000
DTSTAMP:20260421T090712
CREATED:20230119T224113Z
LAST-MODIFIED:20230130T055910Z
UID:47601-1432620000-1432623600@csi.nus.edu.sg
SUMMARY:CSI Seminar - Prof Yogen Saunthararajah
DESCRIPTION:
URL:https://csi.nus.edu.sg/event/csi-seminar-prof-yogen-saunthararajah/
END:VEVENT
BEGIN:VEVENT
DTSTART;TZID=UTC:20150605T040000
DTEND;TZID=UTC:20150605T050000
DTSTAMP:20260421T090712
CREATED:20230119T224115Z
LAST-MODIFIED:20230130T055816Z
UID:47604-1433476800-1433480400@csi.nus.edu.sg
SUMMARY:CSI Research Meeting - 5 June
DESCRIPTION:
URL:https://csi.nus.edu.sg/event/csi-research-meeting-5-june/
END:VEVENT
BEGIN:VEVENT
DTSTART;TZID=UTC:20150609T030000
DTEND;TZID=UTC:20150609T040000
DTSTAMP:20260421T090712
CREATED:20230119T224158Z
LAST-MODIFIED:20230130T055754Z
UID:47615-1433818800-1433822400@csi.nus.edu.sg
SUMMARY:CSI Seminar - Dr. Rita Shaknovich
DESCRIPTION:
URL:https://csi.nus.edu.sg/event/csi-seminar-dr-rita-shaknovich/
END:VEVENT
BEGIN:VEVENT
DTSTART;TZID=UTC:20150610T030000
DTEND;TZID=UTC:20150610T040000
DTSTAMP:20260421T090712
CREATED:20230119T224146Z
LAST-MODIFIED:20230130T055731Z
UID:47614-1433905200-1433908800@csi.nus.edu.sg
SUMMARY:CSI Distinguished Speakers' Series - Prof. David Huntsman
DESCRIPTION:
URL:https://csi.nus.edu.sg/event/csi-distinguished-speakers-series-prof-david-huntsman/
END:VEVENT
END:VCALENDAR