BEGIN:VCALENDAR
VERSION:2.0
PRODID:-//NUS CSI - ECPv6.11.0.1//NONSGML v1.0//EN
CALSCALE:GREGORIAN
METHOD:PUBLISH
X-WR-CALNAME:NUS CSI
X-ORIGINAL-URL:https://csi.nus.edu.sg
X-WR-CALDESC:Events for NUS CSI
REFRESH-INTERVAL;VALUE=DURATION:PT1H
X-Robots-Tag:noindex
X-PUBLISHED-TTL:PT1H
BEGIN:VTIMEZONE
TZID:UTC
BEGIN:STANDARD
TZOFFSETFROM:+0000
TZOFFSETTO:+0000
TZNAME:UTC
DTSTART:20130101T000000
END:STANDARD
END:VTIMEZONE
BEGIN:VEVENT
DTSTART;TZID=UTC:20131011T040000
DTEND;TZID=UTC:20131011T050000
DTSTAMP:20260421T100114
CREATED:20230119T223614Z
LAST-MODIFIED:20230119T223614Z
UID:47502-1381464000-1381467600@csi.nus.edu.sg
SUMMARY:CSI Research Meeting
DESCRIPTION:
URL:https://csi.nus.edu.sg/event/csi-research-meeting-15/
END:VEVENT
BEGIN:VEVENT
DTSTART;TZID=UTC:20131017T013000
DTEND;TZID=UTC:20131017T023000
DTSTAMP:20260421T100114
CREATED:20230119T223616Z
LAST-MODIFIED:20230119T223616Z
UID:47504-1381973400-1381977000@csi.nus.edu.sg
SUMMARY:Transcription Club: -Wan Yue
DESCRIPTION:
URL:https://csi.nus.edu.sg/event/transcription-club-wan-yue/
END:VEVENT
BEGIN:VEVENT
DTSTART;TZID=UTC:20131017T040000
DTEND;TZID=UTC:20131017T050000
DTSTAMP:20260421T100114
CREATED:20230119T223615Z
LAST-MODIFIED:20230119T223615Z
UID:47503-1381982400-1381986000@csi.nus.edu.sg
SUMMARY:Dept of Microbiology & Immunology Seminar Series – Dr Veronique Dartois
DESCRIPTION:
URL:https://csi.nus.edu.sg/event/dept-of-microbiology-immunology-seminar-series-dr-veronique-dartois/
END:VEVENT
BEGIN:VEVENT
DTSTART;TZID=UTC:20131025T040000
DTEND;TZID=UTC:20131025T050000
DTSTAMP:20260421T100114
CREATED:20230119T223628Z
LAST-MODIFIED:20230119T223628Z
UID:47505-1382673600-1382677200@csi.nus.edu.sg
SUMMARY:CSI Research Meeting
DESCRIPTION:
URL:https://csi.nus.edu.sg/event/csi-research-meeting-16/
END:VEVENT
BEGIN:VEVENT
DTSTART;TZID=UTC:20131028T030000
DTEND;TZID=UTC:20131028T040000
DTSTAMP:20260421T100114
CREATED:20230119T223628Z
LAST-MODIFIED:20230119T223628Z
UID:47506-1382929200-1382932800@csi.nus.edu.sg
SUMMARY:IMCB Invited Speaker – Dr Rosella Visintin
DESCRIPTION:
URL:https://csi.nus.edu.sg/event/imcb-invited-speaker-dr-rosella-visintin/
END:VEVENT
BEGIN:VEVENT
DTSTART;TZID=UTC:20131028T030000
DTEND;TZID=UTC:20131028T040000
DTSTAMP:20260421T100114
CREATED:20230119T223629Z
LAST-MODIFIED:20230119T223629Z
UID:47507-1382929200-1382932800@csi.nus.edu.sg
SUMMARY:CSI Seminar:- Prof Masamitsu Yamaguchi
DESCRIPTION:
URL:https://csi.nus.edu.sg/event/csi-seminar-prof-masamitsu-yamaguchi/
END:VEVENT
BEGIN:VEVENT
DTSTART;TZID=UTC:20131029T080000
DTEND;TZID=UTC:20131029T080000
DTSTAMP:20260421T100114
CREATED:20230119T223630Z
LAST-MODIFIED:20230119T223630Z
UID:47508-1383033600-1383033600@csi.nus.edu.sg
SUMMARY:Seminar by Dr Amartya Sanyal
DESCRIPTION:
URL:https://csi.nus.edu.sg/event/seminar-by-dr-amartya-sanyal/
END:VEVENT
BEGIN:VEVENT
DTSTART;TZID=UTC:20131104T160000
DTEND;TZID=UTC:20131107T155900
DTSTAMP:20260421T100114
CREATED:20230119T223544Z
LAST-MODIFIED:20230119T223544Z
UID:47492-1383580800-1383839940@csi.nus.edu.sg
SUMMARY:Frontiers in Cancer Science 2013
DESCRIPTION:
URL:https://csi.nus.edu.sg/event/frontiers-in-cancer-science-2013/
END:VEVENT
BEGIN:VEVENT
DTSTART;TZID=UTC:20131113T080000
DTEND;TZID=UTC:20131113T090000
DTSTAMP:20260421T100114
CREATED:20230119T223544Z
LAST-MODIFIED:20230119T223544Z
UID:47493-1384329600-1384333200@csi.nus.edu.sg
SUMMARY:Home » Distinguished Visitor Lecture – Prof Salim Khakoo Distinguished Visitor Lecture – Prof Salim Khakoo
DESCRIPTION:
URL:https://csi.nus.edu.sg/event/home-distinguished-visitor-lecture-prof-salim-khakoo-distinguished-visitor-lecture-prof-salim-khakoo/
END:VEVENT
BEGIN:VEVENT
DTSTART;TZID=UTC:20131114T030000
DTEND;TZID=UTC:20131114T040000
DTSTAMP:20260421T100114
CREATED:20230119T223545Z
LAST-MODIFIED:20230119T223545Z
UID:47494-1384398000-1384401600@csi.nus.edu.sg
SUMMARY:CSI Seminar:- Dr Wilson Goh
DESCRIPTION:
URL:https://csi.nus.edu.sg/event/csi-seminar-dr-wilson-goh/
END:VEVENT
BEGIN:VEVENT
DTSTART;TZID=UTC:20131115T040000
DTEND;TZID=UTC:20131115T050000
DTSTAMP:20260421T100114
CREATED:20230119T223558Z
LAST-MODIFIED:20230119T223558Z
UID:47495-1384488000-1384491600@csi.nus.edu.sg
SUMMARY:CMR Seminar – Prof Anthony R Means
DESCRIPTION:
URL:https://csi.nus.edu.sg/event/cmr-seminar-prof-anthony-r-means/
END:VEVENT
BEGIN:VEVENT
DTSTART;TZID=UTC:20131122T040000
DTEND;TZID=UTC:20131122T050000
DTSTAMP:20260421T100114
CREATED:20230119T223558Z
LAST-MODIFIED:20230119T223558Z
UID:47496-1385092800-1385096400@csi.nus.edu.sg
SUMMARY:CSI Research Meeting
DESCRIPTION:
URL:https://csi.nus.edu.sg/event/csi-research-meeting-14/
END:VEVENT
BEGIN:VEVENT
DTSTART;TZID=UTC:20131126T030000
DTEND;TZID=UTC:20131126T040000
DTSTAMP:20260421T100114
CREATED:20230119T223559Z
LAST-MODIFIED:20230119T223559Z
UID:47497-1385434800-1385438400@csi.nus.edu.sg
SUMMARY:CSI Seminar – Dr Laszlo Tora
DESCRIPTION:
URL:https://csi.nus.edu.sg/event/csi-seminar-dr-laszlo-tora/
END:VEVENT
BEGIN:VEVENT
DTSTART;TZID=UTC:20131129T083000
DTEND;TZID=UTC:20131129T093000
DTSTAMP:20260421T100114
CREATED:20230119T223559Z
LAST-MODIFIED:20230119T223559Z
UID:47498-1385713800-1385717400@csi.nus.edu.sg
SUMMARY:CSI-Advances in Research (AIR) Meeting: – Tim Chan
DESCRIPTION:
URL:https://csi.nus.edu.sg/event/csi-advances-in-research-air-meeting-tim-chan/
END:VEVENT
BEGIN:VEVENT
DTSTART;TZID=UTC:20131202T160000
DTEND;TZID=UTC:20131205T155900
DTSTAMP:20260421T100114
CREATED:20230119T223528Z
LAST-MODIFIED:20230119T223528Z
UID:47486-1386000000-1386259140@csi.nus.edu.sg
SUMMARY:16th Asia-Pacific International Molecular Biology Network Conference
DESCRIPTION:
URL:https://csi.nus.edu.sg/event/16th-asia-pacific-international-molecular-biology-network-conference-2/
END:VEVENT
BEGIN:VEVENT
DTSTART;TZID=UTC:20131203T090000
DTEND;TZID=UTC:20131203T100000
DTSTAMP:20260421T100114
CREATED:20230119T223528Z
LAST-MODIFIED:20230119T223528Z
UID:47485-1386061200-1386064800@csi.nus.edu.sg
SUMMARY:Joint SGCC-CSI Gastric Cancer Seminar: – Dr. Ruby Huang Yun-Ju
DESCRIPTION:
URL:https://csi.nus.edu.sg/event/joint-sgcc-csi-gastric-cancer-seminar-dr-ruby-huang-yun-ju/
END:VEVENT
BEGIN:VEVENT
DTSTART;TZID=UTC:20131203T160000
DTEND;TZID=UTC:20131206T155900
DTSTAMP:20260421T100114
CREATED:20230119T223529Z
LAST-MODIFIED:20230119T223529Z
UID:47487-1386086400-1386345540@csi.nus.edu.sg
SUMMARY:7th International Structure Biology & Functional Genomics (SBFG) Conference
DESCRIPTION:
URL:https://csi.nus.edu.sg/event/7th-international-structure-biology-functional-genomics-sbfg-conference/
END:VEVENT
BEGIN:VEVENT
DTSTART;TZID=UTC:20131210T063000
DTEND;TZID=UTC:20131210T073000
DTSTAMP:20260421T100114
CREATED:20230119T223529Z
LAST-MODIFIED:20230119T223529Z
UID:47488-1386657000-1386660600@csi.nus.edu.sg
SUMMARY:IMCB Invited Speaker – Prof Gen-Sheng Feng
DESCRIPTION:
URL:https://csi.nus.edu.sg/event/imcb-invited-speaker-prof-gen-sheng-feng/
END:VEVENT
BEGIN:VEVENT
DTSTART;TZID=UTC:20131212T053000
DTEND;TZID=UTC:20131212T063000
DTSTAMP:20260421T100114
CREATED:20230119T223530Z
LAST-MODIFIED:20230119T223530Z
UID:47489-1386826200-1386829800@csi.nus.edu.sg
SUMMARY:Transcription Club – Dr Zhang Wei Cai
DESCRIPTION:
URL:https://csi.nus.edu.sg/event/transcription-club-dr-zhang-wei-cai/
END:VEVENT
BEGIN:VEVENT
DTSTART;TZID=UTC:20131216T060000
DTEND;TZID=UTC:20131216T070000
DTSTAMP:20260421T100114
CREATED:20230119T223543Z
LAST-MODIFIED:20230119T223543Z
UID:47490-1387173600-1387177200@csi.nus.edu.sg
SUMMARY:CSI Seminar – Prof Peter ten Dijke
DESCRIPTION:
URL:https://csi.nus.edu.sg/event/csi-seminar-prof-peter-ten-dijke/
END:VEVENT
BEGIN:VEVENT
DTSTART;TZID=UTC:20131223T040000
DTEND;TZID=UTC:20131223T050000
DTSTAMP:20260421T100114
CREATED:20230119T223543Z
LAST-MODIFIED:20230119T223543Z
UID:47491-1387771200-1387774800@csi.nus.edu.sg
SUMMARY:Duke-NUS Seminar – Dr Alfred Sze-Lok Cheng
DESCRIPTION:
URL:https://csi.nus.edu.sg/event/duke-nus-seminar-dr-alfred-sze-lok-cheng/
END:VEVENT
BEGIN:VEVENT
DTSTART;TZID=UTC:20140107T090000
DTEND;TZID=UTC:20140107T100000
DTSTAMP:20260421T100114
CREATED:20230119T223514Z
LAST-MODIFIED:20230119T223514Z
UID:47481-1389085200-1389088800@csi.nus.edu.sg
SUMMARY:SGCC-CSI Seminar – Dr Dai Xilei
DESCRIPTION:
URL:https://csi.nus.edu.sg/event/sgcc-csi-seminar-dr-dai-xilei/
END:VEVENT
BEGIN:VEVENT
DTSTART;TZID=UTC:20140110T040000
DTEND;TZID=UTC:20140110T050000
DTSTAMP:20260421T100114
CREATED:20230119T223514Z
LAST-MODIFIED:20230119T223514Z
UID:47482-1389326400-1389330000@csi.nus.edu.sg
SUMMARY:CSI Research Meeting
DESCRIPTION:
URL:https://csi.nus.edu.sg/event/csi-research-meeting-13/
END:VEVENT
BEGIN:VEVENT
DTSTART;TZID=UTC:20140114T040000
DTEND;TZID=UTC:20140114T050000
DTSTAMP:20260421T100114
CREATED:20230119T223515Z
LAST-MODIFIED:20230119T223515Z
UID:47483-1389672000-1389675600@csi.nus.edu.sg
SUMMARY:CSCB Seminar Series – Dr Nicholas Katsanis
DESCRIPTION:
URL:https://csi.nus.edu.sg/event/cscb-seminar-series-dr-nicholas-katsanis/
END:VEVENT
BEGIN:VEVENT
DTSTART;TZID=UTC:20140120T030000
DTEND;TZID=UTC:20140120T040000
DTSTAMP:20260421T100114
CREATED:20230119T223516Z
LAST-MODIFIED:20230119T223516Z
UID:47484-1390186800-1390190400@csi.nus.edu.sg
SUMMARY:IMB Seminar – Dr Elizabeth Murchison
DESCRIPTION:
URL:https://csi.nus.edu.sg/event/imb-seminar-dr-elizabeth-murchison/
END:VEVENT
BEGIN:VEVENT
DTSTART;TZID=UTC:20140211T020000
DTEND;TZID=UTC:20140211T030000
DTSTAMP:20260421T100114
CREATED:20230119T223458Z
LAST-MODIFIED:20230119T223458Z
UID:47475-1392084000-1392087600@csi.nus.edu.sg
SUMMARY:CSI Seminar – Prof Stan Kaye
DESCRIPTION:
URL:https://csi.nus.edu.sg/event/csi-seminar-prof-stan-kaye/
END:VEVENT
BEGIN:VEVENT
DTSTART;TZID=UTC:20140213T030000
DTEND;TZID=UTC:20140213T040000
DTSTAMP:20260421T100114
CREATED:20230119T223458Z
LAST-MODIFIED:20230119T223458Z
UID:47476-1392260400-1392264000@csi.nus.edu.sg
SUMMARY:CSI Seminar – Dr Tam Wai Leong
DESCRIPTION:
URL:https://csi.nus.edu.sg/event/csi-seminar-dr-tam-wai-leong/
END:VEVENT
BEGIN:VEVENT
DTSTART;TZID=UTC:20140214T040000
DTEND;TZID=UTC:20140214T050000
DTSTAMP:20260421T100114
CREATED:20230119T223459Z
LAST-MODIFIED:20230119T223459Z
UID:47477-1392350400-1392354000@csi.nus.edu.sg
SUMMARY:CSI Research Meeting
DESCRIPTION:
URL:https://csi.nus.edu.sg/event/csi-research-meeting-12/
END:VEVENT
BEGIN:VEVENT
DTSTART;TZID=UTC:20140217T030000
DTEND;TZID=UTC:20140217T040000
DTSTAMP:20260421T100114
CREATED:20230119T223459Z
LAST-MODIFIED:20230119T223459Z
UID:47478-1392606000-1392609600@csi.nus.edu.sg
SUMMARY:CSI Seminar – Dr Ryohei Katayama
DESCRIPTION:
URL:https://csi.nus.edu.sg/event/csi-seminar-dr-ryohei-katayama/
END:VEVENT
BEGIN:VEVENT
DTSTART;TZID=UTC:20140221T083000
DTEND;TZID=UTC:20140221T093000
DTSTAMP:20260421T100114
CREATED:20230119T223500Z
LAST-MODIFIED:20230119T223500Z
UID:47479-1392971400-1392975000@csi.nus.edu.sg
SUMMARY:CSI-AIR Meeting
DESCRIPTION:
URL:https://csi.nus.edu.sg/event/csi-air-meeting/
END:VEVENT
END:VCALENDAR