BEGIN:VCALENDAR
VERSION:2.0
PRODID:-//NUS CSI - ECPv6.11.0.1//NONSGML v1.0//EN
CALSCALE:GREGORIAN
METHOD:PUBLISH
X-WR-CALNAME:NUS CSI
X-ORIGINAL-URL:https://csi.nus.edu.sg
X-WR-CALDESC:Events for NUS CSI
REFRESH-INTERVAL;VALUE=DURATION:PT1H
X-Robots-Tag:noindex
X-PUBLISHED-TTL:PT1H

BEGIN:VEVENT
DTSTART;TZID=UTC:20260426T112258
DTEND;TZID=UTC:20260426T112258
DTSTAMP:20260426T112258
CREATED:20230119T223029Z
LAST-MODIFIED:20230119T223029Z
UID:47388-0-0@csi.nus.edu.sg
SUMMARY:CSI PhD Oral Defense – Michal Marek HOPPE
DESCRIPTION:
URL:https://csi.nus.edu.sg/event/csi-phd-oral-defense-michal-marek-hoppe/
END:VEVENT
BEGIN:VEVENT
DTSTART;TZID=UTC:20260426T112258
DTEND;TZID=UTC:20260426T112258
DTSTAMP:20260426T112258
CREATED:20230119T223029Z
LAST-MODIFIED:20230119T223029Z
UID:47389-0-0@csi.nus.edu.sg
SUMMARY:CSI Bioinformatics Club Research Seminar - Dr. Jonas Demeulemeester
DESCRIPTION:
URL:https://csi.nus.edu.sg/event/csi-bioinformatics-club-research-seminar-dr-jonas-demeulemeester/
END:VEVENT
END:VCALENDAR