BEGIN:VCALENDAR
VERSION:2.0
PRODID:-//NUS CSI - ECPv6.11.0.1//NONSGML v1.0//EN
CALSCALE:GREGORIAN
METHOD:PUBLISH
X-WR-CALNAME:NUS CSI
X-ORIGINAL-URL:https://csi.nus.edu.sg
X-WR-CALDESC:Events for NUS CSI
REFRESH-INTERVAL;VALUE=DURATION:PT1H
X-Robots-Tag:noindex
X-PUBLISHED-TTL:PT1H
BEGIN:VTIMEZONE
TZID:Asia/Shanghai
BEGIN:STANDARD
TZOFFSETFROM:+0800
TZOFFSETTO:+0800
TZNAME:CST
DTSTART:20230101T000000
END:STANDARD
END:VTIMEZONE
BEGIN:VTIMEZONE
TZID:UTC
BEGIN:STANDARD
TZOFFSETFROM:+0000
TZOFFSETTO:+0000
TZNAME:UTC
DTSTART:20210101T000000
END:STANDARD
END:VTIMEZONE
BEGIN:VEVENT
DTSTART;TZID=Asia/Shanghai:20260305T080000
DTEND;TZID=Asia/Shanghai:20260305T170000
DTSTAMP:20260420T214520
CREATED:20260219T062947Z
LAST-MODIFIED:20260219T063255Z
UID:56406-1772697600-1772730000@csi.nus.edu.sg
SUMMARY:[ONLINE] National Cancer Center Japan - Cancer Science Institute of Singapore Joint Scientific Symposium 2026 (5 March 2026)
DESCRIPTION:Dear all\, \nWe are pleased to invite you to the upcoming National Cancer Center Japan – Cancer Science Institute of Singapore Joint Scientific Symposium 2026\, a collaborative platform bringing together researchers from both institutions to share recent advances in Cancer Immunology\, RNA Biology\, Carcinogenesis and Computational Biology. \nDate: 5 March 2026 (Thursday) \nTime: 0800 – 1700 (Singapore Time) \nFormat: Virtual (Zoom link to be sent closer to date) \nAll CSI members are warmly encouraged to participate. We look forward to your attendance. \n*Registration not required.
URL:https://csi.nus.edu.sg/event/online-national-cancer-center-japan-cancer-science-institute-of-singapore-joint-scientific-symposium-2026-5-march-2026/
CATEGORIES:Symposium/Conference
ATTACH;FMTTYPE=image/png:https://csi.nus.edu.sg/wp-content/uploads/2026/02/NCC-CSI-Joint-Symposium-2026.png
END:VEVENT
BEGIN:VEVENT
DTSTART;VALUE=DATE:20251124
DTEND;VALUE=DATE:20251127
DTSTAMP:20260420T214520
CREATED:20251010T072109Z
LAST-MODIFIED:20251124T020503Z
UID:55923-1763942400-1764201599@csi.nus.edu.sg
SUMMARY:[Click to browse programme] CSI Singapore - Kyoto University Joint Symposium 2025
DESCRIPTION:Click here to browse the programme!
URL:https://csi.nus.edu.sg/event/csi-singapore-kyoto-university-joint-symposium-2025/
CATEGORIES:Symposium/Conference
ATTACH;FMTTYPE=image/png:https://csi.nus.edu.sg/wp-content/uploads/2025/10/24-26-Nov.png
END:VEVENT
BEGIN:VEVENT
DTSTART;TZID=Asia/Shanghai:20251105T090000
DTEND;TZID=Asia/Shanghai:20251107T180000
DTSTAMP:20260420T214520
CREATED:20241126T055340Z
LAST-MODIFIED:20250407T031729Z
UID:54084-1762333200-1762538400@csi.nus.edu.sg
SUMMARY:Frontiers in Cancer Science 2025
DESCRIPTION:
URL:https://csi.nus.edu.sg/event/frontiers-in-cancer-science-2025/
CATEGORIES:Symposium/Conference
ATTACH;FMTTYPE=image/jpeg:https://csi.nus.edu.sg/wp-content/uploads/2024/11/FA_FCS-2025_Townhall-Slide_030425.jpg
END:VEVENT
BEGIN:VEVENT
DTSTART;TZID=Asia/Shanghai:20250726T110000
DTEND;TZID=Asia/Shanghai:20250726T140000
DTSTAMP:20260420T214520
CREATED:20250703T052358Z
LAST-MODIFIED:20250703T052445Z
UID:55158-1753527600-1753538400@csi.nus.edu.sg
SUMMARY:Diana Koh Learning Series 2025: Breakthroughs in Cancer
DESCRIPTION:
URL:https://csi.nus.edu.sg/event/diana-koh-learning-series-2025-breakthroughs-in-cancer/
CATEGORIES:Symposium/Conference
ATTACH;FMTTYPE=image/png:https://csi.nus.edu.sg/wp-content/uploads/2025/06/DK-Learning-Series-2025.png
END:VEVENT
BEGIN:VEVENT
DTSTART;TZID=Asia/Shanghai:20250619T110000
DTEND;TZID=Asia/Shanghai:20250619T120000
DTSTAMP:20260420T214520
CREATED:20250610T094621Z
LAST-MODIFIED:20250610T094621Z
UID:55056-1750330800-1750334400@csi.nus.edu.sg
SUMMARY:CSI - N2CR - IMCB Joint Symposium - Prof. Patrick Chinnery
DESCRIPTION:
URL:https://csi.nus.edu.sg/event/csi-n2cr-imcb-joint-symposium-prof-patrick-chinnery/
CATEGORIES:Symposium/Conference
ATTACH;FMTTYPE=image/png:https://csi.nus.edu.sg/wp-content/uploads/2025/06/CSI-N2CR-IMCB-Joint-Symposium-Prof.-Patrick-Chinnery-web.png
END:VEVENT
BEGIN:VEVENT
DTSTART;VALUE=DATE:20241113
DTEND;VALUE=DATE:20241116
DTSTAMP:20260420T214520
CREATED:20240102T062455Z
LAST-MODIFIED:20240716T035905Z
UID:52761-1731456000-1731715199@csi.nus.edu.sg
SUMMARY:Frontiers in Cancer Science 2024
DESCRIPTION:
URL:https://csi.nus.edu.sg/event/frontiers-in-cancer-science-2024/
CATEGORIES:Symposium/Conference
ATTACH;FMTTYPE=image/jpeg:https://csi.nus.edu.sg/wp-content/uploads/2024/01/FA_FCS-2024_Poster_150724.jpg
END:VEVENT
BEGIN:VEVENT
DTSTART;TZID=Asia/Shanghai:20240705T143000
DTEND;TZID=Asia/Shanghai:20240705T170000
DTSTAMP:20260420T214520
CREATED:20240624T042218Z
LAST-MODIFIED:20240624T042218Z
UID:53386-1720189800-1720198800@csi.nus.edu.sg
SUMMARY:Professor Yoshiaki Ito: A Lifetime of Scientific Investigation
DESCRIPTION:
URL:https://csi.nus.edu.sg/event/professor-yoshiaki-ito-a-lifetime-of-scientific-investigation/
CATEGORIES:Symposium/Conference
ATTACH;FMTTYPE=image/png:https://csi.nus.edu.sg/wp-content/uploads/2024/06/Surprise-Ito-Poster-1.png
END:VEVENT
BEGIN:VEVENT
DTSTART;VALUE=DATE:20240423
DTEND;VALUE=DATE:20240427
DTSTAMP:20260420T214520
CREATED:20240102T063029Z
LAST-MODIFIED:20240207T022427Z
UID:52764-1713830400-1714175999@csi.nus.edu.sg
SUMMARY:EMBO Workshop - Chromatin Biology in Cancer 2024
DESCRIPTION:
URL:https://csi.nus.edu.sg/event/embo-workshop-chromatin-biology-in-cancer-2024/
CATEGORIES:Symposium/Conference
ATTACH;FMTTYPE=image/png:https://csi.nus.edu.sg/wp-content/uploads/2024/01/Chromatin-Biology-Banner-final.png
END:VEVENT
BEGIN:VEVENT
DTSTART;TZID=UTC:20231106T090000
DTEND;TZID=UTC:20231108T180000
DTSTAMP:20260420T214520
CREATED:20230509T023207Z
LAST-MODIFIED:20230816T060757Z
UID:50266-1699261200-1699466400@csi.nus.edu.sg
SUMMARY:Frontiers in Cancer Science 2023
DESCRIPTION:
URL:https://csi.nus.edu.sg/event/frontiers-in-cancer-science-2023/
CATEGORIES:Symposium/Conference
END:VEVENT
BEGIN:VEVENT
DTSTART;TZID=Asia/Shanghai:20230717T140000
DTEND;TZID=Asia/Shanghai:20230718T180000
DTSTAMP:20260420T214520
CREATED:20230509T021925Z
LAST-MODIFIED:20230509T021925Z
UID:50263-1689602400-1689703200@csi.nus.edu.sg
SUMMARY:CSI- ENS Symposium: Single-Cell Res/volution 2023
DESCRIPTION:
URL:https://csi.nus.edu.sg/event/csi-ens-symposium-2023/
CATEGORIES:Symposium/Conference
END:VEVENT
BEGIN:VEVENT
DTSTART;TZID=Asia/Shanghai:20230529T090000
DTEND;TZID=Asia/Shanghai:20230530T180000
DTSTAMP:20260420T214520
CREATED:20230511T033324Z
LAST-MODIFIED:20230511T033324Z
UID:50359-1685350800-1685469600@csi.nus.edu.sg
SUMMARY:STEP Ahead into an RNA World 2023
DESCRIPTION:
URL:https://csi.nus.edu.sg/event/step-ahead-into-an-rna-world-2023/
CATEGORIES:Symposium/Conference
END:VEVENT
BEGIN:VEVENT
DTSTART;TZID=Asia/Shanghai:20230213T120000
DTEND;TZID=Asia/Shanghai:20230213T180000
DTSTAMP:20260420T214521
CREATED:20230202T021116Z
LAST-MODIFIED:20230214T065337Z
UID:49287-1676289600-1676311200@csi.nus.edu.sg
SUMMARY:CSI Singapore – IIT Madras Joint Symposium
DESCRIPTION:Click on the poster below to view the tentative programme:\n\nClick here to register:  https://bit.ly/3wsDaqt
URL:https://csi.nus.edu.sg/event/csi-singapore-iit-madras-joint-symposium/
CATEGORIES:Symposium/Conference
ATTACH;FMTTYPE=image/jpeg:https://csi.nus.edu.sg/wp-content/uploads/2023/02/CSI-Singapore-–-IIT-Madras-Virtual-Joint-Symposium.jpg
END:VEVENT
BEGIN:VEVENT
DTSTART;TZID=UTC:20221117T010000
DTEND;TZID=UTC:20221118T100000
DTSTAMP:20260420T214521
CREATED:20230120T003015Z
LAST-MODIFIED:20230214T070128Z
UID:48044-1668646800-1668765600@csi.nus.edu.sg
SUMMARY:Joint GIS-CSI Conference
DESCRIPTION:Click on the poster below to view the programme:
URL:https://csi.nus.edu.sg/event/joint-gis-csi-conference/
CATEGORIES:Symposium/Conference
ATTACH;FMTTYPE=image/png:https://csi.nus.edu.sg/wp-content/uploads/2023/01/2022-11-RNA-Conference-EDM-8-724x1024-1.png
END:VEVENT
BEGIN:VEVENT
DTSTART;TZID=UTC:20221107T003000
DTEND;TZID=UTC:20221109T100000
DTSTAMP:20260420T214521
CREATED:20230120T002931Z
LAST-MODIFIED:20230214T070222Z
UID:48026-1667781000-1667988000@csi.nus.edu.sg
SUMMARY:Frontiers in Cancer Science (FCS) 2022
DESCRIPTION:
URL:https://csi.nus.edu.sg/event/frontiers-in-cancer-science-fcs-2022/
CATEGORIES:Symposium/Conference
ATTACH;FMTTYPE=image/png:https://csi.nus.edu.sg/wp-content/uploads/2023/01/rb_nus_csi_fcs22_poster_v4-1-724x1024-1.png
END:VEVENT
BEGIN:VEVENT
DTSTART;TZID=UTC:20220725T020000
DTEND;TZID=UTC:20220726T090000
DTSTAMP:20260420T214521
CREATED:20230120T002932Z
LAST-MODIFIED:20230214T073258Z
UID:48028-1658714400-1658826000@csi.nus.edu.sg
SUMMARY:EpiHK-CSI NUS-SBS NTU 2022 Joint Virtual Symposium: Epigenomics & RNA in Human Health and Disease
DESCRIPTION:
URL:https://csi.nus.edu.sg/event/epihk-csi-nus-sbs-ntu-2022-joint-virtual-symposium-epigenomics-rna-in-human-health-and-disease/
CATEGORIES:Symposium/Conference
ATTACH;FMTTYPE=image/png:https://csi.nus.edu.sg/wp-content/uploads/2023/01/2022-07-Joint-symposium-2022_Poster-1-1024x768-1.png
END:VEVENT
BEGIN:VEVENT
DTSTART;TZID=UTC:20211101T000000
DTEND;TZID=UTC:20211103T090000
DTSTAMP:20260420T214521
CREATED:20230120T002657Z
LAST-MODIFIED:20230120T002657Z
UID:47957-1635724800-1635930000@csi.nus.edu.sg
SUMMARY:Frontiers in Cancer Science 2021
DESCRIPTION:
URL:https://csi.nus.edu.sg/event/frontiers-in-cancer-science-2021/
CATEGORIES:Symposium/Conference
END:VEVENT
BEGIN:VEVENT
DTSTART;TZID=UTC:20210730T000000
DTEND;TZID=UTC:20210731T090000
DTSTAMP:20260420T214521
CREATED:20230120T002708Z
LAST-MODIFIED:20230202T014341Z
UID:47961-1627603200-1627722000@csi.nus.edu.sg
SUMMARY:NCAM 2021
DESCRIPTION:
URL:https://csi.nus.edu.sg/event/ncam-2021/
CATEGORIES:Symposium/Conference
END:VEVENT
BEGIN:VEVENT
DTSTART;TZID=UTC:20210215T070000
DTEND;TZID=UTC:20210217T120000
DTSTAMP:20260420T214521
CREATED:20230120T002616Z
LAST-MODIFIED:20230120T002616Z
UID:47943-1613372400-1613563200@csi.nus.edu.sg
SUMMARY:Epigenetics in Cancer Symposium 2021
DESCRIPTION:
URL:https://csi.nus.edu.sg/event/epigenetics-in-cancer-symposium-2021/
CATEGORIES:Symposium/Conference
END:VEVENT
END:VCALENDAR