BEGIN:VCALENDAR
VERSION:2.0
PRODID:-//NUS CSI - ECPv6.11.0.1//NONSGML v1.0//EN
CALSCALE:GREGORIAN
METHOD:PUBLISH
X-WR-CALNAME:NUS CSI
X-ORIGINAL-URL:https://csi.nus.edu.sg
X-WR-CALDESC:Events for NUS CSI
REFRESH-INTERVAL;VALUE=DURATION:PT1H
X-Robots-Tag:noindex
X-PUBLISHED-TTL:PT1H
BEGIN:VTIMEZONE
TZID:Asia/Shanghai
BEGIN:STANDARD
TZOFFSETFROM:+0800
TZOFFSETTO:+0800
TZNAME:CST
DTSTART:20260101T000000
END:STANDARD
END:VTIMEZONE
BEGIN:VEVENT
DTSTART;TZID=Asia/Shanghai:20260313T160000
DTEND;TZID=Asia/Shanghai:20260313T170000
DTSTAMP:20260420T134138
CREATED:20260106T093116Z
LAST-MODIFIED:20260305T074647Z
UID:56251-1773417600-1773421200@csi.nus.edu.sg
SUMMARY:CSI Research Meeting – 13 Mar 2026
DESCRIPTION:
URL:https://csi.nus.edu.sg/event/csi-research-meeting-13-mar-2026/
CATEGORIES:Research Meeting
ATTACH;FMTTYPE=image/png:https://csi.nus.edu.sg/wp-content/uploads/2026/01/CSI-RM-13-Mar-2026.png
END:VEVENT
BEGIN:VEVENT
DTSTART;TZID=Asia/Shanghai:20260327T160000
DTEND;TZID=Asia/Shanghai:20260327T170000
DTSTAMP:20260420T134138
CREATED:20260106T093152Z
LAST-MODIFIED:20260320T031830Z
UID:56253-1774627200-1774630800@csi.nus.edu.sg
SUMMARY:CSI Research Meeting – 27 Mar 2026
DESCRIPTION:
URL:https://csi.nus.edu.sg/event/csi-research-meeting-27-mar-2026/
CATEGORIES:Research Meeting
ATTACH;FMTTYPE=image/png:https://csi.nus.edu.sg/wp-content/uploads/2026/01/13-Mar-1.png
END:VEVENT
END:VCALENDAR