BEGIN:VCALENDAR
VERSION:2.0
PRODID:-//NUS CSI - ECPv6.11.0.1//NONSGML v1.0//EN
CALSCALE:GREGORIAN
METHOD:PUBLISH
X-WR-CALNAME:NUS CSI
X-ORIGINAL-URL:https://csi.nus.edu.sg
X-WR-CALDESC:Events for NUS CSI
REFRESH-INTERVAL;VALUE=DURATION:PT1H
X-Robots-Tag:noindex
X-PUBLISHED-TTL:PT1H
BEGIN:VTIMEZONE
TZID:Asia/Shanghai
BEGIN:STANDARD
TZOFFSETFROM:+0800
TZOFFSETTO:+0800
TZNAME:CST
DTSTART:20250101T000000
END:STANDARD
END:VTIMEZONE
BEGIN:VEVENT
DTSTART;TZID=Asia/Shanghai:20250613T160000
DTEND;TZID=Asia/Shanghai:20250613T170000
DTSTAMP:20260422T054850
CREATED:20250106T035100Z
LAST-MODIFIED:20250604T021522Z
UID:54268-1749830400-1749834000@csi.nus.edu.sg
SUMMARY:CSI Research Meeting - 13 Jun 2025
DESCRIPTION:
URL:https://csi.nus.edu.sg/event/csi-research-meeting-13-jun-2025/
CATEGORIES:Research Meeting
ATTACH;FMTTYPE=image/png:https://csi.nus.edu.sg/wp-content/uploads/2025/01/2025-CSI-RM-Poster-2-1.png
END:VEVENT
BEGIN:VEVENT
DTSTART;TZID=Asia/Shanghai:20250620T160000
DTEND;TZID=Asia/Shanghai:20250620T170000
DTSTAMP:20260422T054850
CREATED:20250106T035146Z
LAST-MODIFIED:20250617T095243Z
UID:54270-1750435200-1750438800@csi.nus.edu.sg
SUMMARY:CSI Research Meeting - 20 Jun 2025
DESCRIPTION:
URL:https://csi.nus.edu.sg/event/csi-research-meeting-20-jun-2025/
CATEGORIES:Research Meeting
ATTACH;FMTTYPE=image/png:https://csi.nus.edu.sg/wp-content/uploads/2025/01/2025-CSI-RM-Poster-3-1.png
END:VEVENT
END:VCALENDAR