BEGIN:VCALENDAR
VERSION:2.0
PRODID:-//NUS CSI - ECPv6.11.0.1//NONSGML v1.0//EN
CALSCALE:GREGORIAN
METHOD:PUBLISH
X-WR-CALNAME:NUS CSI
X-ORIGINAL-URL:https://csi.nus.edu.sg
X-WR-CALDESC:Events for NUS CSI
REFRESH-INTERVAL;VALUE=DURATION:PT1H
X-Robots-Tag:noindex
X-PUBLISHED-TTL:PT1H
BEGIN:VTIMEZONE
TZID:Asia/Shanghai
BEGIN:STANDARD
TZOFFSETFROM:+0800
TZOFFSETTO:+0800
TZNAME:CST
DTSTART:20250101T000000
END:STANDARD
END:VTIMEZONE
BEGIN:VEVENT
DTSTART;TZID=Asia/Shanghai:20250509T160000
DTEND;TZID=Asia/Shanghai:20250509T170000
DTSTAMP:20260423T145553
CREATED:20250106T034940Z
LAST-MODIFIED:20250429T030251Z
UID:54264-1746806400-1746810000@csi.nus.edu.sg
SUMMARY:CSI Research Meeting - 9 May 2025
DESCRIPTION:
URL:https://csi.nus.edu.sg/event/csi-research-meeting-9-may-2025/
CATEGORIES:Research Meeting
ATTACH;FMTTYPE=image/png:https://csi.nus.edu.sg/wp-content/uploads/2025/01/2025-CSI-RM-Poster-9-May.png
END:VEVENT
BEGIN:VEVENT
DTSTART;TZID=Asia/Shanghai:20250523T160000
DTEND;TZID=Asia/Shanghai:20250523T170000
DTSTAMP:20260423T145553
CREATED:20250106T035017Z
LAST-MODIFIED:20250519T060850Z
UID:54266-1748016000-1748019600@csi.nus.edu.sg
SUMMARY:CSI Research Meeting - 23 May 2025
DESCRIPTION:
URL:https://csi.nus.edu.sg/event/csi-research-meeting-23-may-2025/
CATEGORIES:Research Meeting
ATTACH;FMTTYPE=image/png:https://csi.nus.edu.sg/wp-content/uploads/2025/01/2025-CSI-RM-Poster-1-1.png
END:VEVENT
END:VCALENDAR