BEGIN:VCALENDAR
VERSION:2.0
PRODID:-//NUS CSI - ECPv6.11.0.1//NONSGML v1.0//EN
CALSCALE:GREGORIAN
METHOD:PUBLISH
X-WR-CALNAME:NUS CSI
X-ORIGINAL-URL:https://csi.nus.edu.sg
X-WR-CALDESC:Events for NUS CSI
REFRESH-INTERVAL;VALUE=DURATION:PT1H
X-Robots-Tag:noindex
X-PUBLISHED-TTL:PT1H
BEGIN:VTIMEZONE
TZID:Asia/Shanghai
BEGIN:STANDARD
TZOFFSETFROM:+0800
TZOFFSETTO:+0800
TZNAME:CST
DTSTART:20250101T000000
END:STANDARD
END:VTIMEZONE
BEGIN:VEVENT
DTSTART;TZID=Asia/Shanghai:20250117T160000
DTEND;TZID=Asia/Shanghai:20250117T170000
DTSTAMP:20260421T110027
CREATED:20250106T024328Z
LAST-MODIFIED:20250107T031724Z
UID:54247-1737129600-1737133200@csi.nus.edu.sg
SUMMARY:CSI Research Meeting - 17 Jan 2025
DESCRIPTION:
URL:https://csi.nus.edu.sg/event/csi-research-meeting-17-jan-2025/
CATEGORIES:Research Meeting
ATTACH;FMTTYPE=image/png:https://csi.nus.edu.sg/wp-content/uploads/2025/01/2025-CSI-RM-Poster.png
END:VEVENT
END:VCALENDAR