BEGIN:VCALENDAR
VERSION:2.0
PRODID:-//NUS CSI - ECPv6.11.0.1//NONSGML v1.0//EN
CALSCALE:GREGORIAN
METHOD:PUBLISH
X-WR-CALNAME:NUS CSI
X-ORIGINAL-URL:https://csi.nus.edu.sg
X-WR-CALDESC:Events for NUS CSI
REFRESH-INTERVAL;VALUE=DURATION:PT1H
X-Robots-Tag:noindex
X-PUBLISHED-TTL:PT1H
BEGIN:VTIMEZONE
TZID:UTC
BEGIN:STANDARD
TZOFFSETFROM:+0000
TZOFFSETTO:+0000
TZNAME:UTC
DTSTART:20230101T000000
END:STANDARD
END:VTIMEZONE
BEGIN:VEVENT
DTSTART;TZID=UTC:20230908T140000
DTEND;TZID=UTC:20230908T150000
DTSTAMP:20260422T140100
CREATED:20230120T003103Z
LAST-MODIFIED:20230906T055755Z
UID:48063-1694181600-1694185200@csi.nus.edu.sg
SUMMARY:CSI Research Meeting – 8 Sep
DESCRIPTION:
URL:https://csi.nus.edu.sg/event/csi-research-meeting-8-sep/
CATEGORIES:Research Meeting
ATTACH;FMTTYPE=image/png:https://csi.nus.edu.sg/wp-content/uploads/2023/01/8-Sep-CSI-RM-Poster-1.png
END:VEVENT
BEGIN:VEVENT
DTSTART;TZID=UTC:20230922T140000
DTEND;TZID=UTC:20230922T150000
DTSTAMP:20260422T140100
CREATED:20230120T003119Z
LAST-MODIFIED:20230922T025311Z
UID:48064-1695391200-1695394800@csi.nus.edu.sg
SUMMARY:CSI Research Meeting – 22 Sep
DESCRIPTION:
URL:https://csi.nus.edu.sg/event/csi-research-meeting-22-sep/
CATEGORIES:Research Meeting
ATTACH;FMTTYPE=image/png:https://csi.nus.edu.sg/wp-content/uploads/2023/01/22-Sept-CSI-RM-Poster.png
END:VEVENT
END:VCALENDAR