BEGIN:VCALENDAR
VERSION:2.0
PRODID:-//NUS CSI - ECPv6.11.0.1//NONSGML v1.0//EN
CALSCALE:GREGORIAN
METHOD:PUBLISH
X-WR-CALNAME:NUS CSI
X-ORIGINAL-URL:https://csi.nus.edu.sg
X-WR-CALDESC:Events for NUS CSI
REFRESH-INTERVAL;VALUE=DURATION:PT1H
X-Robots-Tag:noindex
X-PUBLISHED-TTL:PT1H
BEGIN:VTIMEZONE
TZID:UTC
BEGIN:STANDARD
TZOFFSETFROM:+0000
TZOFFSETTO:+0000
TZNAME:UTC
DTSTART:20230101T000000
END:STANDARD
END:VTIMEZONE
BEGIN:VEVENT
DTSTART;TZID=UTC:20230414T140000
DTEND;TZID=UTC:20230414T150000
DTSTAMP:20260421T025733
CREATED:20230120T003033Z
LAST-MODIFIED:20230410T090358Z
UID:48053-1681480800-1681484400@csi.nus.edu.sg
SUMMARY:CSI Research Meeting – 14 Apr
DESCRIPTION:
URL:https://csi.nus.edu.sg/event/csi-research-meeting-14-apr/
CATEGORIES:Research Meeting
END:VEVENT
BEGIN:VEVENT
DTSTART;TZID=UTC:20230428T140000
DTEND;TZID=UTC:20230428T150000
DTSTAMP:20260421T025733
CREATED:20230120T003045Z
LAST-MODIFIED:20230509T052448Z
UID:48054-1682690400-1682694000@csi.nus.edu.sg
SUMMARY:CSI Research Meeting – 28 Apr
DESCRIPTION:CANCELLED
URL:https://csi.nus.edu.sg/event/csi-research-meeting-28-apr/
CATEGORIES:Research Meeting
END:VEVENT
END:VCALENDAR