BEGIN:VCALENDAR
VERSION:2.0
PRODID:-//NUS CSI - ECPv6.11.0.1//NONSGML v1.0//EN
CALSCALE:GREGORIAN
METHOD:PUBLISH
X-WR-CALNAME:NUS CSI
X-ORIGINAL-URL:https://csi.nus.edu.sg
X-WR-CALDESC:Events for NUS CSI
REFRESH-INTERVAL;VALUE=DURATION:PT1H
X-Robots-Tag:noindex
X-PUBLISHED-TTL:PT1H
BEGIN:VTIMEZONE
TZID:UTC
BEGIN:STANDARD
TZOFFSETFROM:+0000
TZOFFSETTO:+0000
TZNAME:UTC
DTSTART:20230101T000000
END:STANDARD
END:VTIMEZONE
BEGIN:VEVENT
DTSTART;TZID=UTC:20230113T140000
DTEND;TZID=UTC:20230113T150000
DTSTAMP:20260420T153340
CREATED:20230120T003017Z
LAST-MODIFIED:20230601T030702Z
UID:48047-1673618400-1673622000@csi.nus.edu.sg
SUMMARY:CSI Research Meeting – 13 Jan
DESCRIPTION:
URL:https://csi.nus.edu.sg/event/csi-research-meeting-13-jan-2/
CATEGORIES:Research Meeting
ATTACH;FMTTYPE=image/png:https://csi.nus.edu.sg/wp-content/uploads/2023/01/CSI-RM-Poster-7-632x1024-1.png
END:VEVENT
BEGIN:VEVENT
DTSTART;TZID=UTC:20230127T140000
DTEND;TZID=UTC:20230127T150000
DTSTAMP:20260420T153340
CREATED:20230120T003017Z
LAST-MODIFIED:20230605T074447Z
UID:48048-1674828000-1674831600@csi.nus.edu.sg
SUMMARY:CSI Research Meeting – 27 Jan
DESCRIPTION:
URL:https://csi.nus.edu.sg/event/csi-research-meeting-27-jan/
CATEGORIES:Research Meeting
ATTACH;FMTTYPE=image/png:https://csi.nus.edu.sg/wp-content/uploads/2023/01/email_logo.png
END:VEVENT
END:VCALENDAR