BEGIN:VCALENDAR
VERSION:2.0
PRODID:-//NUS CSI - ECPv6.11.0.1//NONSGML v1.0//EN
CALSCALE:GREGORIAN
METHOD:PUBLISH
X-WR-CALNAME:NUS CSI
X-ORIGINAL-URL:https://csi.nus.edu.sg
X-WR-CALDESC:Events for NUS CSI
REFRESH-INTERVAL;VALUE=DURATION:PT1H
X-Robots-Tag:noindex
X-PUBLISHED-TTL:PT1H
BEGIN:VTIMEZONE
TZID:UTC
BEGIN:STANDARD
TZOFFSETFROM:+0000
TZOFFSETTO:+0000
TZNAME:UTC
DTSTART:20220101T000000
END:STANDARD
END:VTIMEZONE
BEGIN:VEVENT
DTSTART;TZID=UTC:20221007T050000
DTEND;TZID=UTC:20221007T060000
DTSTAMP:20260421T031127
CREATED:20230120T002842Z
LAST-MODIFIED:20230214T071805Z
UID:48007-1665118800-1665122400@csi.nus.edu.sg
SUMMARY:CSI Research Meeting - 7 Oct
DESCRIPTION:
URL:https://csi.nus.edu.sg/event/csi-research-meeting-7-oct-2/
CATEGORIES:Research Meeting
ATTACH;FMTTYPE=image/png:https://csi.nus.edu.sg/wp-content/uploads/2023/01/2021-12-Copy-of-CSI-RM-Poster-2-632x1024-1.png
END:VEVENT
BEGIN:VEVENT
DTSTART;TZID=UTC:20221028T050000
DTEND;TZID=UTC:20221028T060000
DTSTAMP:20260421T031127
CREATED:20230120T002843Z
LAST-MODIFIED:20230214T070242Z
UID:48008-1666933200-1666936800@csi.nus.edu.sg
SUMMARY:CSI Research Meeting - 28 Oct
DESCRIPTION:
URL:https://csi.nus.edu.sg/event/csi-research-meeting-28-oct/
CATEGORIES:Research Meeting
ATTACH;FMTTYPE=image/png:https://csi.nus.edu.sg/wp-content/uploads/2023/01/2021-12-CSI-RM-Poster-6-632x1024-1.png
END:VEVENT
END:VCALENDAR