BEGIN:VCALENDAR
VERSION:2.0
PRODID:-//NUS CSI - ECPv6.11.0.1//NONSGML v1.0//EN
CALSCALE:GREGORIAN
METHOD:PUBLISH
X-WR-CALNAME:NUS CSI
X-ORIGINAL-URL:https://csi.nus.edu.sg
X-WR-CALDESC:Events for NUS CSI
REFRESH-INTERVAL;VALUE=DURATION:PT1H
X-Robots-Tag:noindex
X-PUBLISHED-TTL:PT1H
BEGIN:VTIMEZONE
TZID:UTC
BEGIN:STANDARD
TZOFFSETFROM:+0000
TZOFFSETTO:+0000
TZNAME:UTC
DTSTART:20220101T000000
END:STANDARD
END:VTIMEZONE
BEGIN:VEVENT
DTSTART;TZID=UTC:20220909T050000
DTEND;TZID=UTC:20220909T060000
DTSTAMP:20260424T145110
CREATED:20230120T002840Z
LAST-MODIFIED:20230214T072341Z
UID:48005-1662699600-1662703200@csi.nus.edu.sg
SUMMARY:CSI Research Meeting - 9 Sep
DESCRIPTION:
URL:https://csi.nus.edu.sg/event/csi-research-meeting-9-sep/
CATEGORIES:Research Meeting
ATTACH;FMTTYPE=image/png:https://csi.nus.edu.sg/wp-content/uploads/2023/01/2021-12-Copy-of-CSI-RM-Poster-1-1-632x1024-1.png
END:VEVENT
BEGIN:VEVENT
DTSTART;TZID=UTC:20220923T050000
DTEND;TZID=UTC:20220923T060000
DTSTAMP:20260424T145110
CREATED:20230120T002841Z
LAST-MODIFIED:20230214T072112Z
UID:48006-1663909200-1663912800@csi.nus.edu.sg
SUMMARY:CSI Research Meeting - 23 Sep
DESCRIPTION:
URL:https://csi.nus.edu.sg/event/csi-research-meeting-23-sep-2/
CATEGORIES:Research Meeting
ATTACH;FMTTYPE=image/png:https://csi.nus.edu.sg/wp-content/uploads/2023/01/2021-12-CSI-RM-Poster-5-632x1024-1.png
END:VEVENT
END:VCALENDAR