BEGIN:VCALENDAR
VERSION:2.0
PRODID:-//NUS CSI - ECPv6.11.0.1//NONSGML v1.0//EN
CALSCALE:GREGORIAN
METHOD:PUBLISH
X-WR-CALNAME:NUS CSI
X-ORIGINAL-URL:https://csi.nus.edu.sg
X-WR-CALDESC:Events for NUS CSI
REFRESH-INTERVAL;VALUE=DURATION:PT1H
X-Robots-Tag:noindex
X-PUBLISHED-TTL:PT1H
BEGIN:VTIMEZONE
TZID:UTC
BEGIN:STANDARD
TZOFFSETFROM:+0000
TZOFFSETTO:+0000
TZNAME:UTC
DTSTART:20220101T000000
END:STANDARD
END:VTIMEZONE
BEGIN:VEVENT
DTSTART;TZID=UTC:20220701T050000
DTEND;TZID=UTC:20220701T060000
DTSTAMP:20260423T084831
CREATED:20230120T002832Z
LAST-MODIFIED:20230214T073457Z
UID:48001-1656651600-1656655200@csi.nus.edu.sg
SUMMARY:CSI Research Meeting - 1 Jul
DESCRIPTION:
URL:https://csi.nus.edu.sg/event/csi-research-meeting-1-jul/
CATEGORIES:Research Meeting
ATTACH;FMTTYPE=image/png:https://csi.nus.edu.sg/wp-content/uploads/2023/01/2021-12-CSI-RM-Poster-1-July-632x1024-1.png
END:VEVENT
BEGIN:VEVENT
DTSTART;TZID=UTC:20220715T050000
DTEND;TZID=UTC:20220715T060000
DTSTAMP:20260423T084831
CREATED:20230120T002832Z
LAST-MODIFIED:20230120T002832Z
UID:48002-1657861200-1657864800@csi.nus.edu.sg
SUMMARY:CSI Research Meeting - 15 Jul
DESCRIPTION:TBC
URL:https://csi.nus.edu.sg/event/csi-research-meeting-15-jul/
CATEGORIES:Research Meeting
END:VEVENT
END:VCALENDAR