BEGIN:VCALENDAR
VERSION:2.0
PRODID:-//NUS CSI - ECPv6.11.0.1//NONSGML v1.0//EN
CALSCALE:GREGORIAN
METHOD:PUBLISH
X-WR-CALNAME:NUS CSI
X-ORIGINAL-URL:https://csi.nus.edu.sg
X-WR-CALDESC:Events for NUS CSI
REFRESH-INTERVAL;VALUE=DURATION:PT1H
X-Robots-Tag:noindex
X-PUBLISHED-TTL:PT1H
BEGIN:VTIMEZONE
TZID:UTC
BEGIN:STANDARD
TZOFFSETFROM:+0000
TZOFFSETTO:+0000
TZNAME:UTC
DTSTART:20220101T000000
END:STANDARD
END:VTIMEZONE
BEGIN:VEVENT
DTSTART;TZID=UTC:20220603T050000
DTEND;TZID=UTC:20220603T060000
DTSTAMP:20260423T095736
CREATED:20230120T002830Z
LAST-MODIFIED:20230214T073836Z
UID:47999-1654232400-1654236000@csi.nus.edu.sg
SUMMARY:CSI Research Meeting - 3 Jun
DESCRIPTION:
URL:https://csi.nus.edu.sg/event/csi-research-meeting-3-jun/
CATEGORIES:Research Meeting
ATTACH;FMTTYPE=image/png:https://csi.nus.edu.sg/wp-content/uploads/2023/01/2021-12-CSI-RM-Poster-1-1-632x1024-1.png
END:VEVENT
BEGIN:VEVENT
DTSTART;TZID=UTC:20220617T050000
DTEND;TZID=UTC:20220617T060000
DTSTAMP:20260423T095736
CREATED:20230120T002831Z
LAST-MODIFIED:20230214T073514Z
UID:48000-1655442000-1655445600@csi.nus.edu.sg
SUMMARY:CSI Research Meeting - 17 Jun
DESCRIPTION:
URL:https://csi.nus.edu.sg/event/csi-research-meeting-17-jun/
CATEGORIES:Research Meeting
ATTACH;FMTTYPE=image/png:https://csi.nus.edu.sg/wp-content/uploads/2023/01/2021-12-CSI-RM-Poster-17-Jun-632x1024-1.png
END:VEVENT
END:VCALENDAR