BEGIN:VCALENDAR
VERSION:2.0
PRODID:-//NUS CSI - ECPv6.11.0.1//NONSGML v1.0//EN
CALSCALE:GREGORIAN
METHOD:PUBLISH
X-WR-CALNAME:NUS CSI
X-ORIGINAL-URL:https://csi.nus.edu.sg
X-WR-CALDESC:Events for NUS CSI
REFRESH-INTERVAL;VALUE=DURATION:PT1H
X-Robots-Tag:noindex
X-PUBLISHED-TTL:PT1H
BEGIN:VTIMEZONE
TZID:UTC
BEGIN:STANDARD
TZOFFSETFROM:+0000
TZOFFSETTO:+0000
TZNAME:UTC
DTSTART:20210101T000000
END:STANDARD
END:VTIMEZONE
BEGIN:VEVENT
DTSTART;TZID=UTC:20211001T050000
DTEND;TZID=UTC:20211001T060000
DTSTAMP:20260425T080254
CREATED:20230120T002745Z
LAST-MODIFIED:20230130T003233Z
UID:47975-1633064400-1633068000@csi.nus.edu.sg
SUMMARY:CSI Research Meeting - 1 Oct
DESCRIPTION:
URL:https://csi.nus.edu.sg/event/csi-research-meeting-1-oct/
CATEGORIES:Research Meeting
END:VEVENT
BEGIN:VEVENT
DTSTART;TZID=UTC:20211015T050000
DTEND;TZID=UTC:20211015T060000
DTSTAMP:20260425T080254
CREATED:20230120T002746Z
LAST-MODIFIED:20230130T002350Z
UID:47976-1634274000-1634277600@csi.nus.edu.sg
SUMMARY:CSI Research Meeting - 15 Oct
DESCRIPTION:
URL:https://csi.nus.edu.sg/event/csi-research-meeting-15-oct/
CATEGORIES:Research Meeting
END:VEVENT
END:VCALENDAR