BEGIN:VCALENDAR
VERSION:2.0
PRODID:-//NUS CSI - ECPv6.11.0.1//NONSGML v1.0//EN
CALSCALE:GREGORIAN
METHOD:PUBLISH
X-WR-CALNAME:NUS CSI
X-ORIGINAL-URL:https://csi.nus.edu.sg
X-WR-CALDESC:Events for NUS CSI
REFRESH-INTERVAL;VALUE=DURATION:PT1H
X-Robots-Tag:noindex
X-PUBLISHED-TTL:PT1H
BEGIN:VTIMEZONE
TZID:UTC
BEGIN:STANDARD
TZOFFSETFROM:+0000
TZOFFSETTO:+0000
TZNAME:UTC
DTSTART:20210101T000000
END:STANDARD
END:VTIMEZONE
BEGIN:VEVENT
DTSTART;TZID=UTC:20210604T073000
DTEND;TZID=UTC:20210604T083000
DTSTAMP:20260426T040537
CREATED:20230120T002730Z
LAST-MODIFIED:20230130T003828Z
UID:47965-1622791800-1622795400@csi.nus.edu.sg
SUMMARY:CSI Research Meeting - 4 June
DESCRIPTION:
URL:https://csi.nus.edu.sg/event/csi-research-meeting-4-june/
CATEGORIES:Research Meeting
END:VEVENT
BEGIN:VEVENT
DTSTART;TZID=UTC:20210618T023000
DTEND;TZID=UTC:20210618T033000
DTSTAMP:20260426T040537
CREATED:20230120T002653Z
LAST-MODIFIED:20230130T003820Z
UID:47951-1623983400-1623987000@csi.nus.edu.sg
SUMMARY:CSI Research Meeting - 18 June
DESCRIPTION:
URL:https://csi.nus.edu.sg/event/csi-research-meeting-18-june/
CATEGORIES:Research Meeting
END:VEVENT
END:VCALENDAR