BEGIN:VCALENDAR
VERSION:2.0
PRODID:-//NUS CSI - ECPv6.11.0.1//NONSGML v1.0//EN
CALSCALE:GREGORIAN
METHOD:PUBLISH
X-WR-CALNAME:NUS CSI
X-ORIGINAL-URL:https://csi.nus.edu.sg
X-WR-CALDESC:Events for NUS CSI
REFRESH-INTERVAL;VALUE=DURATION:PT1H
X-Robots-Tag:noindex
X-PUBLISHED-TTL:PT1H
BEGIN:VTIMEZONE
TZID:Asia/Shanghai
BEGIN:STANDARD
TZOFFSETFROM:+0800
TZOFFSETTO:+0800
TZNAME:CST
DTSTART:20230101T000000
END:STANDARD
END:VTIMEZONE
BEGIN:VTIMEZONE
TZID:UTC
BEGIN:STANDARD
TZOFFSETFROM:+0000
TZOFFSETTO:+0000
TZNAME:UTC
DTSTART:20210101T000000
END:STANDARD
END:VTIMEZONE
BEGIN:VEVENT
DTSTART;TZID=Asia/Shanghai:20231208T140000
DTEND;TZID=Asia/Shanghai:20231208T150000
DTSTAMP:20260421T091324
CREATED:20231129T025146Z
LAST-MODIFIED:20231129T025146Z
UID:52677-1702044000-1702047600@csi.nus.edu.sg
SUMMARY:CSI Distinguished Speakers’ Series – Prof. Pär Nordlund
DESCRIPTION:
URL:https://csi.nus.edu.sg/event/csi-distinguished-speakers-series-prof-par-nordlund/
CATEGORIES:Distinguished Speaker's Series
ATTACH;FMTTYPE=image/png:https://csi.nus.edu.sg/wp-content/uploads/2023/11/DSS-Web-Par-1.png
END:VEVENT
BEGIN:VEVENT
DTSTART;TZID=Asia/Shanghai:20231127T160000
DTEND;TZID=Asia/Shanghai:20231127T170000
DTSTAMP:20260421T091324
CREATED:20231018T092421Z
LAST-MODIFIED:20231023T053141Z
UID:52576-1701100800-1701104400@csi.nus.edu.sg
SUMMARY:CSI Distinguished Speakers' Series - Prof. Yoshiaki Kubota
DESCRIPTION:
URL:https://csi.nus.edu.sg/event/csi-distinguished-speakers-series-prof-yoshiaki-kubota/
CATEGORIES:Distinguished Speaker's Series
ATTACH;FMTTYPE=image/png:https://csi.nus.edu.sg/wp-content/uploads/2023/10/DSS-Web-Yoshi-.png
END:VEVENT
BEGIN:VEVENT
DTSTART;TZID=Asia/Shanghai:20231109T160000
DTEND;TZID=Asia/Shanghai:20231109T170000
DTSTAMP:20260421T091324
CREATED:20231018T024138Z
LAST-MODIFIED:20231018T024138Z
UID:52573-1699545600-1699549200@csi.nus.edu.sg
SUMMARY:CSI Distinguished Speakers' Series - Prof. Tony Letai
DESCRIPTION:
URL:https://csi.nus.edu.sg/event/csi-distinguished-speakers-series-prof-tony-letai/
CATEGORIES:Distinguished Speaker's Series
ATTACH;FMTTYPE=image/png:https://csi.nus.edu.sg/wp-content/uploads/2023/10/DSS-Web-Tony-Letai.png
END:VEVENT
BEGIN:VEVENT
DTSTART;TZID=Asia/Shanghai:20231023T103000
DTEND;TZID=Asia/Shanghai:20231023T113000
DTSTAMP:20260421T091324
CREATED:20230913T102622Z
LAST-MODIFIED:20230913T102622Z
UID:52388-1698057000-1698060600@csi.nus.edu.sg
SUMMARY:CSI Distinguished Speakers' Series - Prof. Steven Rosen
DESCRIPTION:
URL:https://csi.nus.edu.sg/event/csi-distinguished-speakers-series-prof-steven-rosen/
CATEGORIES:Distinguished Speaker's Series
ATTACH;FMTTYPE=image/png:https://csi.nus.edu.sg/wp-content/uploads/2023/09/DSS-Web-Steven-1-1.png
END:VEVENT
BEGIN:VEVENT
DTSTART;TZID=Asia/Shanghai:20230605T103000
DTEND;TZID=Asia/Shanghai:20230605T113000
DTSTAMP:20260421T091324
CREATED:20230413T125629Z
LAST-MODIFIED:20230413T125629Z
UID:50026-1685961000-1685964600@csi.nus.edu.sg
SUMMARY:CSI Distinguished Speakers' Series (An RNA Biology Series @ NUS): Prof. Lynne Maquat
DESCRIPTION:
URL:https://csi.nus.edu.sg/event/csi-distinguished-speakers-series-an-rna-biology-series-nus-prof-lynne-maquat/
CATEGORIES:Distinguished Speaker's Series
END:VEVENT
BEGIN:VEVENT
DTSTART;TZID=Asia/Shanghai:20230228T140000
DTEND;TZID=Asia/Shanghai:20230228T150000
DTSTAMP:20260421T091324
CREATED:20230202T021203Z
LAST-MODIFIED:20230315T034144Z
UID:49291-1677592800-1677596400@csi.nus.edu.sg
SUMMARY:CSI Distinguished Speakers’ Series – Dr. Andre Nussenzweig
DESCRIPTION:
URL:https://csi.nus.edu.sg/event/csi-distinguished-speakers-series-dr-andre-nussenzweig/
CATEGORIES:Distinguished Speaker's Series
ATTACH;FMTTYPE=image/png:https://csi.nus.edu.sg/wp-content/uploads/2023/02/DSS-Web-Andre-614x1024-1.png
END:VEVENT
BEGIN:VEVENT
DTSTART;TZID=Asia/Shanghai:20230202T160000
DTEND;TZID=Asia/Shanghai:20230202T170000
DTSTAMP:20260421T091324
CREATED:20230202T020720Z
LAST-MODIFIED:20230217T014434Z
UID:49284-1675353600-1675357200@csi.nus.edu.sg
SUMMARY:CSI Distinguished Speakers’ Series – Prof. Thomas Look
DESCRIPTION:
URL:https://csi.nus.edu.sg/event/csi-distinguished-speakers-series-prof-thomas-look/
CATEGORIES:Distinguished Speaker's Series
ATTACH;FMTTYPE=image/png:https://csi.nus.edu.sg/wp-content/uploads/2023/02/DSS-Web-Thomas-Look-614x1024-1.png
END:VEVENT
BEGIN:VEVENT
DTSTART;TZID=UTC:20221013T083000
DTEND;TZID=UTC:20221013T093000
DTSTAMP:20260421T091324
CREATED:20230120T002945Z
LAST-MODIFIED:20230214T070730Z
UID:48035-1665649800-1665653400@csi.nus.edu.sg
SUMMARY:CSI Distinguished Speakers' Series - Prof. Peter Van Loo
DESCRIPTION:
URL:https://csi.nus.edu.sg/event/csi-distinguished-speakers-series-prof-peter-van-loo/
CATEGORIES:Distinguished Speaker's Series
ATTACH;FMTTYPE=image/png:https://csi.nus.edu.sg/wp-content/uploads/2023/01/2022-09-Distinguished-Speakers-Series-Peter-Van-Loo_for-web-673x1024-1.png
END:VEVENT
BEGIN:VEVENT
DTSTART;TZID=UTC:20220928T010000
DTEND;TZID=UTC:20220928T020000
DTSTAMP:20260421T091324
CREATED:20230120T002957Z
LAST-MODIFIED:20230214T072015Z
UID:48041-1664326800-1664330400@csi.nus.edu.sg
SUMMARY:CSI Distinguished Speakers' Series - Prof. Heike Grabsch
DESCRIPTION:
URL:https://csi.nus.edu.sg/event/csi-distinguished-speakers-series-prof-heike-grabsch/
CATEGORIES:Distinguished Speaker's Series
ATTACH;FMTTYPE=image/png:https://csi.nus.edu.sg/wp-content/uploads/2023/01/2022-09-Distinguished-Speakers-Series-Heike-Grabsch_for-web-1.png
END:VEVENT
BEGIN:VEVENT
DTSTART;TZID=UTC:20220614T060000
DTEND;TZID=UTC:20220614T070000
DTSTAMP:20260421T091324
CREATED:20230120T002915Z
LAST-MODIFIED:20230214T073732Z
UID:48019-1655186400-1655190000@csi.nus.edu.sg
SUMMARY:CSI Distinguished Speakers’ Series – G.V. Shivashankar
DESCRIPTION:
URL:https://csi.nus.edu.sg/event/csi-distinguished-speakers-series-g-v-shivashankar/
CATEGORIES:Distinguished Speaker's Series
ATTACH;FMTTYPE=image/png:https://csi.nus.edu.sg/wp-content/uploads/2023/01/2022-05-Distinguished-Speakers-Series-G.V.Shivashankar_for-web-1.png
END:VEVENT
BEGIN:VEVENT
DTSTART;TZID=UTC:20220530T070000
DTEND;TZID=UTC:20220530T080000
DTSTAMP:20260421T091324
CREATED:20230120T002902Z
LAST-MODIFIED:20230214T073914Z
UID:48018-1653894000-1653897600@csi.nus.edu.sg
SUMMARY:CSI Virtual Distinguished Speakers' Series - Prof. Caroline Dive
DESCRIPTION:
URL:https://csi.nus.edu.sg/event/csi-virtual-distinguished-speakers-series-prof-caroline-dive/
CATEGORIES:Distinguished Speaker's Series
ATTACH;FMTTYPE=image/png:https://csi.nus.edu.sg/wp-content/uploads/2023/01/2022-05-Distinguished-Speakers-Series-Caroline-Dive_for-web-1.png
END:VEVENT
BEGIN:VEVENT
DTSTART;TZID=UTC:20220421T080000
DTEND;TZID=UTC:20220421T090000
DTSTAMP:20260421T091324
CREATED:20230120T002859Z
LAST-MODIFIED:20230214T074354Z
UID:48014-1650528000-1650531600@csi.nus.edu.sg
SUMMARY:CSI Distinguished Speakers’ Series – Michael Teitell
DESCRIPTION:
URL:https://csi.nus.edu.sg/event/csi-distinguished-speakers-series-michael-teitell/
CATEGORIES:Distinguished Speaker's Series
ATTACH;FMTTYPE=image/png:https://csi.nus.edu.sg/wp-content/uploads/2023/01/2022-03-Distinguished-Speakers-Series-Michael-Teitell_web-without-zoom-673x1024-1.png
END:VEVENT
BEGIN:VEVENT
DTSTART;TZID=UTC:20220118T010000
DTEND;TZID=UTC:20220118T020000
DTSTAMP:20260421T091324
CREATED:20230120T002805Z
LAST-MODIFIED:20230214T075211Z
UID:47987-1642467600-1642471200@csi.nus.edu.sg
SUMMARY:CSI Virtual Distinguished Speakers’ Series – Joan Massagué
DESCRIPTION:
URL:https://csi.nus.edu.sg/event/csi-virtual-distinguished-speakers-series-joan-massague/
CATEGORIES:Distinguished Speaker's Series
ATTACH;FMTTYPE=image/jpeg:https://csi.nus.edu.sg/wp-content/uploads/2023/01/2021-12-Distinguished-Speakers-Series-Joan-Massague_for-web-673x1024-1.jpg
END:VEVENT
BEGIN:VEVENT
DTSTART;TZID=UTC:20211019T003000
DTEND;TZID=UTC:20211019T013000
DTSTAMP:20260421T091324
CREATED:20230120T002731Z
LAST-MODIFIED:20230130T004815Z
UID:47966-1634603400-1634607000@csi.nus.edu.sg
SUMMARY:CSI Virtual Distinguished Speakers' Series - William Hanh
DESCRIPTION:
URL:https://csi.nus.edu.sg/event/csi-virtual-distinguished-speakers-series-william-hanh/
CATEGORIES:Distinguished Speaker's Series
END:VEVENT
BEGIN:VEVENT
DTSTART;TZID=UTC:20210920T060000
DTEND;TZID=UTC:20210920T070000
DTSTAMP:20260421T091324
CREATED:20230120T002731Z
LAST-MODIFIED:20230130T004813Z
UID:47967-1632117600-1632121200@csi.nus.edu.sg
SUMMARY:CSI Virtual Distinguished Speaker's Series - Andreas Strasser
DESCRIPTION:
URL:https://csi.nus.edu.sg/event/csi-virtual-distinguished-speakers-series-andreas-strasser/
CATEGORIES:Distinguished Speaker's Series
END:VEVENT
BEGIN:VEVENT
DTSTART;TZID=UTC:20210420T030000
DTEND;TZID=UTC:20210420T040000
DTSTAMP:20260421T091324
CREATED:20230120T002313Z
LAST-MODIFIED:20230120T002313Z
UID:47900-1618887600-1618891200@csi.nus.edu.sg
SUMMARY:CSI Distinguished Speakers’ Series – Michael A. Teitell
DESCRIPTION:To be updated
URL:https://csi.nus.edu.sg/event/csi-distinguished-speakers-series-michael-a-teitell/
CATEGORIES:Distinguished Speaker's Series
END:VEVENT
BEGIN:VEVENT
DTSTART;TZID=UTC:20210308T083000
DTEND;TZID=UTC:20210308T093000
DTSTAMP:20260421T091324
CREATED:20230120T002708Z
LAST-MODIFIED:20230130T004812Z
UID:47960-1615192200-1615195800@csi.nus.edu.sg
SUMMARY:CSI Virtual Distinguished Speakers' Series - Dario Campana
DESCRIPTION:
URL:https://csi.nus.edu.sg/event/csi-virtual-distinguished-speakers-series-dario-campana/
CATEGORIES:Distinguished Speaker's Series
END:VEVENT
END:VCALENDAR