BEGIN:VCALENDAR
VERSION:2.0
PRODID:-//NUS CSI - ECPv6.11.0.1//NONSGML v1.0//EN
CALSCALE:GREGORIAN
METHOD:PUBLISH
X-ORIGINAL-URL:https://csi.nus.edu.sg
X-WR-CALDESC:Events for NUS CSI
REFRESH-INTERVAL;VALUE=DURATION:PT1H
X-Robots-Tag:noindex
X-PUBLISHED-TTL:PT1H
BEGIN:VTIMEZONE
TZID:Asia/Shanghai
BEGIN:STANDARD
TZOFFSETFROM:+0800
TZOFFSETTO:+0800
TZNAME:CST
DTSTART:20240101T000000
END:STANDARD
END:VTIMEZONE
BEGIN:VEVENT
DTSTART;TZID=Asia/Shanghai:20240422T143000
DTEND;TZID=Asia/Shanghai:20240422T153000
DTSTAMP:20260420T154047
CREATED:20240402T034714Z
LAST-MODIFIED:20240402T034714Z
UID:53057-1713796200-1713799800@csi.nus.edu.sg
SUMMARY:CSI Distinguished Speakers' Series - Dr. Bernd Pulverer
DESCRIPTION:
URL:https://csi.nus.edu.sg/event/csi-distinguished-speakers-series-dr-bernd-pulverer/
CATEGORIES:Distinguished Speaker's Series
ATTACH;FMTTYPE=image/png:https://csi.nus.edu.sg/wp-content/uploads/2024/04/DSS-Web-Bernd.png
END:VEVENT
END:VCALENDAR