BEGIN:VCALENDAR
VERSION:2.0
PRODID:-//NUS CSI - ECPv6.11.0.1//NONSGML v1.0//EN
CALSCALE:GREGORIAN
METHOD:PUBLISH
X-WR-CALNAME:NUS CSI
X-ORIGINAL-URL:https://csi.nus.edu.sg
X-WR-CALDESC:Events for NUS CSI
REFRESH-INTERVAL;VALUE=DURATION:PT1H
X-Robots-Tag:noindex
X-PUBLISHED-TTL:PT1H
BEGIN:VTIMEZONE
TZID:Asia/Shanghai
BEGIN:STANDARD
TZOFFSETFROM:+0800
TZOFFSETTO:+0800
TZNAME:CST
DTSTART:20230101T000000
END:STANDARD
END:VTIMEZONE
BEGIN:VTIMEZONE
TZID:UTC
BEGIN:STANDARD
TZOFFSETFROM:+0000
TZOFFSETTO:+0000
TZNAME:UTC
DTSTART:20220101T000000
END:STANDARD
END:VTIMEZONE
BEGIN:VEVENT
DTSTART;TZID=Asia/Shanghai:20240213T100000
DTEND;TZID=Asia/Shanghai:20240213T110000
DTSTAMP:20260422T064553
CREATED:20240104T023033Z
LAST-MODIFIED:20240104T023033Z
UID:52784-1707818400-1707822000@csi.nus.edu.sg
SUMMARY:CSI Research Seminar - Dr. Sizun Jiang
DESCRIPTION:
URL:https://csi.nus.edu.sg/event/csi-research-seminar-dr-sizun-jiang/
CATEGORIES:CSI Seminar
ATTACH;FMTTYPE=image/png:https://csi.nus.edu.sg/wp-content/uploads/2024/01/RS-Web-Sizun.png
END:VEVENT
BEGIN:VEVENT
DTSTART;TZID=Asia/Shanghai:20231026T100000
DTEND;TZID=Asia/Shanghai:20231026T110000
DTSTAMP:20260422T064553
CREATED:20230926T021738Z
LAST-MODIFIED:20230926T021738Z
UID:52467-1698314400-1698318000@csi.nus.edu.sg
SUMMARY:CSI Research Seminar - A/Prof. Gina DeNicola & A/Prof. Florian Karreth
DESCRIPTION:
URL:https://csi.nus.edu.sg/event/csi-research-seminar-a-prof-gina-denicola-a-prof-florian-karreth/
CATEGORIES:CSI Seminar
ATTACH;FMTTYPE=image/png:https://csi.nus.edu.sg/wp-content/uploads/2023/09/RS-Web-Florian-Gina.png
END:VEVENT
BEGIN:VEVENT
DTSTART;TZID=Asia/Shanghai:20230921T150000
DTEND;TZID=Asia/Shanghai:20230921T160000
DTSTAMP:20260422T064553
CREATED:20230906T060547Z
LAST-MODIFIED:20230906T060547Z
UID:52318-1695308400-1695312000@csi.nus.edu.sg
SUMMARY:CSI Research Seminar - A/Prof. Rob Welner
DESCRIPTION:
URL:https://csi.nus.edu.sg/event/csi-research-seminar-a-prof-rob-welner/
CATEGORIES:CSI Seminar
ATTACH;FMTTYPE=image/png:https://csi.nus.edu.sg/wp-content/uploads/2023/09/RS-Web-Rob-Welner.png
END:VEVENT
BEGIN:VEVENT
DTSTART;TZID=Asia/Shanghai:20230906T153000
DTEND;TZID=Asia/Shanghai:20230906T163000
DTSTAMP:20260422T064553
CREATED:20230906T061142Z
LAST-MODIFIED:20230906T061142Z
UID:52321-1694014200-1694017800@csi.nus.edu.sg
SUMMARY:CSI Research Seminar - A/Prof. Fereydoun Hormozdiari
DESCRIPTION:
URL:https://csi.nus.edu.sg/event/csi-research-seminar-a-prof-fereydoun-hormozdiari/
CATEGORIES:CSI Seminar
ATTACH;FMTTYPE=image/png:https://csi.nus.edu.sg/wp-content/uploads/2023/09/RS-Web-Fereydoun.png
END:VEVENT
BEGIN:VEVENT
DTSTART;TZID=Asia/Shanghai:20230720T130000
DTEND;TZID=Asia/Shanghai:20230720T140000
DTSTAMP:20260422T064553
CREATED:20230511T021337Z
LAST-MODIFIED:20230511T021337Z
UID:50356-1689858000-1689861600@csi.nus.edu.sg
SUMMARY:CSI Singapore & NUS Centre for Cancer Research (N2CR) Research Seminar - Prof. Song Shumei
DESCRIPTION:
URL:https://csi.nus.edu.sg/event/csi-singapore-nus-centre-for-cancer-research-n2cr-research-seminar-prof-song-shumei/
CATEGORIES:CSI Seminar
END:VEVENT
BEGIN:VEVENT
DTSTART;TZID=Asia/Shanghai:20230421T160000
DTEND;TZID=Asia/Shanghai:20230421T170000
DTSTAMP:20260422T064553
CREATED:20230410T033908Z
LAST-MODIFIED:20230410T033908Z
UID:49978-1682092800-1682096400@csi.nus.edu.sg
SUMMARY:CSI Singapore GeDaC Presents: "Ask a Bioinformatician" tea time series
DESCRIPTION:
URL:https://csi.nus.edu.sg/event/csi-singapore-gedac-presents-ask-a-bioinformatician-tea-time-series/
CATEGORIES:CSI Seminar
END:VEVENT
BEGIN:VEVENT
DTSTART;TZID=Asia/Shanghai:20230130T090000
DTEND;TZID=Asia/Shanghai:20230130T100000
DTSTAMP:20260422T064553
CREATED:20230202T020413Z
LAST-MODIFIED:20230216T000130Z
UID:49281-1675069200-1675072800@csi.nus.edu.sg
SUMMARY:CSI Seminar – Dr Shunqing Liang
DESCRIPTION:
URL:https://csi.nus.edu.sg/event/csi-seminar-dr-shunqing-liang/
CATEGORIES:CSI Seminar
ATTACH;FMTTYPE=image/jpeg:https://csi.nus.edu.sg/wp-content/uploads/2023/02/shunqing.jpg
END:VEVENT
BEGIN:VEVENT
DTSTART;TZID=UTC:20221202T063000
DTEND;TZID=UTC:20221202T073000
DTSTAMP:20260422T064553
CREATED:20230120T003015Z
LAST-MODIFIED:20230214T070039Z
UID:48045-1669962600-1669966200@csi.nus.edu.sg
SUMMARY:CSI Research Seminar - Dr. Hiromichi Ebi
DESCRIPTION:
URL:https://csi.nus.edu.sg/event/csi-research-seminar-dr-hiromichi-ebi/
CATEGORIES:CSI Seminar
ATTACH;FMTTYPE=image/png:https://csi.nus.edu.sg/wp-content/uploads/2023/01/2022-11-Dr-Hiromichi-Ebi-Web-614x1024-1.png
END:VEVENT
BEGIN:VEVENT
DTSTART;TZID=UTC:20221201T080000
DTEND;TZID=UTC:20221201T090000
DTSTAMP:20260422T064553
CREATED:20230120T003016Z
LAST-MODIFIED:20230214T070104Z
UID:48046-1669881600-1669885200@csi.nus.edu.sg
SUMMARY:CSI Research Seminar - A/Prof. Pieter Eichhorn
DESCRIPTION:
URL:https://csi.nus.edu.sg/event/csi-research-seminar-a-prof-pieter-eichhorn/
CATEGORIES:CSI Seminar
ATTACH;FMTTYPE=image/png:https://csi.nus.edu.sg/wp-content/uploads/2023/01/Pieter-Eichhorn-Web-614x1024-1.png
END:VEVENT
BEGIN:VEVENT
DTSTART;TZID=UTC:20221110T030000
DTEND;TZID=UTC:20221110T040000
DTSTAMP:20260422T064553
CREATED:20230120T002959Z
LAST-MODIFIED:20230214T070145Z
UID:48043-1668049200-1668052800@csi.nus.edu.sg
SUMMARY:CSI Seminar - Prof. Kristijan Ramadan
DESCRIPTION:
URL:https://csi.nus.edu.sg/event/csi-seminar-prof-kristijan-ramadan/
CATEGORIES:CSI Seminar
ATTACH;FMTTYPE=image/jpeg:https://csi.nus.edu.sg/wp-content/uploads/2023/01/2022-11-kristijan.jpg
END:VEVENT
BEGIN:VEVENT
DTSTART;TZID=UTC:20221026T080000
DTEND;TZID=UTC:20221026T090000
DTSTAMP:20260422T064553
CREATED:20230120T002956Z
LAST-MODIFIED:20230214T070357Z
UID:48039-1666771200-1666774800@csi.nus.edu.sg
SUMMARY:CSI Seminar – Dr Ruoyan Li
DESCRIPTION:
URL:https://csi.nus.edu.sg/event/csi-seminar-dr-ruoyan-li/
CATEGORIES:CSI Seminar
ATTACH;FMTTYPE=image/jpeg:https://csi.nus.edu.sg/wp-content/uploads/2023/01/2022-09-ruoyan.jpg
END:VEVENT
BEGIN:VEVENT
DTSTART;TZID=UTC:20221025T060000
DTEND;TZID=UTC:20221025T070000
DTSTAMP:20260422T064553
CREATED:20230120T002958Z
LAST-MODIFIED:20230214T070458Z
UID:48042-1666677600-1666681200@csi.nus.edu.sg
SUMMARY:CSI Research Seminar - Dr. Maria Teixeira
DESCRIPTION:
URL:https://csi.nus.edu.sg/event/csi-research-seminar-dr-maria-teixeira/
CATEGORIES:CSI Seminar
ATTACH;FMTTYPE=image/png:https://csi.nus.edu.sg/wp-content/uploads/2023/01/2022-10-Maria-Teixeira-Web-614x1024-1.png
END:VEVENT
BEGIN:VEVENT
DTSTART;TZID=UTC:20221014T080000
DTEND;TZID=UTC:20221014T090000
DTSTAMP:20260422T064553
CREATED:20230120T002939Z
LAST-MODIFIED:20230214T070711Z
UID:48032-1665734400-1665738000@csi.nus.edu.sg
SUMMARY:CSI Research Seminar - Dr. Fabrizio
DESCRIPTION:
URL:https://csi.nus.edu.sg/event/csi-research-seminar-dr-fabrizio/
CATEGORIES:CSI Seminar
ATTACH;FMTTYPE=image/png:https://csi.nus.edu.sg/wp-content/uploads/2023/01/2022-08-Fabrizio-Web-614x1024-1.png
END:VEVENT
BEGIN:VEVENT
DTSTART;TZID=UTC:20221012T063000
DTEND;TZID=UTC:20221012T083000
DTSTAMP:20260422T064553
CREATED:20230120T002957Z
LAST-MODIFIED:20230214T070921Z
UID:48040-1665556200-1665563400@csi.nus.edu.sg
SUMMARY:Cancer Biology Graduate Program Keynote Seminars – Dario Campana
DESCRIPTION:
URL:https://csi.nus.edu.sg/event/cancer-biology-graduate-program-keynote-seminars-dario-campana/
CATEGORIES:CSI Seminar
ATTACH;FMTTYPE=image/png:https://csi.nus.edu.sg/wp-content/uploads/2023/01/2022-09-Graduate-Program-Keynote-Seminar-Dario-Campana-1.png
END:VEVENT
BEGIN:VEVENT
DTSTART;TZID=UTC:20221007T063000
DTEND;TZID=UTC:20221007T083000
DTSTAMP:20260422T064553
CREATED:20230120T002946Z
LAST-MODIFIED:20230214T070935Z
UID:48038-1665124200-1665131400@csi.nus.edu.sg
SUMMARY:Cancer Biology Graduate Program Keynote Seminars – Too Heng Phon
DESCRIPTION:
URL:https://csi.nus.edu.sg/event/cancer-biology-graduate-program-keynote-seminars-too-heng-phon/
CATEGORIES:CSI Seminar
ATTACH;FMTTYPE=image/png:https://csi.nus.edu.sg/wp-content/uploads/2023/01/2022-09-Graduate-Program-Keynote-Seminar-Too-Heng-Phon-1.png
END:VEVENT
BEGIN:VEVENT
DTSTART;TZID=UTC:20220926T013000
DTEND;TZID=UTC:20220926T033000
DTSTAMP:20260422T064553
CREATED:20230120T002946Z
LAST-MODIFIED:20230214T072032Z
UID:48037-1664155800-1664163000@csi.nus.edu.sg
SUMMARY:Cancer Biology Graduate Program Keynote Seminars – Frank Slack
DESCRIPTION:
URL:https://csi.nus.edu.sg/event/cancer-biology-graduate-program-keynote-seminars-frank-slack/
CATEGORIES:CSI Seminar
ATTACH;FMTTYPE=image/jpeg:https://csi.nus.edu.sg/wp-content/uploads/2023/01/2022-09-Graduate-Program-Keynote-Seminar-Frank-Slack-591x1024-1.jpg
END:VEVENT
BEGIN:VEVENT
DTSTART;TZID=UTC:20220923T080000
DTEND;TZID=UTC:20220923T090000
DTSTAMP:20260422T064553
CREATED:20230120T002945Z
LAST-MODIFIED:20230214T072049Z
UID:48034-1663920000-1663923600@csi.nus.edu.sg
SUMMARY:CSI Seminar - Dr Marisa Merino
DESCRIPTION:
URL:https://csi.nus.edu.sg/event/csi-seminar-dr-marisa-merino/
CATEGORIES:CSI Seminar
ATTACH;FMTTYPE=image/jpeg:https://csi.nus.edu.sg/wp-content/uploads/2023/01/2022-09-marisa.jpg
END:VEVENT
BEGIN:VEVENT
DTSTART;TZID=UTC:20220916T010000
DTEND;TZID=UTC:20220916T020000
DTSTAMP:20260422T064553
CREATED:20230120T002940Z
LAST-MODIFIED:20230214T072132Z
UID:48033-1663290000-1663293600@csi.nus.edu.sg
SUMMARY:CSI Bioinformatics Club Research Seminar - Ms. Asmaa
DESCRIPTION:
URL:https://csi.nus.edu.sg/event/csi-bioinformatics-club-research-seminar-ms-asmaa/
CATEGORIES:CSI Seminar
ATTACH;FMTTYPE=image/png:https://csi.nus.edu.sg/wp-content/uploads/2023/01/2022-08-Asmaa-Bioinformatics-Club-Web-724x1024-1.png
END:VEVENT
BEGIN:VEVENT
DTSTART;TZID=UTC:20220823T020000
DTEND;TZID=UTC:20220823T030000
DTSTAMP:20260422T064553
CREATED:20230120T002938Z
LAST-MODIFIED:20230214T073043Z
UID:48031-1661220000-1661223600@csi.nus.edu.sg
SUMMARY:CSI Seminar Announcement - Dr. Stephanie Koo
DESCRIPTION:
URL:https://csi.nus.edu.sg/event/csi-seminar-announcement-dr-stephanie-koo/
CATEGORIES:CSI Seminar
ATTACH;FMTTYPE=image/png:https://csi.nus.edu.sg/wp-content/uploads/2023/01/2022-08-Steph-Koo-Web-1-614x1024-1.png
END:VEVENT
BEGIN:VEVENT
DTSTART;TZID=UTC:20220822T004500
DTEND;TZID=UTC:20220822T014500
DTSTAMP:20260422T064553
CREATED:20230120T002938Z
LAST-MODIFIED:20230214T073129Z
UID:48030-1661129100-1661132700@csi.nus.edu.sg
SUMMARY:CSI Seminar – Dr Jun Siong Low
DESCRIPTION:
URL:https://csi.nus.edu.sg/event/csi-seminar-dr-jun-siong-low/
CATEGORIES:CSI Seminar
ATTACH;FMTTYPE=image/jpeg:https://csi.nus.edu.sg/wp-content/uploads/2023/01/2022-07-jun.jpg
END:VEVENT
BEGIN:VEVENT
DTSTART;TZID=UTC:20220802T070000
DTEND;TZID=UTC:20220802T080000
DTSTAMP:20260422T064553
CREATED:20230120T002937Z
LAST-MODIFIED:20230214T073217Z
UID:48029-1659423600-1659427200@csi.nus.edu.sg
SUMMARY:CSI Bioinformatics Club Research Seminar - Dr. Li Jia
DESCRIPTION:
URL:https://csi.nus.edu.sg/event/csi-bioinformatics-club-research-seminar-dr-li-jia/
CATEGORIES:CSI Seminar
ATTACH;FMTTYPE=image/png:https://csi.nus.edu.sg/wp-content/uploads/2023/01/2022-07-Li-Jia-Bioinformatics-Club-Web-724x1024-1.png
END:VEVENT
BEGIN:VEVENT
DTSTART;TZID=UTC:20220720T030000
DTEND;TZID=UTC:20220720T040000
DTSTAMP:20260422T064553
CREATED:20230120T002930Z
LAST-MODIFIED:20230214T073345Z
UID:48025-1658286000-1658289600@csi.nus.edu.sg
SUMMARY:CSI & Dept. of Biochemisty Research Seminar - A/Prof. Shao-En Ong
DESCRIPTION:
URL:https://csi.nus.edu.sg/event/csi-dept-of-biochemisty-research-seminar-a-prof-shao-en-ong/
CATEGORIES:CSI Seminar
ATTACH;FMTTYPE=image/png:https://csi.nus.edu.sg/wp-content/uploads/2023/01/2022-06-Shao-En-Ong-Web-614x1024-1.png
END:VEVENT
BEGIN:VEVENT
DTSTART;TZID=UTC:20220719T020000
DTEND;TZID=UTC:20220719T030000
DTSTAMP:20260422T064553
CREATED:20230120T002946Z
LAST-MODIFIED:20230214T073414Z
UID:48036-1658196000-1658199600@csi.nus.edu.sg
SUMMARY:CSI Research Seminar - A/Prof. Kasthuri Kannan
DESCRIPTION:
URL:https://csi.nus.edu.sg/event/csi-research-seminar-a-prof-kasthuri-kannan/
CATEGORIES:CSI Seminar
ATTACH;FMTTYPE=image/png:https://csi.nus.edu.sg/wp-content/uploads/2023/01/2022-09-Kasthuri-Kannan-Web-1-614x1024-1.png
END:VEVENT
BEGIN:VEVENT
DTSTART;TZID=UTC:20220715T073000
DTEND;TZID=UTC:20220715T083000
DTSTAMP:20260422T064553
CREATED:20230120T002930Z
LAST-MODIFIED:20230214T073438Z
UID:48024-1657870200-1657873800@csi.nus.edu.sg
SUMMARY:CSI Research Seminar - Prof. David Weinstock
DESCRIPTION:
URL:https://csi.nus.edu.sg/event/csi-research-seminar-prof-david-weinstock/
CATEGORIES:CSI Seminar
ATTACH;FMTTYPE=image/png:https://csi.nus.edu.sg/wp-content/uploads/2023/01/2022-06-David-Weinstock-Web-614x1024-1.png
END:VEVENT
BEGIN:VEVENT
DTSTART;TZID=UTC:20220620T003000
DTEND;TZID=UTC:20220620T013000
DTSTAMP:20260422T064553
CREATED:20230120T002917Z
LAST-MODIFIED:20230120T002917Z
UID:48023-1655685000-1655688600@csi.nus.edu.sg
SUMMARY:CSI Seminar - Dr Benjamin Hermann Stauch
DESCRIPTION:Coming soon
URL:https://csi.nus.edu.sg/event/csi-seminar-dr-benjamin-hermann-stauch/
CATEGORIES:CSI Seminar
END:VEVENT
BEGIN:VEVENT
DTSTART;TZID=UTC:20220617T003000
DTEND;TZID=UTC:20220617T013000
DTSTAMP:20260422T064553
CREATED:20230120T002917Z
LAST-MODIFIED:20230214T073618Z
UID:48022-1655425800-1655429400@csi.nus.edu.sg
SUMMARY:CSI Seminar - Dr Anthony Khong
DESCRIPTION:  \nhttps://nus-sg.zoom.us/j/86458802631?pwd=ZmdTZUlqWGVpWjhVb0p5T1p0Y05xZz09 \nMeeting ID: 864 5880 2631 \nPasscode: 992654
URL:https://csi.nus.edu.sg/event/csi-seminar-dr-anthony-khong/
CATEGORIES:CSI Seminar
ATTACH;FMTTYPE=image/jpeg:https://csi.nus.edu.sg/wp-content/uploads/2023/01/2022-06-anthony.jpg
END:VEVENT
BEGIN:VEVENT
DTSTART;TZID=UTC:20220615T010000
DTEND;TZID=UTC:20220615T020000
DTSTAMP:20260422T064553
CREATED:20230120T002916Z
LAST-MODIFIED:20230214T073633Z
UID:48020-1655254800-1655258400@csi.nus.edu.sg
SUMMARY:CSI Bioinformatics Club Research Seminar - Mr. Matthew Dyer
DESCRIPTION:
URL:https://csi.nus.edu.sg/event/csi-bioinformatics-club-research-seminar-mr-matthew-dyer/
CATEGORIES:CSI Seminar
ATTACH;FMTTYPE=image/png:https://csi.nus.edu.sg/wp-content/uploads/2023/01/2022-06-Matthew-Bioinformatics-Club-Web-724x1024-1.png
END:VEVENT
BEGIN:VEVENT
DTSTART;TZID=UTC:20220614T003000
DTEND;TZID=UTC:20220614T013000
DTSTAMP:20260422T064553
CREATED:20230120T002916Z
LAST-MODIFIED:20230214T073817Z
UID:48021-1655166600-1655170200@csi.nus.edu.sg
SUMMARY:CSI Seminar – Prof Yang Zhang
DESCRIPTION:
URL:https://csi.nus.edu.sg/event/csi-seminar-prof-yang-zhang/
CATEGORIES:CSI Seminar
ATTACH;FMTTYPE=image/jpeg:https://csi.nus.edu.sg/wp-content/uploads/2023/01/2022-06-yang-zhang.jpg
END:VEVENT
BEGIN:VEVENT
DTSTART;TZID=UTC:20220523T070000
DTEND;TZID=UTC:20220523T080000
DTSTAMP:20260422T064553
CREATED:20230120T002901Z
LAST-MODIFIED:20230214T073939Z
UID:48017-1653289200-1653292800@csi.nus.edu.sg
SUMMARY:CSI Research Seminar - Dr. Meritxell Huch
DESCRIPTION:
URL:https://csi.nus.edu.sg/event/csi-research-seminar-dr-meritxell-huch/
CATEGORIES:CSI Seminar
ATTACH;FMTTYPE=image/png:https://csi.nus.edu.sg/wp-content/uploads/2023/01/2022-04-Meritxell-Huch-Web-614x1024-1.png
END:VEVENT
BEGIN:VEVENT
DTSTART;TZID=UTC:20220428T003000
DTEND;TZID=UTC:20220428T013000
DTSTAMP:20260422T064553
CREATED:20230120T002900Z
LAST-MODIFIED:20230214T074239Z
UID:48016-1651105800-1651109400@csi.nus.edu.sg
SUMMARY:CSI Seminar - 28 Apr
DESCRIPTION:
URL:https://csi.nus.edu.sg/event/csi-seminar-28-apr/
CATEGORIES:CSI Seminar
ATTACH;FMTTYPE=image/png:https://csi.nus.edu.sg/wp-content/uploads/2023/01/2022-04-chunhong-zheng.png
END:VEVENT
END:VCALENDAR