BEGIN:VCALENDAR
VERSION:2.0
PRODID:-//NUS CSI - ECPv6.11.0.1//NONSGML v1.0//EN
CALSCALE:GREGORIAN
METHOD:PUBLISH
X-WR-CALNAME:NUS CSI
X-ORIGINAL-URL:https://csi.nus.edu.sg
X-WR-CALDESC:Events for NUS CSI
REFRESH-INTERVAL;VALUE=DURATION:PT1H
X-Robots-Tag:noindex
X-PUBLISHED-TTL:PT1H
BEGIN:VTIMEZONE
TZID:Asia/Shanghai
BEGIN:STANDARD
TZOFFSETFROM:+0800
TZOFFSETTO:+0800
TZNAME:CST
DTSTART:20250101T000000
END:STANDARD
END:VTIMEZONE
BEGIN:VEVENT
DTSTART;TZID=Asia/Shanghai:20250221T113000
DTEND;TZID=Asia/Shanghai:20250221T143000
DTSTAMP:20260422T131051
CREATED:20250211T072239Z
LAST-MODIFIED:20250211T072239Z
UID:54515-1740137400-1740148200@csi.nus.edu.sg
SUMMARY:Core Facilities Roadshow
DESCRIPTION:
URL:https://csi.nus.edu.sg/event/core-facilities-roadshow/
CATEGORIES:CSI Seminar
ATTACH;FMTTYPE=image/png:https://csi.nus.edu.sg/wp-content/uploads/2025/02/socmed-post-CSI-Core-Facilities-Roadshow25.png
END:VEVENT
END:VCALENDAR