BEGIN:VCALENDAR
VERSION:2.0
PRODID:-//NUS CSI - ECPv6.11.0.1//NONSGML v1.0//EN
CALSCALE:GREGORIAN
METHOD:PUBLISH
X-WR-CALNAME:NUS CSI
X-ORIGINAL-URL:https://csi.nus.edu.sg
X-WR-CALDESC:Events for NUS CSI
REFRESH-INTERVAL;VALUE=DURATION:PT1H
X-Robots-Tag:noindex
X-PUBLISHED-TTL:PT1H
BEGIN:VTIMEZONE
TZID:Asia/Shanghai
BEGIN:STANDARD
TZOFFSETFROM:+0800
TZOFFSETTO:+0800
TZNAME:CST
DTSTART:20240101T000000
END:STANDARD
END:VTIMEZONE
BEGIN:VEVENT
DTSTART;TZID=Asia/Shanghai:20240517T090000
DTEND;TZID=Asia/Shanghai:20240517T173000
DTSTAMP:20260422T113904
CREATED:20240509T011558Z
LAST-MODIFIED:20240509T011558Z
UID:53184-1715936400-1715967000@csi.nus.edu.sg
SUMMARY:Bioinformatics Workshop 17 May 2024
DESCRIPTION:
URL:https://csi.nus.edu.sg/event/bioinformatics-workshop-17-may-2024/
CATEGORIES:CSI Seminar
ATTACH;FMTTYPE=image/png:https://csi.nus.edu.sg/wp-content/uploads/2024/05/BIOINFORMATICS-WORKSHOP-2024-Poster-1.png
END:VEVENT
END:VCALENDAR