BEGIN:VCALENDAR
VERSION:2.0
PRODID:-//NUS CSI - ECPv6.11.0.1//NONSGML v1.0//EN
CALSCALE:GREGORIAN
METHOD:PUBLISH
X-ORIGINAL-URL:https://csi.nus.edu.sg
X-WR-CALDESC:Events for NUS CSI
REFRESH-INTERVAL;VALUE=DURATION:PT1H
X-Robots-Tag:noindex
X-PUBLISHED-TTL:PT1H
BEGIN:VTIMEZONE
TZID:UTC
BEGIN:STANDARD
TZOFFSETFROM:+0000
TZOFFSETTO:+0000
TZNAME:UTC
DTSTART:20210101T000000
END:STANDARD
END:VTIMEZONE
BEGIN:VEVENT
DTSTART;TZID=UTC:20210913T020000
DTEND;TZID=UTC:20210913T030000
DTSTAMP:20260421T103442
CREATED:20230120T002800Z
LAST-MODIFIED:20230130T005626Z
UID:47980-1631498400-1631502000@csi.nus.edu.sg
SUMMARY:CSI Seminar – 13 Sep
DESCRIPTION:
URL:https://csi.nus.edu.sg/event/csi-seminar-13-sep/
CATEGORIES:CSI Seminar
END:VEVENT
BEGIN:VEVENT
DTSTART;TZID=UTC:20210915T080000
DTEND;TZID=UTC:20210915T093000
DTSTAMP:20260421T103442
CREATED:20230120T002800Z
LAST-MODIFIED:20230130T005614Z
UID:47979-1631692800-1631698200@csi.nus.edu.sg
SUMMARY:CSI Bioinformatics Club Research Seminar - Dr. Jonas Demeulemeester
DESCRIPTION:
URL:https://csi.nus.edu.sg/event/csi-bioinformatics-club-research-seminar-dr-jonas-demeulemeester-2/
CATEGORIES:CSI Seminar
END:VEVENT
BEGIN:VEVENT
DTSTART;TZID=UTC:20210929T063000
DTEND;TZID=UTC:20210929T083000
DTSTAMP:20260421T103442
CREATED:20230120T002747Z
LAST-MODIFIED:20230130T005600Z
UID:47978-1632897000-1632904200@csi.nus.edu.sg
SUMMARY:Cancer Biology Graduate Program Keynote Seminars - Andreas Strasser
DESCRIPTION:
URL:https://csi.nus.edu.sg/event/cancer-biology-graduate-program-keynote-seminars-andreas-strasser/
CATEGORIES:CSI Seminar
END:VEVENT
END:VCALENDAR