BEGIN:VCALENDAR
VERSION:2.0
PRODID:-//NUS CSI - ECPv6.11.0.1//NONSGML v1.0//EN
CALSCALE:GREGORIAN
METHOD:PUBLISH
X-ORIGINAL-URL:https://csi.nus.edu.sg
X-WR-CALDESC:Events for NUS CSI
REFRESH-INTERVAL;VALUE=DURATION:PT1H
X-Robots-Tag:noindex
X-PUBLISHED-TTL:PT1H
BEGIN:VTIMEZONE
TZID:Asia/Shanghai
BEGIN:STANDARD
TZOFFSETFROM:+0800
TZOFFSETTO:+0800
TZNAME:CST
DTSTART:20260101T000000
END:STANDARD
END:VTIMEZONE
BEGIN:VEVENT
DTSTART;TZID=Asia/Shanghai:20260918T160000
DTEND;TZID=Asia/Shanghai:20260918T170000
DTSTAMP:20260421T065306
CREATED:20260106T094211Z
LAST-MODIFIED:20260106T094211Z
UID:56277-1789747200-1789750800@csi.nus.edu.sg
SUMMARY:CSI Research Meeting – 18 Sep 2026
DESCRIPTION:TBC
URL:https://csi.nus.edu.sg/event/csi-research-meeting-18-sep-2026/
CATEGORIES:Research Meeting
END:VEVENT
END:VCALENDAR