BEGIN:VCALENDAR
VERSION:2.0
PRODID:-//NUS CSI - ECPv6.11.0.1//NONSGML v1.0//EN
CALSCALE:GREGORIAN
METHOD:PUBLISH
X-WR-CALNAME:NUS CSI
X-ORIGINAL-URL:https://csi.nus.edu.sg
X-WR-CALDESC:Events for NUS CSI
REFRESH-INTERVAL;VALUE=DURATION:PT1H
X-Robots-Tag:noindex
X-PUBLISHED-TTL:PT1H
BEGIN:VTIMEZONE
TZID:Asia/Shanghai
BEGIN:STANDARD
TZOFFSETFROM:+0800
TZOFFSETTO:+0800
TZNAME:CST
DTSTART:20240101T000000
END:STANDARD
END:VTIMEZONE
BEGIN:VEVENT
DTSTART;VALUE=DATE:20240423
DTEND;VALUE=DATE:20240427
DTSTAMP:20260422T233254
CREATED:20240102T063029Z
LAST-MODIFIED:20240207T022427Z
UID:52764-1713830400-1714175999@csi.nus.edu.sg
SUMMARY:EMBO Workshop - Chromatin Biology in Cancer 2024
DESCRIPTION:
URL:https://csi.nus.edu.sg/event/embo-workshop-chromatin-biology-in-cancer-2024/
CATEGORIES:Symposium/Conference
ATTACH;FMTTYPE=image/png:https://csi.nus.edu.sg/wp-content/uploads/2024/01/Chromatin-Biology-Banner-final.png
END:VEVENT
BEGIN:VEVENT
DTSTART;TZID=Asia/Shanghai:20240426T143000
DTEND;TZID=Asia/Shanghai:20240426T170000
DTSTAMP:20260422T233254
CREATED:20240403T085419Z
LAST-MODIFIED:20240403T085446Z
UID:53100-1714141800-1714150800@csi.nus.edu.sg
SUMMARY:EMBO Global Lecture Series 2024
DESCRIPTION:More info on the speakers’ talk: \n \n \n \n \n  \n  \n 
URL:https://csi.nus.edu.sg/event/embo-global-lecture-series-2024/
CATEGORIES:CSI Seminar
ATTACH;FMTTYPE=image/png:https://csi.nus.edu.sg/wp-content/uploads/2024/04/Global_Lecture_Series_PosterTemplate_2022.png
END:VEVENT
END:VCALENDAR