BEGIN:VCALENDAR
VERSION:2.0
PRODID:-//NUS CSI - ECPv6.11.0.1//NONSGML v1.0//EN
CALSCALE:GREGORIAN
METHOD:PUBLISH
X-ORIGINAL-URL:https://csi.nus.edu.sg
X-WR-CALDESC:Events for NUS CSI
REFRESH-INTERVAL;VALUE=DURATION:PT1H
X-Robots-Tag:noindex
X-PUBLISHED-TTL:PT1H
BEGIN:VTIMEZONE
TZID:UTC
BEGIN:STANDARD
TZOFFSETFROM:+0000
TZOFFSETTO:+0000
TZNAME:UTC
DTSTART:20230101T000000
END:STANDARD
END:VTIMEZONE
BEGIN:VEVENT
DTSTART;TZID=UTC:20231106T090000
DTEND;TZID=UTC:20231108T180000
DTSTAMP:20260423T080348
CREATED:20230509T023207Z
LAST-MODIFIED:20230816T060757Z
UID:50266-1699261200-1699466400@csi.nus.edu.sg
SUMMARY:Frontiers in Cancer Science 2023
DESCRIPTION:
URL:https://csi.nus.edu.sg/event/frontiers-in-cancer-science-2023/
CATEGORIES:Symposium/Conference
END:VEVENT
END:VCALENDAR