BEGIN:VCALENDAR
VERSION:2.0
PRODID:-//NUS CSI - ECPv6.11.0.1//NONSGML v1.0//EN
CALSCALE:GREGORIAN
METHOD:PUBLISH
X-ORIGINAL-URL:https://csi.nus.edu.sg
X-WR-CALDESC:Events for NUS CSI
REFRESH-INTERVAL;VALUE=DURATION:PT1H
X-Robots-Tag:noindex
X-PUBLISHED-TTL:PT1H
BEGIN:VTIMEZONE
TZID:UTC
BEGIN:STANDARD
TZOFFSETFROM:+0000
TZOFFSETTO:+0000
TZNAME:UTC
DTSTART:20190101T000000
END:STANDARD
END:VTIMEZONE
BEGIN:VEVENT
DTSTART;TZID=UTC:20190304T030000
DTEND;TZID=UTC:20190304T040000
DTSTAMP:20260419T203210
CREATED:20230120T001623Z
LAST-MODIFIED:20230130T023804Z
UID:47851-1551668400-1551672000@csi.nus.edu.sg
SUMMARY:RNA Club – 4 Mar
DESCRIPTION:
URL:https://csi.nus.edu.sg/event/rna-club-4-mar/
END:VEVENT
END:VCALENDAR