BEGIN:VCALENDAR
VERSION:2.0
PRODID:-//NUS CSI - ECPv6.11.0.1//NONSGML v1.0//EN
CALSCALE:GREGORIAN
METHOD:PUBLISH
X-WR-CALNAME:NUS CSI
X-ORIGINAL-URL:https://csi.nus.edu.sg
X-WR-CALDESC:Events for NUS CSI
REFRESH-INTERVAL;VALUE=DURATION:PT1H
X-Robots-Tag:noindex
X-PUBLISHED-TTL:PT1H
BEGIN:VTIMEZONE
TZID:UTC
BEGIN:STANDARD
TZOFFSETFROM:+0000
TZOFFSETTO:+0000
TZNAME:UTC
DTSTART:20170101T000000
END:STANDARD
END:VTIMEZONE
BEGIN:VEVENT
DTSTART;TZID=UTC:20170823T023000
DTEND;TZID=UTC:20170823T033000
DTSTAMP:20260420T083905
CREATED:20230119T224744Z
LAST-MODIFIED:20230130T041702Z
UID:47731-1503455400-1503459000@csi.nus.edu.sg
SUMMARY:CSI Seminar – Uttiya Basu
DESCRIPTION:
URL:https://csi.nus.edu.sg/event/csi-seminar-uttiya-basu/
END:VEVENT
END:VCALENDAR