BEGIN:VCALENDAR
VERSION:2.0
PRODID:-//NUS CSI - ECPv6.11.0.1//NONSGML v1.0//EN
CALSCALE:GREGORIAN
METHOD:PUBLISH
X-WR-CALNAME:NUS CSI
X-ORIGINAL-URL:https://csi.nus.edu.sg
X-WR-CALDESC:Events for NUS CSI
REFRESH-INTERVAL;VALUE=DURATION:PT1H
X-Robots-Tag:noindex
X-PUBLISHED-TTL:PT1H
BEGIN:VTIMEZONE
TZID:UTC
BEGIN:STANDARD
TZOFFSETFROM:+0000
TZOFFSETTO:+0000
TZNAME:UTC
DTSTART:20150101T000000
END:STANDARD
END:VTIMEZONE
BEGIN:VEVENT
DTSTART;TZID=UTC:20151117T030000
DTEND;TZID=UTC:20151117T040000
DTSTAMP:20260423T162716
CREATED:20230119T224314Z
LAST-MODIFIED:20230130T054231Z
UID:47642-1447729200-1447732800@csi.nus.edu.sg
SUMMARY:CSI Seminar - Dr Falk Butter
DESCRIPTION:
URL:https://csi.nus.edu.sg/event/csi-seminar-dr-falk-butter/
END:VEVENT
END:VCALENDAR