BEGIN:VCALENDAR
VERSION:2.0
PRODID:-//NUS CSI - ECPv6.11.0.1//NONSGML v1.0//EN
CALSCALE:GREGORIAN
METHOD:PUBLISH
X-WR-CALNAME:NUS CSI
X-ORIGINAL-URL:https://csi.nus.edu.sg
X-WR-CALDESC:Events for NUS CSI
REFRESH-INTERVAL;VALUE=DURATION:PT1H
X-Robots-Tag:noindex
X-PUBLISHED-TTL:PT1H
BEGIN:VTIMEZONE
TZID:UTC
BEGIN:STANDARD
TZOFFSETFROM:+0000
TZOFFSETTO:+0000
TZNAME:UTC
DTSTART:20150101T000000
END:STANDARD
END:VTIMEZONE
BEGIN:VEVENT
DTSTART;TZID=UTC:20151004T160000
DTEND;TZID=UTC:20151005T155900
DTSTAMP:20260423T162711
CREATED:20230119T224213Z
LAST-MODIFIED:20230130T054833Z
UID:47620-1443974400-1444060740@csi.nus.edu.sg
SUMMARY:Inaugural Joint Breast Cancer Symposium
DESCRIPTION:   \n  \n  \n  \n 
URL:https://csi.nus.edu.sg/event/inaugural-joint-breast-cancer-symposium/
END:VEVENT
END:VCALENDAR