BEGIN:VCALENDAR
VERSION:2.0
PRODID:-//NUS CSI - ECPv6.11.0.1//NONSGML v1.0//EN
CALSCALE:GREGORIAN
METHOD:PUBLISH
X-ORIGINAL-URL:https://csi.nus.edu.sg
X-WR-CALDESC:Events for NUS CSI
REFRESH-INTERVAL;VALUE=DURATION:PT1H
X-Robots-Tag:noindex
X-PUBLISHED-TTL:PT1H
BEGIN:VTIMEZONE
TZID:UTC
BEGIN:STANDARD
TZOFFSETFROM:+0000
TZOFFSETTO:+0000
TZNAME:UTC
DTSTART:20150101T000000
END:STANDARD
END:VTIMEZONE
BEGIN:VEVENT
DTSTART;TZID=UTC:20150918T023000
DTEND;TZID=UTC:20150918T033000
DTSTAMP:20260423T130353
CREATED:20230119T224215Z
LAST-MODIFIED:20230130T054956Z
UID:47623-1442543400-1442547000@csi.nus.edu.sg
SUMMARY:CSI Research Meeting - 18 September
DESCRIPTION:
URL:https://csi.nus.edu.sg/event/csi-research-meeting-18-september/
END:VEVENT
END:VCALENDAR