BEGIN:VCALENDAR
VERSION:2.0
PRODID:-//NUS CSI - ECPv6.11.0.1//NONSGML v1.0//EN
CALSCALE:GREGORIAN
METHOD:PUBLISH
X-WR-CALNAME:NUS CSI
X-ORIGINAL-URL:https://csi.nus.edu.sg
X-WR-CALDESC:Events for NUS CSI
REFRESH-INTERVAL;VALUE=DURATION:PT1H
X-Robots-Tag:noindex
X-PUBLISHED-TTL:PT1H
BEGIN:VTIMEZONE
TZID:UTC
BEGIN:STANDARD
TZOFFSETFROM:+0000
TZOFFSETTO:+0000
TZNAME:UTC
DTSTART:20140101T000000
END:STANDARD
END:VTIMEZONE
BEGIN:VEVENT
DTSTART;TZID=UTC:20140107T090000
DTEND;TZID=UTC:20140107T100000
DTSTAMP:20260421T095539
CREATED:20230119T223514Z
LAST-MODIFIED:20230119T223514Z
UID:47481-1389085200-1389088800@csi.nus.edu.sg
SUMMARY:SGCC-CSI Seminar – Dr Dai Xilei
DESCRIPTION:
URL:https://csi.nus.edu.sg/event/sgcc-csi-seminar-dr-dai-xilei/
END:VEVENT
END:VCALENDAR